BEGIN:VCALENDAR
VERSION:2.0
PRODID:-//SRMAP Events - ECPv6.15.11//NONSGML v1.0//EN
CALSCALE:GREGORIAN
METHOD:PUBLISH
X-WR-CALNAME:SRMAP Events
X-ORIGINAL-URL:https://events.srmap.edu.in
X-WR-CALDESC:Events for SRMAP Events
REFRESH-INTERVAL;VALUE=DURATION:PT1H
X-Robots-Tag:noindex
X-PUBLISHED-TTL:PT1H
BEGIN:VTIMEZONE
TZID:Asia/Kolkata
BEGIN:STANDARD
TZOFFSETFROM:+0530
TZOFFSETTO:+0530
TZNAME:IST
DTSTART:20230101T000000
END:STANDARD
END:VTIMEZONE
BEGIN:VEVENT
DTSTART;TZID=Asia/Kolkata:20240829T140000
DTEND;TZID=Asia/Kolkata:20240829T170000
DTSTAMP:20260422T082207
CREATED:20250526T073022Z
LAST-MODIFIED:20250526T073022Z
UID:141209-1724940000-1724950800@events.srmap.edu.in
SUMMARY:Dr N Kiran Kumar\, Assistant Professor\, has been invited to deliver a talk on Recent Environmental impacts of waste batteries from electric vehicles
DESCRIPTION:Organising Institution: Godavari Global University\, RajamundryCategory: AICTE Sponsored Two-Day National Workshop under the scheme of VAANI
URL:https://events.srmap.edu.in/event/dr-n-kiran-kumar-assistant-professor-has-been-invited-to-deliver-a-talk-on-recent-environmental-impacts-of-waste-batteries-from-electric-vehicles/
CATEGORIES:Events
ATTACH;FMTTYPE=image/png:https://events.srmap.edu.in/wp-content/uploads/2024/01/Kiran-Kumar-Microsite.png
END:VEVENT
END:VCALENDAR