BEGIN:VCALENDAR
VERSION:2.0
PRODID:-//SRMAP Events - ECPv6.15.11//NONSGML v1.0//EN
CALSCALE:GREGORIAN
METHOD:PUBLISH
X-ORIGINAL-URL:https://events.srmap.edu.in
X-WR-CALDESC:Events for SRMAP Events
REFRESH-INTERVAL;VALUE=DURATION:PT1H
X-Robots-Tag:noindex
X-PUBLISHED-TTL:PT1H
BEGIN:VTIMEZONE
TZID:Asia/Kolkata
BEGIN:STANDARD
TZOFFSETFROM:+0530
TZOFFSETTO:+0530
TZNAME:IST
DTSTART:20230101T000000
END:STANDARD
END:VTIMEZONE
BEGIN:VEVENT
DTSTART;TZID=Asia/Kolkata:20240912T093000
DTEND;TZID=Asia/Kolkata:20240912T120000
DTSTAMP:20260422T082225
CREATED:20250526T073023Z
LAST-MODIFIED:20250526T073023Z
UID:141213-1726133400-1726142400@events.srmap.edu.in
SUMMARY:Dr Somesh Vinayak Tewari\, Assistant Professor\, has been invited to deliver a talk on Dielectric Breakdown under Pulsed Conditions
DESCRIPTION:Organising Institution: Bhabha Atomic Research Centre\, VishakhapatnamCategory: National Level Technical Workshop “Phasor 2024”
URL:https://events.srmap.edu.in/event/dr-somesh-vinayak-tewari-assistant-professor-has-been-invited-to-deliver-a-talk-on-dielectric-breakdown-under-pulsed-conditions/
CATEGORIES:Events
ATTACH;FMTTYPE=image/jpeg:https://events.srmap.edu.in/wp-content/uploads/2020/05/somesh.jpg
END:VEVENT
END:VCALENDAR