BEGIN:VCALENDAR
VERSION:2.0
PRODID:-//SRMAP Events - ECPv6.15.11//NONSGML v1.0//EN
CALSCALE:GREGORIAN
METHOD:PUBLISH
X-ORIGINAL-URL:https://events.srmap.edu.in
X-WR-CALDESC:Events for SRMAP Events
REFRESH-INTERVAL;VALUE=DURATION:PT1H
X-Robots-Tag:noindex
X-PUBLISHED-TTL:PT1H
BEGIN:VTIMEZONE
TZID:Asia/Kolkata
BEGIN:STANDARD
TZOFFSETFROM:+0530
TZOFFSETTO:+0530
TZNAME:IST
DTSTART:20240101T000000
END:STANDARD
END:VTIMEZONE
BEGIN:VEVENT
DTSTART;TZID=Asia/Kolkata:20250407T110000
DTEND;TZID=Asia/Kolkata:20250407T123000
DTSTAMP:20260421T213356
CREATED:20250403T040700Z
LAST-MODIFIED:20250403T040700Z
UID:142956-1744023600-1744029000@events.srmap.edu.in
SUMMARY:UDL#21: Prof. Pramod K. Varshney to Speak On Distributed Inference
DESCRIPTION:The 21st University Distinguished Lecture on the topic “Six Blind Men of Indostan: Theory and Applications of Distributed Inference” is scheduled to be held on April 07\, 2025. The distinguished lecture will be delivered by Prof. Pramod K. Varshney\, esteemed professor\, Department of Electrical Engineering and Computer Science\, College of Engineering & Science\, Syracuse University. \nHear from the seasoned academician on the mesmerizing phenomenon of distributed inference. \nAbstract \nDistributed inference refers to the synergistic combination of information gathered by various knowledge sources and sensors to provide inference regarding a phenomenon of interest. This fascinating field has evolved over the past four decades and is being applied to a wide variety of fields\, such as military command and control\, robotics\, image processing\, air traffic control\, medical diagnostics\, pattern recognition\, environmental monitoring\, IoT and smart cities. \nThis talk will present an overview of the field\, present some recent research results\, illustrate its utility by means of some examples and conclude with some open problems. Towards the end of the technical talk\, some information about Syracuse University’s MS programs in EE/CE/CS will be provided. \nMedia Coverage for the Event
URL:https://events.srmap.edu.in/event/udl21-prof-pramod-k-varshney-to-speak-on-distributed-inference/
LOCATION:APJ Abdul Kalam Auditorium
CATEGORIES:Events,University Distinguished Lecture
END:VEVENT
END:VCALENDAR