BEGIN:VCALENDAR
VERSION:2.0
PRODID:-//SRMAP Events - ECPv6.15.11//NONSGML v1.0//EN
CALSCALE:GREGORIAN
METHOD:PUBLISH
X-WR-CALNAME:SRMAP Events
X-ORIGINAL-URL:https://events.srmap.edu.in
X-WR-CALDESC:Events for SRMAP Events
REFRESH-INTERVAL;VALUE=DURATION:PT1H
X-Robots-Tag:noindex
X-PUBLISHED-TTL:PT1H
BEGIN:VTIMEZONE
TZID:Asia/Kolkata
BEGIN:STANDARD
TZOFFSETFROM:+0530
TZOFFSETTO:+0530
TZNAME:IST
DTSTART:20240101T000000
END:STANDARD
END:VTIMEZONE
BEGIN:VEVENT
DTSTART;TZID=Asia/Kolkata:20250704T113000
DTEND;TZID=Asia/Kolkata:20250704T130000
DTSTAMP:20260421T091126
CREATED:20250725T111118Z
LAST-MODIFIED:20250725T111118Z
UID:144134-1751628600-1751634000@events.srmap.edu.in
SUMMARY:Invited Talk on Computing & Hardware Security
DESCRIPTION:The Department of Electronics and Communication Engineering is organising an Invited Talk by Dr Aditya Japa\, Assistant Professor\, School of Computing\, Engineering and Intelligent Systems\, Ulster University\, Derry\, UK\, on July 04\, 2025. He will deliver an insightful session on the topic “Approximate Computing and Hardware Security: Opportunities and Risks”. \nAbstract \nApproximate computing is an emerging computing paradigm for designing high-performance and energy-efficient systems for a growing class of error-tolerant applications. The uncertain and unpredictable inherent error behaviour of approximate computing introduces new security threats and opportunities to enhance the security of approximate computing. Recent work on the security in/for approximate computing introduces several threat models\, ideas of countermeasures\, and methodologies. This talk presents recent state-of-the-art work\, including threat models in approximate computing and emerging security applications using approximate computing. In addition\, potential future directions have been discussed to reap the full benefits of security in/for approximate computing. \nAbout the Speaker \nDr Aditya Japa received a Ph.D. degree in ECE from Dr. SPM IIIT Naya Raipur\, Chhattisgarh\, India\, in 2021\, with a focus on Emerging Technologies for Hardware security. After his Ph.D.\, he worked as a Research Fellow with the Centre for Secure Information Technologies\, EEECS Department\, Queen’s University\, Belfast\, U.K. Currently\, he is working as an Assistant Professor in the School of Computing\, Engineering and Intelligent Systems\, Ulster University\, Derry\, U.K. He has co-authored one book entitled “Introduction to Microelectronics to Nanoelectronics: Design and Technology” (CRC Press\, Nov. 2020). His research mainly focuses on Hardware and System Security. Specifically\, he is into the design of PUF and TRNG. He worked on emerging/beyond CMOS-based security strategies\, power side-channel analysis\, and countermeasures. His current research interests include the design of Intrinsic PUFs for approximate computing and security in/for approximate computing. \nJoin for an invigorating session!
URL:https://events.srmap.edu.in/event/invited-talk-on-computing-hardware-security/
LOCATION:Theatre\, SR Block
CATEGORIES:Invited Talks
ATTACH;FMTTYPE=image/png:https://events.srmap.edu.in/wp-content/uploads/2025/07/ECE-Display-banner-1024x576-1.png
END:VEVENT
END:VCALENDAR