BEGIN:VCALENDAR
VERSION:2.0
PRODID:-//SRMAP Events - ECPv6.15.11//NONSGML v1.0//EN
CALSCALE:GREGORIAN
METHOD:PUBLISH
X-WR-CALNAME:SRMAP Events
X-ORIGINAL-URL:https://events.srmap.edu.in
X-WR-CALDESC:Events for SRMAP Events
REFRESH-INTERVAL;VALUE=DURATION:PT1H
X-Robots-Tag:noindex
X-PUBLISHED-TTL:PT1H
BEGIN:VTIMEZONE
TZID:Asia/Kolkata
BEGIN:STANDARD
TZOFFSETFROM:+0530
TZOFFSETTO:+0530
TZNAME:IST
DTSTART:20240101T000000
END:STANDARD
END:VTIMEZONE
BEGIN:VEVENT
DTSTART;TZID=Asia/Kolkata:20250707T080000
DTEND;TZID=Asia/Kolkata:20250711T170000
DTSTAMP:20260421T010046
CREATED:20251007T124630Z
LAST-MODIFIED:20251007T124630Z
UID:144759-1751875200-1752253200@events.srmap.edu.in
SUMMARY:Dr Edukondalu Chappidi\, Assistant Professor\, represented SRM University-AP at the SAP Academic Community Conference APAC 2025 in Pasay\, Metro Manila\, Philippines.
DESCRIPTION:Organising Institution: Sap University Alliance.\nType: Sap Academic Community Conference Apac 2025
URL:https://events.srmap.edu.in/event/dr-edukondalu-chappidi-assistant-professor-represented-srm-university-ap-at-the-sap-academic-community-conference-apac-2025-in-pasay-metro-manila-philippines/
CATEGORIES:Events
ATTACH;FMTTYPE=image/jpeg:https://events.srmap.edu.in/wp-content/uploads/2025/10/edukondalu-cse.jpg
END:VEVENT
BEGIN:VEVENT
DTSTART;TZID=Asia/Kolkata:20250709T093000
DTEND;TZID=Asia/Kolkata:20250709T180000
DTSTAMP:20260421T010046
CREATED:20250725T110825Z
LAST-MODIFIED:20250725T110825Z
UID:144131-1752053400-1752084000@events.srmap.edu.in
SUMMARY:OUTCOME-BASED EDUCATION (OBE) Training Program
DESCRIPTION:
URL:https://events.srmap.edu.in/event/outcome-based-education-obe-training-program/
CATEGORIES:Events
ATTACH;FMTTYPE=image/png:https://events.srmap.edu.in/wp-content/uploads/2025/07/one-day-workshop-TLC.png
END:VEVENT
END:VCALENDAR