BEGIN:VCALENDAR
VERSION:2.0
PRODID:-//SRMAP Events - ECPv6.15.11//NONSGML v1.0//EN
CALSCALE:GREGORIAN
METHOD:PUBLISH
X-WR-CALNAME:SRMAP Events
X-ORIGINAL-URL:https://events.srmap.edu.in
X-WR-CALDESC:Events for SRMAP Events
REFRESH-INTERVAL;VALUE=DURATION:PT1H
X-Robots-Tag:noindex
X-PUBLISHED-TTL:PT1H
BEGIN:VTIMEZONE
TZID:Asia/Kolkata
BEGIN:STANDARD
TZOFFSETFROM:+0530
TZOFFSETTO:+0530
TZNAME:IST
DTSTART:20240101T000000
END:STANDARD
END:VTIMEZONE
BEGIN:VEVENT
DTSTART;TZID=Asia/Kolkata:20250714T093000
DTEND;TZID=Asia/Kolkata:20250718T160000
DTSTAMP:20260420T122943
CREATED:20250725T105645Z
LAST-MODIFIED:20250725T105645Z
UID:144115-1752485400-1752854400@events.srmap.edu.in
SUMMARY:Select Training Programme on Teaching-Learning Methods	 Training Programme on Teaching-Learning Methods
DESCRIPTION:The Teaching Learning Centre is organising a five-day Training Programme on Teaching Learning Methods from July 14 – 18\, 2025. The training programme will explore OBE Classroom communication\, highlight student-centric education\, formulate active learning strategies and implement project-based technology-enabled learning. \nConducted by the experienced leadership and faculty of the university\, the sessions will cover key aspects of pedagogy including Classroom management\, designing course plan and plan of action\, understanding student requirements and maintaining data drives. \nThe details of the resource persons and session plan are given below.
URL:https://events.srmap.edu.in/event/select-training-programme-on-teaching-learning-methods-training-programme-on-teaching-learning-methods/
LOCATION:ALC 1\, Homi J Bhabha Block
CATEGORIES:TLC Events
ATTACH;FMTTYPE=image/png:https://events.srmap.edu.in/wp-content/uploads/2025/07/OBE-Workshop-TLC-1920-x-1080-px-2-1024x576-1.png
END:VEVENT
END:VCALENDAR