BEGIN:VCALENDAR
VERSION:2.0
PRODID:-//SRMAP Events - ECPv6.15.11//NONSGML v1.0//EN
CALSCALE:GREGORIAN
METHOD:PUBLISH
X-WR-CALNAME:SRMAP Events
X-ORIGINAL-URL:https://events.srmap.edu.in
X-WR-CALDESC:Events for SRMAP Events
REFRESH-INTERVAL;VALUE=DURATION:PT1H
X-Robots-Tag:noindex
X-PUBLISHED-TTL:PT1H
BEGIN:VTIMEZONE
TZID:Asia/Kolkata
BEGIN:STANDARD
TZOFFSETFROM:+0530
TZOFFSETTO:+0530
TZNAME:IST
DTSTART:20230101T000000
END:STANDARD
END:VTIMEZONE
BEGIN:VEVENT
DTSTART;TZID=Asia/Kolkata:20240203T150000
DTEND;TZID=Asia/Kolkata:20240203T160000
DTSTAMP:20260421T072429
CREATED:20240202T052500Z
LAST-MODIFIED:20240202T052500Z
UID:142373-1706972400-1706976000@events.srmap.edu.in
SUMMARY:Alumni Expert Lecture on Data Science and Publication Pathways
DESCRIPTION:We are happy to announce an exciting opportunity to gain valuable insights into the field of Data Science and learn from the experiences of one of our esteemed alumni. The Directorate of Alumni Relations is organising an Online Alumni Expert Lecture on “Insights into Data Science\, Journey at SRM AP\, and Path to Successful Publication” by Gummadi Sai Dheeraj\, Class of 2022 B.Tech. ECE graduate and currently a Natural Language Processing Engineer at Brane Enterprises Pvt Ltd. \nDuring this engaging session\, Mr Gummadi Sai Dheeraj will share his remarkable journey at SRM University-AP and delve into the fascinating world of Data Science. As a skilled Natural Language Processing Engineer\, he will provide valuable insights\, real-life examples\, and practical advice on how to succeed in the field. Additionally\, he will shed light on the path to successful publication\, offering guidance on how to effectively communicate research findings to the wider scientific community. \nThis online lecture is an excellent opportunity for current students and alumni to gain knowledge\, seek inspiration\, and network with professionals in the industry. \nDon’t miss out on this chance to expand your understanding of Data Science and gain valuable insights from an industry expert.
URL:https://events.srmap.edu.in/event/alumni-expert-lecture-on-data-science-and-publication-pathways/
CATEGORIES:Alumni Relations,Departmental Events,Events
END:VEVENT
BEGIN:VEVENT
DTSTART;TZID=Asia/Kolkata:20240210T150000
DTEND;TZID=Asia/Kolkata:20240210T160000
DTSTAMP:20260421T072429
CREATED:20240209T053900Z
LAST-MODIFIED:20240209T053900Z
UID:142375-1707577200-1707580800@events.srmap.edu.in
SUMMARY:An Insight into Semester Abroad Programmes
DESCRIPTION:Mr Shanmukh R (Class of B.Tech. CSE) is here to spread some insight into the benefits of Semester Abroad Programmes for enthusiastic students who wish to explore global universities and programmes. The Directorate of Alumni Relations is organising an online Alumni Talk on “Tips and Tricks on SAP Semester Abroad Programmes” on February 10\, 2024\, by Mr Shanmukh R. \nJoin our alumnus and hear about his experience on global journeys\, research endeavours\, and academic pathways after SRM AP!
URL:https://events.srmap.edu.in/event/an-insight-into-semester-abroad-programmes/
LOCATION:Zoom
CATEGORIES:Alumni Relations,Departmental Events,Events
END:VEVENT
BEGIN:VEVENT
DTSTART;TZID=Asia/Kolkata:20240217T150000
DTEND;TZID=Asia/Kolkata:20240217T160000
DTSTAMP:20260421T072429
CREATED:20240216T052900Z
LAST-MODIFIED:20240216T052900Z
UID:142377-1708182000-1708185600@events.srmap.edu.in
SUMMARY:Empowering Futures: Alumni Lecture on Next Tech Lab's Impact
DESCRIPTION:Join us for an insightful online Alumni Expert Lecture organised by The Directorate of Alumni Relations at SRM University-AP. The lecture titled “How Next Tech Lab Empowers SRM AP Students in the Tech World” will be delivered by Sajan Kumar\, a distinguished alumnus from the Class of 2021 with a B. Tech in Computer Science Engineering. \nSajan is a Senior Software Engineer at CoinDCX and a Founding Member & Machine Learning Engineer at OurEye.ai (YC22). Discover firsthand how the Next Tech Lab initiative has been instrumental in shaping the technological prowess of SRM AP students and gain valuable insights into the dynamic tech landscape from an accomplished industry professional. \nDon’t miss this opportunity to expand your knowledge and network with alumni! Mark your calendars for Saturday\, February 17\, 2024\, from 03:00 PM to 04:00 PM for this enlightening session conducted via online mode.
URL:https://events.srmap.edu.in/event/empowering-futures-alumni-lecture-on-next-tech-labs-impact/
CATEGORIES:Alumni Relations,Departmental Events,Events
END:VEVENT
END:VCALENDAR