BEGIN:VCALENDAR
VERSION:2.0
PRODID:-//SRMAP Events - ECPv6.15.11//NONSGML v1.0//EN
CALSCALE:GREGORIAN
METHOD:PUBLISH
X-WR-CALNAME:SRMAP Events
X-ORIGINAL-URL:https://events.srmap.edu.in
X-WR-CALDESC:Events for SRMAP Events
REFRESH-INTERVAL;VALUE=DURATION:PT1H
X-Robots-Tag:noindex
X-PUBLISHED-TTL:PT1H
BEGIN:VTIMEZONE
TZID:Asia/Kolkata
BEGIN:STANDARD
TZOFFSETFROM:+0530
TZOFFSETTO:+0530
TZNAME:IST
DTSTART:20220101T000000
END:STANDARD
END:VTIMEZONE
BEGIN:VEVENT
DTSTART;TZID=Asia/Kolkata:20230415T160000
DTEND;TZID=Asia/Kolkata:20230415T170000
DTSTAMP:20260422T010226
CREATED:20230410T045300Z
LAST-MODIFIED:20250623T062300Z
UID:142364-1681574400-1681578000@events.srmap.edu.in
SUMMARY:MS in Computer Science: Plan Your Future Now!
DESCRIPTION:The Directorate of Alumni Affairs is organising an online Alumni Talk on “Tips to prepare for MS in Computer Science” on April 15\, 2023. Mr Satya Uday Sanku\, Graduate Instructional Assistant\, Research on Fairness in Natural Language Processing\, University of South Florida\, Tampa (Class of 2022 BTech CSE) will deliver the session. Mr Sanku will discuss the higher studies opportunities for MS in Computer Science and share insight into the strategy for preparing for a Master’s degree in the domain. \nDo not miss out on the opportunity to hear from the successful alumni of the university on how to furnish a plan to actualise your dream of gaining a Master’s degree in Computer Science!
URL:https://events.srmap.edu.in/event/ms-in-computer-science-plan-your-future-now/
LOCATION:Zoom
CATEGORIES:Alumni Relations,Departmental Events,Events
END:VEVENT
END:VCALENDAR