BEGIN:VCALENDAR
VERSION:2.0
PRODID:-//SRMAP Events - ECPv6.15.11//NONSGML v1.0//EN
CALSCALE:GREGORIAN
METHOD:PUBLISH
X-WR-CALNAME:SRMAP Events
X-ORIGINAL-URL:https://events.srmap.edu.in
X-WR-CALDESC:Events for SRMAP Events
REFRESH-INTERVAL;VALUE=DURATION:PT1H
X-Robots-Tag:noindex
X-PUBLISHED-TTL:PT1H
BEGIN:VTIMEZONE
TZID:Asia/Kolkata
BEGIN:STANDARD
TZOFFSETFROM:+0530
TZOFFSETTO:+0530
TZNAME:IST
DTSTART:20230101T000000
END:STANDARD
END:VTIMEZONE
BEGIN:VEVENT
DTSTART;TZID=Asia/Kolkata:20240424T143000
DTEND;TZID=Asia/Kolkata:20240424T153000
DTSTAMP:20260422T041450
CREATED:20240423T015500Z
LAST-MODIFIED:20250528T085723Z
UID:142387-1713969000-1713972600@events.srmap.edu.in
SUMMARY:Alumni Talk: Navigating the Future of Power Systems and Electronics
DESCRIPTION:The Directorate of Alumni Relations\, in collaboration with the Department of Electrical and Electronics Engineering (EEE)\, is proud to present an insightful Alumni Talk titled “Career Path in Power Systems & Power Electronics”. This engaging session is scheduled for Wednesday\, April 24\, 2024\, and will be conducted via Zoom. \nWe are thrilled to welcome Kotana Phani Sri Rahul\, an esteemed alumnus from the Class of 2022 B.Tech. EEE\, who is currently making strides in the industry as a Lead Control Room Engineer at Tata Power Co. Ltd\, Mumbai. With hands-on experience in managing 220KV substations\, Rahul brings a wealth of knowledge and practical expertise to the discussion. \nThe talk will delve into the dynamic field of power systems and power electronics\, exploring the latest trends and technological advancements that are shaping the energy sector. Attendees will gain valuable insights into the challenges and opportunities that lie ahead for professionals in this field\, as well as the skills and strategies needed to excel in a career centred around the robust and ever-evolving landscape of power engineering. \nDon’t miss this opportunity to connect with a successful alumnus and broaden your understanding of the power industry’s future. Join us for an enlightening conversation that will illuminate the path to a successful career in power systems and electronics.
URL:https://events.srmap.edu.in/event/alumni-talk-navigating-the-future-of-power-systems-and-electronics/
LOCATION:Zoom
CATEGORIES:Alumni Relations,Events,Invited Talks
END:VEVENT
BEGIN:VEVENT
DTSTART;TZID=Asia/Kolkata:20240525T143000
DTEND;TZID=Asia/Kolkata:20240525T160000
DTSTAMP:20260422T041450
CREATED:20240524T001100Z
LAST-MODIFIED:20240524T001100Z
UID:142389-1716647400-1716652800@events.srmap.edu.in
SUMMARY:A Career in Research: Alumni Insights
DESCRIPTION:Are you an enthusiastic researcher looking to innovate in your field? Well\, look no further. Participate in the online session on how to pursue post-doctoral research. \nThe Directorate of Alumni Relations\, in collaboration with SEAS-Science\, is organising an online Alumni Talk on “Challenges and Opportunities in Post-Doctoral Research” on Saturday\, May 25\, 2024. The talk will be delivered by our distinguished alumni Dr Anjana Tripathi\, Ph.D. from Dept of Physics (Class of 2023)\, currently a Post-doctoral researcher under Prof. Jens Kehlet Nørskov at Denmark Technical University\, Denmark\, and Dr Yenduri Bhaskara Rao\, Ph.D. from Dept of Physics (Class of 2023)\, currently a Post-doctoral researcher under Prof Andre Ohlin\, Dept of Chemistry\, Umea University\, Sweden. \nOur alumni will provide valuable insights into the comprehensive process of pursuing a Postdoc at reputed international universities. Learn from the experts if you want to further investigate research problems in your field or apply your expertise to solve new problems in other fields!
URL:https://events.srmap.edu.in/event/a-career-in-research-alumni-insights/
LOCATION:Zoom
CATEGORIES:Alumni Relations,Departmental Events,Events
END:VEVENT
BEGIN:VEVENT
DTSTART;TZID=Asia/Kolkata:20240629T180000
DTEND;TZID=Asia/Kolkata:20240629T190000
DTSTAMP:20260422T041450
CREATED:20240628T001800Z
LAST-MODIFIED:20250806T114727Z
UID:142391-1719684000-1719687600@events.srmap.edu.in
SUMMARY:Paving the way to Entrepreneurial Excellence
DESCRIPTION:The Directorate of Alumni Relations and the Directorate of Entrepreneurship and Innovation\, in a collaborative effort\, are organising an online interaction titled “The Path to Innovation: Understanding SRM AP’s Incubation Process for Alumni.” The online webinar to be held on June 29\, 2024\, will feature Dr Sidharth Tripathy\, Director- of Entrepreneurship and Innovation\, as its speaker\, along with Mr Udayan Bakshi\, Associate Director and Dr Krovi Raja Sekhar\, CEO of Hatchlab Research Centre and Professor of CSE as the supporting team. \nThe trio virtuosos\, Dr Sidharth Tripathy\, Mr Udayan Bakshi\, and Dr Krovi Raja Sekhar\, are seasoned entrepreneurs who have helped many achieve their dream of starting their own businesses successfully both nationally and internationally. \nThe webinar will offer insights on developing an entrepreneurial mindset amongst the alumni and on the varsity’s support in embarking on their entrepreneurial journey. The event promises to be an enriching experience for all attendees\, particularly those interested in venturing into entrepreneurship. \nAttendees will gain valuable insights into the incubation process at SRM AP\, understand the challenges and opportunities in the entrepreneurial landscape\, and get a chance to engage with successful alumni who have walked the path. \nGet set for an insightful entrepreneurial experience with SRM AP\, where you can ideate\, innovate and invest.
URL:https://events.srmap.edu.in/event/paving-the-way-to-entrepreneurial-excellence/
LOCATION:Online event
CATEGORIES:Alumni Relations,Departmental Events,Events,IDEA Events
END:VEVENT
BEGIN:VEVENT
DTSTART;TZID=Asia/Kolkata:20240706T110000
DTEND;TZID=Asia/Kolkata:20240706T123000
DTSTAMP:20260422T041450
CREATED:20240705T050500Z
LAST-MODIFIED:20240705T050500Z
UID:142392-1720263600-1720269000@events.srmap.edu.in
SUMMARY:The Best Pathway to Success for Graduates
DESCRIPTION:The Directorate of Alumni Relations in collaboration with the Directorate of Corporation Relations & Career Services is organising an interactive session on the best pathway to achieve career success with lucrative placements on July 06\, 2024. The session titled “The Best of You” will provide an enticing platform for students to interact with their alumni\, Uppuluri Vaishnavi (B.Tech. CSE 2024 Batch)\, Associate Software Engineer at Service now and Rajesh Yemineni (B.Tech. CSE 2024 Batch)\, Program Designer at Wellsfargo. \nThe talk will let students an exclusive look into the journey of their alumni from a university graduate to engineers and designers at reputed companies. Insights into the peaks and valleys they had triumphed to attain their dream jobs will provide students with the motivation to plan and ideate their career paths. \nJoin the session\, manifest your placement success and take your place besides our proud alumni!
URL:https://events.srmap.edu.in/event/the-best-pathway-to-success-for-graduates/
LOCATION:Tiered Classroom\, 5th Floor\, Admin Block
CATEGORIES:Alumni Relations,Departmental Events,Events
END:VEVENT
BEGIN:VEVENT
DTSTART;TZID=Asia/Kolkata:20251107T153000
DTEND;TZID=Asia/Kolkata:20251107T163000
DTSTAMP:20260422T041450
CREATED:20251104T095733Z
LAST-MODIFIED:20251104T095733Z
UID:144945-1762529400-1762533000@events.srmap.edu.in
SUMMARY:Alumni Talk on Global Opportunities for Young Engineers
DESCRIPTION:The Directorate of Alumni Relations\, in collaboration with the Department of Civil Engineering\, jointly organises an online Alumni Talk on Global Opportunities for Young Engineers: Learn\, Work and Grow Abroad. The primary objective of the talk is to facilitate knowledge sharing and networking among students and fellow Alumni\, and to offer insights into industry trends. The talk will also cover key concepts on the topic. The talk will feature former SRM AP student\, Mr Seeramreddi Umamaheswararao as the speaker.  \nAbout the Speaker: \nMr Seeramreddi Umamaheswararao is a dedicated civil engineering professional currently serving as a QA/QC Engineer at Gulf Contracting Company (GCC)\, one of Qatar’s leading construction firms. A proud alumnus of SRM University-AP\, he graduated with a B.Tech. in Civil Engineering. \nWith a strong foundation in quality assurance and control\, Mr Umamaheswararao has been involved in ensuring adherence to international construction standards\, project safety\, and efficient implementation of engineering processes. His work reflects a commitment to precision\, teamwork\, and continuous improvement in the infrastructure and construction sector. \nHe is passionate about exploring global opportunities for young engineers and guiding aspiring professionals to excel in international work environments.
URL:https://events.srmap.edu.in/event/alumni-talk-on-global-opportunities-for-young-engineers/
LOCATION:Online event
CATEGORIES:Alumni Relations,Events,Homepage Events,Invited Talks,Webinars
ATTACH;FMTTYPE=image/png:https://events.srmap.edu.in/wp-content/uploads/2025/11/Class-of-2025-CIVIL-Current-Role-QAQC-Engineer-GCCGulf-Contracting-Company.png
END:VEVENT
BEGIN:VEVENT
DTSTART;TZID=Asia/Kolkata:20251108T110000
DTEND;TZID=Asia/Kolkata:20251108T123000
DTSTAMP:20260422T041450
CREATED:20251104T061452Z
LAST-MODIFIED:20251106T084719Z
UID:144938-1762599600-1762605000@events.srmap.edu.in
SUMMARY:Alumni Talk on Rise of Generative AI: How Machines Are Learning to Create
DESCRIPTION:The Directorate of Alumni Relations & The Department of Computer Science and Engineering are jointly organising an online alumni talk on The Rise of Generative AI: How Machines Are Learning to Create. The primary objective of the talk is to facilitate knowledge sharing and networking amongst students and fellow Alumni and offer insights into industry trends. The talk will also cover key concepts such as a general Overview of AI and its working\, Career Pathways and lastly Skills in Demand in the related fields. The talk will feature former SRM AP student\, Mr Tejodbhav Koduru\, from the 2023 Batch as the speaker. \nAbout the Speaker: \nMr Tejodbhav Koduru is an AI Engineer Intern currently pursuing a Master of Science in Computer Science at the University of Illinois Chicago (UIC). With a strong foundation in data science\, Internet of Things (IoT)\, Machine learning\, and Natural Language Processing\, Mr Tejodbhav is passionate about leveraging technology to enhance mental health assessments through innovative applications. \nMr Koduru’s previous experience at SRM University-AP focused on cloud computing and resource prediction using machine learning\, and as a Technical Writing Intern at DataFlair has helped him develop his technical skills. He has also developed informative websites and managed various projects related to technology and data science. \nFluent in English and Telugu\, with an elementary understanding of Spanish and limited proficiency in Hindi\, Tejodbhav is well-equipped to collaborate in diverse environments. His academic achievements include several publications addressing critical issues in wireless sensor networks and privacy metrics. \nMr Koduru’s knowledge and expertise will offer valuable insights to students who wish to follow his footsteps.
URL:https://events.srmap.edu.in/event/alumni-talk-on-rise-of-generative-ai-how-machines-are-learning-to-create/
LOCATION:Zoom
CATEGORIES:Alumni Relations,Homepage Events,Webinars
ATTACH;FMTTYPE=image/png:https://events.srmap.edu.in/wp-content/uploads/2025/11/Alumni-1.png
END:VEVENT
BEGIN:VEVENT
DTSTART;VALUE=DATE:20251225
DTEND;VALUE=DATE:20251226
DTSTAMP:20260422T041450
CREATED:20251224T091739Z
LAST-MODIFIED:20251224T092734Z
UID:145132-1766620800-1766707199@events.srmap.edu.in
SUMMARY:SRM AP 3rd Alumni Day Celebration.
DESCRIPTION:The Directorate of Alumni Relations\, under the aegis of SRM University-AP\, is set to host its 3rd Alumni Day. The event promises an exciting line-up of networking opportunities\, keynote speeches from distinguished alumni\, and interactive sessions to share experiences and insights. \nThis year’s events are poised to render the celebration an unforgettable experience. Prepare to immerse yourself in the captivating atmosphere of the Cultural Fiesta\, an event meticulously crafted to showcase the rich diversity of our community. We will present an array of traditional performances\, art exhibitions\, and culinary experiences that honour and celebrate our heritage. \nApart from the celebratory activities\, there will also be a meaningful Sapling Plantation initiative\, emphasising our commitment to environmental sustainability. Join us in planting trees and greenery in our local area\, a step toward a healthier planet for future generations. \nThe evening also has in store the highly anticipated DJ Fest. Join us for this spectacular celebration of our Alumni.
URL:https://events.srmap.edu.in/event/srm-ap-3rd-alumni-day-celebration/
LOCATION:APJ Abdul Kalam Auditorium
CATEGORIES:Alumni Relations,Departmental Events,Events,Homepage Events
END:VEVENT
BEGIN:VEVENT
DTSTART;TZID=Asia/Kolkata:20260120T150000
DTEND;TZID=Asia/Kolkata:20260120T163000
DTSTAMP:20260422T041450
CREATED:20260120T092836Z
LAST-MODIFIED:20260120T110533Z
UID:145206-1768921200-1768926600@events.srmap.edu.in
SUMMARY:From Campus To Research: Masters’ Pathway\, Alumni Talk
DESCRIPTION:Gear up to welcome our Alumni\, Mr Karthik Nunna\, B.Tech CSE from the Class of 2024! \n\nCurrently\, Karthik is pursuing an M.Sc. in Data Sciences from the University of Houston\, USA. \nHe will be connecting with us on “From Campus To Research: Masters’ Pathway” organised by the Directorate of Alumni Relations and the Department of Electronics and Communication Engineering. \nJoin us at ALC-1\, Homi Ji Bhabha Block.
URL:https://events.srmap.edu.in/event/from-campus-to-research-masters-pathway-alumni-talk/
LOCATION:ALC 1\, Homi J Bhabha Block
CATEGORIES:Alumni Relations,Departmental Events,ECE,Homepage Events
ATTACH;FMTTYPE=image/png:https://events.srmap.edu.in/wp-content/uploads/2026/01/Social-Media-Alumni-1920-x-1080-px.png
END:VEVENT
BEGIN:VEVENT
DTSTART;TZID=Asia/Kolkata:20260123T090000
DTEND;TZID=Asia/Kolkata:20260125T170000
DTSTAMP:20260422T041450
CREATED:20260122T100657Z
LAST-MODIFIED:20260122T100657Z
UID:145218-1769158800-1769360400@events.srmap.edu.in
SUMMARY:SWEEYAM 2026: Developers Conference
DESCRIPTION:The Department of Computer Science and Engineering is hosting SWEEYAM 2026 a Developers Conference\, Hackathon and AI workshop in collaboration with the Coding Club and Directorate of Alumni Relations. \nOn January 23-25\, 2026\, this 36-hour industrial build challenge brings together developers\, innovators\, and problem-solvers to work on real-world problem statements through hands-on coding\, expert talks\, and professional workshops. The conference will also feature inspiring sessions by renowned industry leaders and research experts on cutting-edge technologies\, research\, and real-world applications. \nWith a prize pool of ₹1\,00\,000+\, participants can form teams of 1-5 members and take part in competitions that take ideas from concept to execution. \nSWEEYAM 2026 provides opportunities for industrial mentorship\, certification\, and meaningful networking\, and is designed to deliver both learning and impact. \nConnect\, learn\, and transform ideas into impactful solutions.
URL:https://events.srmap.edu.in/event/sweeyam-2026-developers-conference/
LOCATION:APJ Abdul Kalam Auditorium
CATEGORIES:Alumni Relations,CSE Events,Departmental Events,Events,Homepage Events
ATTACH;FMTTYPE=image/png:https://events.srmap.edu.in/wp-content/uploads/2026/01/Home-page-image-1-2.png
END:VEVENT
BEGIN:VEVENT
DTSTART;TZID=Asia/Kolkata:20260420T115000
DTEND;TZID=Asia/Kolkata:20260420T130000
DTSTAMP:20260422T041450
CREATED:20260420T051415Z
LAST-MODIFIED:20260420T051813Z
UID:145700-1776685800-1776690000@events.srmap.edu.in
SUMMARY:Alumni Interaction Session
DESCRIPTION:The Directorate of Alumni Relations in association with the Department of Mechanical Engineering is organising an Alumni Interaction Session on “Academic Excellence\, International Exposure\, and Entrepreneurial Opportunities” \nThe session will be delivered by Mr Venkata Sree Harsha\, B.Tech ME\,Class of 2025 who is currently pursuing a Research Internship at the National University of Singapore and is the CEO & Founder of VOLTA. \nOrganising Committee :\nDr Satish Anamalamudi – Assistant Director\, Alumni Relations and Team\nProf. P Vivekananda Shanmuganathan – Alumni Faculty Coordinator\, Dept. of ME\nSARC Committee
URL:https://events.srmap.edu.in/event/alumni-interaction-session/
LOCATION:Tiered Classroom\, 5th Floor\, Admin Block
CATEGORIES:Alumni Relations,Departmental Events,Homepage Events,Mechanical Engineering,Session
ATTACH;FMTTYPE=image/png:https://events.srmap.edu.in/wp-content/uploads/2026/04/alumni.png
END:VEVENT
END:VCALENDAR