BEGIN:VCALENDAR
VERSION:2.0
PRODID:-//SRMAP Events - ECPv6.15.11//NONSGML v1.0//EN
CALSCALE:GREGORIAN
METHOD:PUBLISH
X-ORIGINAL-URL:https://events.srmap.edu.in
X-WR-CALDESC:Events for SRMAP Events
REFRESH-INTERVAL;VALUE=DURATION:PT1H
X-Robots-Tag:noindex
X-PUBLISHED-TTL:PT1H
BEGIN:VTIMEZONE
TZID:Asia/Kolkata
BEGIN:STANDARD
TZOFFSETFROM:+0530
TZOFFSETTO:+0530
TZNAME:IST
DTSTART:20240101T000000
END:STANDARD
END:VTIMEZONE
BEGIN:VEVENT
DTSTART;TZID=Asia/Kolkata:20250520T110000
DTEND;TZID=Asia/Kolkata:20250520T120000
DTSTAMP:20260422T064046
CREATED:20250519T013800Z
LAST-MODIFIED:20250519T013800Z
UID:141888-1747738800-1747742400@events.srmap.edu.in
SUMMARY:Panel Discussion on "Exploring Frontiers in Molecular Biology & Biotechnology”
DESCRIPTION:The Department of Biological Science is organising an online panel discussion titled “Exploring Frontiers in Molecular Biology and Biotechnology“. The discussion will focus on exploring the potential career opportunities and how Masters in Molecular Biology and Biotechnology might open doors to roles in research\, healthcare\, pharmaceutical\, and more. \nThe talk will focus on how SRM University – AP\, Amaravati’s Masters in Molecular Biology and Biotechnology program combines cutting-edge research with industry-ready skills. \nThe panel discussion enables science enthusiasts to interact with notable teachers to better understand career paths in academia\, industry\, and research. A Q&A session will be offered to answer questions about curriculum\, placements\, scholarships\, and research opportunities. \nFor more information about the course\, check the link below :\nhttps://www.srmap.edu.in/seas/biological-sciences/msc-molecular-biology-and-biotechnology/
URL:https://events.srmap.edu.in/event/panel-discussion-on-exploring-frontiers-in-molecular-biology-biotechnology/
LOCATION:Zoom
CATEGORIES:Biology Events,Departmental Events,Events
END:VEVENT
END:VCALENDAR