BEGIN:VCALENDAR
VERSION:2.0
PRODID:-//SRMAP Events - ECPv6.15.11//NONSGML v1.0//EN
CALSCALE:GREGORIAN
METHOD:PUBLISH
X-WR-CALNAME:SRMAP Events
X-ORIGINAL-URL:https://events.srmap.edu.in
X-WR-CALDESC:Events for SRMAP Events
REFRESH-INTERVAL;VALUE=DURATION:PT1H
X-Robots-Tag:noindex
X-PUBLISHED-TTL:PT1H
BEGIN:VTIMEZONE
TZID:Asia/Kolkata
BEGIN:STANDARD
TZOFFSETFROM:+0530
TZOFFSETTO:+0530
TZNAME:IST
DTSTART:20240101T000000
END:STANDARD
END:VTIMEZONE
BEGIN:VEVENT
DTSTART;TZID=Asia/Kolkata:20251205T103000
DTEND;TZID=Asia/Kolkata:20251205T123000
DTSTAMP:20260421T213523
CREATED:20251202T115209Z
LAST-MODIFIED:20251202T115209Z
UID:145036-1764930600-1764937800@events.srmap.edu.in
SUMMARY:Guest Talk on 3D Structure Determination of Macromolecules by X-ray Crystallography
DESCRIPTION:The Department of Biological Sciences is organising a Guest Talk on the topic “3-Dimensional Structure Determination of Macromolecules by X-ray Crystallography” on December 05\, 2025. Prof. K Suguna\, from the Molecular Biophysics Unit\, Indian Institute of Science\, Bangalore will deliver the session. \nThe talk will delve into how the 3D structures will provide atomic-level details on how macromolecules function\, interact with other molecules\, and perform biological processes. \nJoin the talk to understand the intricacies of structural biology!
URL:https://events.srmap.edu.in/event/guest-talk-on-3d-structure-determination-of-macromolecules-by-x-ray-crystallography/
LOCATION:ALC 1\, Homi J Bhabha Block
CATEGORIES:Biology Events,Departmental Events,Events,Homepage Events
ATTACH;FMTTYPE=image/png:https://events.srmap.edu.in/wp-content/uploads/2025/12/Biological-Talk.png
END:VEVENT
END:VCALENDAR