BEGIN:VCALENDAR
VERSION:2.0
PRODID:-//SRMAP Events - ECPv6.15.11//NONSGML v1.0//EN
CALSCALE:GREGORIAN
METHOD:PUBLISH
X-ORIGINAL-URL:https://events.srmap.edu.in
X-WR-CALDESC:Events for SRMAP Events
REFRESH-INTERVAL;VALUE=DURATION:PT1H
X-Robots-Tag:noindex
X-PUBLISHED-TTL:PT1H
BEGIN:VTIMEZONE
TZID:Asia/Kolkata
BEGIN:STANDARD
TZOFFSETFROM:+0530
TZOFFSETTO:+0530
TZNAME:IST
DTSTART:20240101T000000
END:STANDARD
END:VTIMEZONE
BEGIN:VEVENT
DTSTART;VALUE=DATE:20251208
DTEND;VALUE=DATE:20251210
DTSTAMP:20260421T170209
CREATED:20250930T071056Z
LAST-MODIFIED:20251126T094452Z
UID:144695-1765152000-1765324799@events.srmap.edu.in
SUMMARY:International Conference on Emerging Trends in Chemical Biology (ETCB-2025)
DESCRIPTION:The Department of Chemistry at SRM University-AP\, Amaravati\, is organising an International Conference on Emerging Trends in Chemical Biology. The two-day International Conference will cover key thematic areas such as: \n\nOligonucleotides in healthcare\nBioorganic and medicinal chemistry\nAI/computational studies in structural biology and drug discovery\nDevelopment of sensors and Molecular diagnostic tools\n\nThe primary objective of the conference is to highlight the emerging themes in chemical biology\, through keynote and invited lectures\, young researcher sessions\, poster presentations\, flash talks\, and networking opportunities. The conference will foster collaboration\, inspire innovation\, and strengthen connections among leading scientists from India and around the world. \nThe conference will feature eminent academicians and scientists from across the country and the world as invited speakers and keynote speakers some of who include Prof. Raghavan Varadarajan\, IISC (Bengaluru)\, Karnataka\, Prof. Harinath Chakrapani\, IISER Pune\, Maharashtra\, Prof. Soma Venugopal Rao\, University of Hyderabad\, Telangana\, Dr Venkata Srikanth Garikipati\, Temple University\, USA\, Dr Syed Kaleem Ahmed\, University of Southern California among others. \nTheir expertise will provide an insightful experience for all participants. We look forward to your active participation. \nFor more details\, visit – ETBC website
URL:https://events.srmap.edu.in/event/international-conference-on-emerging-trends-in-chemical-biology-etcb-2025/
LOCATION:Tiered Classroom\, 5th Floor\, Admin Block
CATEGORIES:Chemistry-news,Conferences,Departmental Events,Events,Homepage Events
ATTACH;FMTTYPE=image/jpeg:https://events.srmap.edu.in/wp-content/uploads/2025/09/ETCB-2025.jpg
END:VEVENT
END:VCALENDAR