BEGIN:VCALENDAR
VERSION:2.0
PRODID:-//SRMAP Events - ECPv6.15.11//NONSGML v1.0//EN
CALSCALE:GREGORIAN
METHOD:PUBLISH
X-WR-CALNAME:SRMAP Events
X-ORIGINAL-URL:https://events.srmap.edu.in
X-WR-CALDESC:Events for SRMAP Events
REFRESH-INTERVAL;VALUE=DURATION:PT1H
X-Robots-Tag:noindex
X-PUBLISHED-TTL:PT1H
BEGIN:VTIMEZONE
TZID:Asia/Kolkata
BEGIN:STANDARD
TZOFFSETFROM:+0530
TZOFFSETTO:+0530
TZNAME:IST
DTSTART:20190101T000000
END:STANDARD
END:VTIMEZONE
BEGIN:VEVENT
DTSTART;TZID=Asia/Kolkata:20210815T170000
DTEND;TZID=Asia/Kolkata:20210815T180000
DTSTAMP:20260419T224741
CREATED:20210814T214700Z
LAST-MODIFIED:20250806T130933Z
UID:142426-1629046800-1629050400@events.srmap.edu.in
SUMMARY:Captivating webinar on right strategies for career growth
DESCRIPTION:On the auspicious day of Independence\, the next chapter of the Industry Readiness Webinar Series\, organised by the Department of Corporate Relations and Career Services\, deals with a pertinent question of this time. Every student is worried about the right strategies for career growth-how to make the journey to excellence worthwhile. \nMr Manoj Gupta\, Solutions Director and Chief Architect\, Digital Service Line at Capgemini\, will share his expert solutions to the questions of the students in the webinar “Right Strategies for Career Growth\, Placements and Business Communication”. The webinar has been scheduled for August 15\, 2021\, at 5 pm. \nWith 22 years in Information Technology\, Manoj Gupta is a digital veteran and sought-after industry speaker who led quite a few significant and innovative programmes globally across every organisational sector. Mr Manoj is presently working as Solutions Director and Chief Architect with Capgemini\, a global leader in consulting\, digital transformation\, technology and engineering services. \nAs a digital transformation leader\, Mr Manoj drives innovation that creates new markets\, helps the organisation to shape new deals and sharpen the competitive edges for the world’s largest companies. He has been a solution architect\, principal architect solution director and led end to end large digital transformation projects as a chief architect. \nMr Manoj is passionate about building high performing teams and taking individuals and teams on a journey of excellence and satisfaction. He believes that Digital Transformation and Customer Data Platform are not just about implementing effective and efficient and lean processes that are fit for purpose but transforming people’s mindsets to deliver better outcomes and achieving true business transformation\, and hopefully a more same world. \nJoin the webinar on August 15\, 2021\, at 5 pm to learn from the expert himself. \nLinkedIn Profile of the speaker: https://www.linkedin.com/in/manojkrgupta/
URL:https://events.srmap.edu.in/event/captivating-webinar-on-right-strategies-for-career-growth/
CATEGORIES:CR&CS Events,CR&CS Webinars,Events
END:VEVENT
BEGIN:VEVENT
DTSTART;TZID=Asia/Kolkata:20210227T084500
DTEND;TZID=Asia/Kolkata:20210227T173000
DTSTAMP:20260419T224741
CREATED:20210223T071200Z
LAST-MODIFIED:20250528T075024Z
UID:142399-1614415500-1614447000@events.srmap.edu.in
SUMMARY:National HR Conclave-2021
DESCRIPTION:The grandest conglomerate of Human Resource experts is joining National HR Conclave-2021\, organised by SRM University-AP in association with GWFM. The conclave has been scheduled on February 27\, 2021. Following the theme of the conclave\, “Leading the Disruption- The HR Agenda for 2021“\, the meeting of great minds will provide solutions to recent challenges in Human Resource and Operations. Human Resource professionals across India will attend the conclave. Senior Human Resource Leaders from reputed companies such as KPMG\, Airbus\, IBM\, Informatica\, Standard Chartered Bank\, Flipkart\, Shriram Bio-seeds\, NCC Ltd\, NOKIA\, Infosys BPO\, Volvo Group\, Reliance Jio\, Western Digital\, Visa\, Accenture\, Xperi Corp\, Western Digital\, Kromozones Software Pvt. Ltd\, DST Worldwide will deliver keynote speeches and participate in Panel Discussions throughout the day. The Conclave is being organised in association with Global Workforce Management Forum. \nCompanies are bound to cope with the dynamic shifts in consumer appetite\, societal values and regulatory controls. Climate change and economic slowdown\, anti-capitalism crusaders and hashtag politics also causes disruption on business as usual. To thrive in the constantly shifting world\, Human Resource demands thoughtful approaches in strategy\, leadership and enhanced capabilities to influence all stakeholders. \nThis provides a challenge to Human Resource professionals to bring forth a sustainable approach that can subdue disruptions’ harmful effects. Experts from reputed national and multinational companies will discuss the possibilities to add value to the corporate culture in the various daylong panel discussions and keynote talks. \nGlobal Workforce Management Forum\, founded in June 2014 by Dr Shiva Kumar and Partho Ganguly\, is the world’s first WFM Forum. It is a non-profit professional organisation comprising of a group of Senior WFM & HR professionals committed to promoting the WFM movement on the global platform. The forum also focuses on enhancing the capabilities of the workforce so that they can compete globally\, adding value to society. GWFM is committed to the development of the workforce through education\, training\, research and shared experience. The fastest-growing professional forum is a trendsetter where they discuss current and future happenings in the global business. GWFM has 20\,000+ members representing top multinationals\, public & private organisations\, including top Universities across the world. \nSchedule of the Programme: \n\n8:45 am -Welcome Address by GWFM\n9:00 am- Welcome Note by SRM University-AP\n9:15 am- Keynote Speech: Leadership strategies to rebuild trust and resilience\nSpeaker: Unmesh Pawar\, Partner – People Performance & Culture- KPMG India\n10:00 am- Panel Discussion-1: Digital\, data and disruptions: Leveraging on talent analytics to predict the next HR-led approach for business \nModerator: Aditya Pal Singh\, Director Talent Acquisition Informatica\n12:00 noon- Strategic Keynote Speech: The future of HR – reimagined \nSpeaker: Suraj Chetri\, Director HR Airbus India\n12:45–1:45 pm : Lunch Break\n1:45 pm- PANEL Discussion 2: HR strategies to build flexibility\, adaptability\, and agility \nModerator: Debjani Roy\, Chief HR Officer -Mind Your Fleet (Kromozones Software Pvt. Ltd.)\n3:35 pm- Panel Discussion 3 : Effective engagement: Integrating talent development frameworks within the succession management strategy \nModerator: Grace Samson\, Vice President- HR \, Informatica\n4:45 pm- Closing Keynote Speech: Future-proofing workforce 2020: Upskilling employees for future-oriented career trajectories \nSpeaker: Augstus Azariah\, Human Resource Leader IBM\n5:15 pm- Vote of Thanks\n\nSpeakers: \n\nUnmesh Pawar\, Partner – People Performance & Culture- KPMG India\nAditya Pal Singh\, Director\, Talent Acquisition Informatica\nParam Veer Singh Narang\, VP -Head Early Careers\, Standard Chartered GBS – India\, Malaysia & Poland\nRakesh Jain\, Head TA -Grant Thornton LLP\nAnupam Srivastava\, Director\, Talent Acquisition – EMEA/APAC- Xperi Corporation\nSuraj Chetri\, Director\, HR Airbus India\n\nDebjani Roy\, Chief HR Officer -Mind Your Fleet (Kromozones Software Pvt. Ltd.)\nRaghavendra K\, Senior Vice President and Global Head – HRD\, Infosys BPM\nGaurav Saini\, HR Director-HMD Global( Nokia Phones)India\, Asia Pacific Region & Middle East Africa\nKiranmai Pendyala\, Head of Human Resources\, India -Western Digital\nHarjeet Khanduja VP HR –Reliance JIO\nPawan Shetty\, Vice President – Head of HR\, APAC – Technology at Visa\nGrace Samson\, Vice President- HR\, Informatica\nIVS Ranganath\, Head HR-Shriram Bioseed Genetics (A Division of DCM Shriram Ltd)\nMetzen Cherian\, Director-HR (Culture\, Organizational Development & Talent Management) Volvo Group\nNarayan Rao K\, Head – HR -NCC Limited\nAjay Gaachi\, Principal Director Accenture Strategy – HR Strategy & Transformation\nSudhir Mattoo\, Partner\, Talent & Transformation Consulting Practice at IBM\nAugustus Azariah\, Human Resource Leader IBM\nPrajakta Kanaglekar\, Senior Director\, Flipkart\nDr Shivakumar\, Founder\, GWFM \nPartho Ganguly\, Co-founder\, GWFM\nDeepak Gupta\, Sr. Director & Head – HR at SS&C Technologies\nProf VS Rao\, Vice-Chancellor\, SRM University – AP\nM S Vivekanandan\, AGM – CR & CS\, SRM University – AP
URL:https://events.srmap.edu.in/event/national-hr-conclave-2021/
CATEGORIES:CR&CS,CR&CS Events,CR&CS Webinars,Events
END:VEVENT
BEGIN:VEVENT
DTSTART;TZID=Asia/Kolkata:20201017T173000
DTEND;TZID=Asia/Kolkata:20201017T183000
DTSTAMP:20260419T224741
CREATED:20201016T081300Z
LAST-MODIFIED:20250528T075024Z
UID:142415-1602955800-1602959400@events.srmap.edu.in
SUMMARY:"Transformation Process of a student to an employee & insights on resume building/digital interviews" by Mr Rakesh M S\, HR\, Capgemini
DESCRIPTION:Department of Corporate Relations & Career Services\, SRM university-AP\, Andhra Pradesh is presenting a webinar on “Transformation Process of a student to an employee & insights on resume building/digital interviews”. On October 17\, 2020\, at 5.30 p.m.\, Mr Rakesh M S\, Human Resource\, Capgemini\, Chennai\, will be addressing the students of SRM AP. He holds more than 9 years of experience in Human Resource Management\, where he handles and leads HR functions such as HR Operations & Business HR Partner role\, along with leading the Fresher’s Batch Management. He has been invited as Guest Lecturer in several Engineering Colleges to provide insights on the transition state of students to employees. His sessions encompass the current scenario\, the gaps\, the ways to bridge the gaps\, the challenges\, and do’s & don’ts crucial to the students. Students are recommended to attend the session with Mr Rakesh M S\, who will draw practical\, in-depth\, ground-level examples to decipher the stages of transition. He will also be sharing significant information on resume building and digital interviews\, which will help the students to excel in the recruitment drive and grab their dream job offer.
URL:https://events.srmap.edu.in/event/transformation-process-of-a-student-to-an-employee-insights-on-resume-building-digital-interviews-by-mr-rakesh-m-s-hr-capgemini/
CATEGORIES:CR&CS Events,CR&CS Webinars,Events
END:VEVENT
BEGIN:VEVENT
DTSTART;TZID=Asia/Kolkata:20200926T093000
DTEND;TZID=Asia/Kolkata:20200926T103000
DTSTAMP:20260419T224741
CREATED:20200925T093600Z
LAST-MODIFIED:20250528T123809Z
UID:141689-1601112600-1601116200@events.srmap.edu.in
SUMMARY:"ECE in industry" – Talk Series 02
DESCRIPTION:In collaboration with the Department of Corporate Relations & Career Services\, the Department of Electronics and Communication Engineering\, SRM University-AP\, Andhra Pradesh introduces “ECE in industry” programme\, which will comprise of a series of talks by eminent industry experts. The next instalment of the series brings Mr R. Prabakaran\, General Manager- Learning and Development\, Rane Holdings Limited\, Chennai on September 26th\, 2020\, at 9.30 a.m. Mr Prabakaran will be delivering a talk on “Opportunities and Skills Required for ECE Students”. \nMr Prabakaran has three decades of experience in the industry. He began his career as a Deputy Manager in NTTF Technical Training Centre. Later he has worked for reputed companies such as MM Forgings\, Lucas TVS Ltd etc. He was responsible for the skill-building and generating various learning and developing initiatives in metal forming and CNC Machining. He oversaw skill and competency assessment and development across all levels and design ACT.\, along with working on Total Quality Management. In his present company\, he supervises learning and development interventions across Rane Group of Companies pan India. Designing\, Planning Resources and Executing leadership and manufacturing capabilities initiatives are some of his primary obligations. It is his vast experience of three decades of successful grooming and developing skills that he will be sharing with the students. Join the session tomorrow sharply at 9.30 a.m. to know more about the industry\, its requirements and how to prepare yourself for it. \n To know more about the previous lecture\, please Visit Here
URL:https://events.srmap.edu.in/event/ece-in-industry-talk-series-02/
CATEGORIES:CR&CS Events,CR&CS Webinars,Departmental Events,ECE,Events,Webinars
END:VEVENT
END:VCALENDAR