BEGIN:VCALENDAR
VERSION:2.0
PRODID:-//SRMAP Events - ECPv6.15.11//NONSGML v1.0//EN
CALSCALE:GREGORIAN
METHOD:PUBLISH
X-WR-CALNAME:SRMAP Events
X-ORIGINAL-URL:https://events.srmap.edu.in
X-WR-CALDESC:Events for SRMAP Events
REFRESH-INTERVAL;VALUE=DURATION:PT1H
X-Robots-Tag:noindex
X-PUBLISHED-TTL:PT1H
BEGIN:VTIMEZONE
TZID:Asia/Kolkata
BEGIN:STANDARD
TZOFFSETFROM:+0530
TZOFFSETTO:+0530
TZNAME:IST
DTSTART:20220101T000000
END:STANDARD
END:VTIMEZONE
BEGIN:VEVENT
DTSTART;TZID=Asia/Kolkata:20230721T143000
DTEND;TZID=Asia/Kolkata:20230721T160000
DTSTAMP:20260421T215527
CREATED:20230719T093700Z
LAST-MODIFIED:20250806T120053Z
UID:141659-1689949800-1689955200@events.srmap.edu.in
SUMMARY:Prof. Mohanty Elucidates on Smart Agriculture Systems
DESCRIPTION:The Department of Computer Science and Engineering\, SRM University-AP is hosting an invited talk by Dr Saraju P Mohanty\, Professor\, Department of Computer Science and Engineering (CSE)\, University of North Texas\, Denton\, TX. The talk on Smart Agriculture Systems will be held on July 21\, 2023. \nJoin us along with Prof. Mohanty and the faculty! \nAbout the Speaker \nDr Saraju P Mohanty is a Professor in the Department of Computer Science and Engineering (CSE)\, University of North Texas\, Denton\, TX. He is ranked among the top 2% of faculty in the world with 30th rank for the year 2019 and 25th rank for the year 2020 in the field of Computer Hardware and Architecture. \nDr Mohanty has innumerable awards to his credit; he received the Fulbright Specialist Award from the US Department of State’s Bureau of Educational and Cultural Affairs (ECA) and World Learning in 2020. He has been a recipient of the IEEE-CS-TCVLSI Distinguished Leadership Award in 2018 for services to the IEEE\, and to the VLSI research community. He was awarded the Glorious India Award in 2017 for his exemplary contributions to the discipline. Prof. Mohanty has authored 450 peer-reviewed articles and 5 books. He has received 16 best paper awards. He has delivered 21 keynotes and served on 14 panels at various International Conferences. His Google Scholar h-index is 52 and his i10-index is 224 with 12\,045 citations.
URL:https://events.srmap.edu.in/event/prof-mohanty-elucidates-on-smart-agriculture-systems/
LOCATION:Tiered Classroom\, 5th Floor\, Admin Block
CATEGORIES:CSE Events,Departmental Events,Events,Invited Talks
END:VEVENT
END:VCALENDAR