BEGIN:VCALENDAR
VERSION:2.0
PRODID:-//SRMAP Events - ECPv6.15.11//NONSGML v1.0//EN
CALSCALE:GREGORIAN
METHOD:PUBLISH
X-WR-CALNAME:SRMAP Events
X-ORIGINAL-URL:https://events.srmap.edu.in
X-WR-CALDESC:Events for SRMAP Events
REFRESH-INTERVAL;VALUE=DURATION:PT1H
X-Robots-Tag:noindex
X-PUBLISHED-TTL:PT1H
BEGIN:VTIMEZONE
TZID:Asia/Kolkata
BEGIN:STANDARD
TZOFFSETFROM:+0530
TZOFFSETTO:+0530
TZNAME:IST
DTSTART:20240101T000000
END:STANDARD
END:VTIMEZONE
BEGIN:VEVENT
DTSTART;TZID=Asia/Kolkata:20251015T143000
DTEND;TZID=Asia/Kolkata:20251015T160000
DTSTAMP:20260419T231616
CREATED:20251013T061214Z
LAST-MODIFIED:20251013T063114Z
UID:144831-1760538600-1760544000@events.srmap.edu.in
SUMMARY:Using LLMs to Build Knowledge Graphs: A Case Study in Multimodal Food Computing
DESCRIPTION:
URL:https://events.srmap.edu.in/event/using-llms-to-build-knowledge-graphs-a-case-study-in-multimodal-food-computing/
LOCATION:Zoom
CATEGORIES:CSE Events,Events,Homepage Events,Webinars
ATTACH;FMTTYPE=image/jpeg:https://events.srmap.edu.in/wp-content/uploads/2025/10/food-computing.jpg
END:VEVENT
BEGIN:VEVENT
DTSTART;TZID=Asia/Kolkata:20251016T090000
DTEND;TZID=Asia/Kolkata:20251016T172000
DTSTAMP:20260419T231616
CREATED:20251015T103826Z
LAST-MODIFIED:20251015T104048Z
UID:144848-1760605200-1760635200@events.srmap.edu.in
SUMMARY:Workshop on Designing with FPGAs
DESCRIPTION:The Department of Computer Science and Engineering is organising a workshop on Designing with FPGAs. The one-day hands-on Workshop will cover key topics such as : \n\nUnderstanding Chip Design with FPGAs\nPrototyping and Computer Architecture using the Gem5 Simulator: First Steps in Research\nProgramming BASYS3 FPGA Development Kits: COA Course Lab\n\nThe Primary objective of the event is to provide a comprehensive introduction to digital design through the use of Field-Programmable Gate Arrays (FPGAs) and is meticulously tailored for individuals specialising in Computer Science Engineering. The workshop aims to catalyse and propagate scholarly research initiatives within the multifaceted domain of computer architecture and enhance the introduction of complex digital designs through the application of Field Programmable Gate Arrays (FPGAs). \nThe workshop will be led by resource persons- Dr MD Najlur Islam\, Assistant Professor at the Department of Electronics and Communication Engineering and Dr Adusumilli Vijaya Bhaskar and Dr Balijabudda Venkata Sreekanth\, Assistant Professors from the Department of Computer Science and Engineering at SRM University-AP. Their expertise will offer an enriching experience to all the participants. \nWe look forward to your active participation.
URL:https://events.srmap.edu.in/event/workshop-on-designing-with-fpgas/
LOCATION:ALC 1\, Homi J Bhabha Block
CATEGORIES:CSE Events,Departmental Events,Events,Homepage Events,Workshop
END:VEVENT
BEGIN:VEVENT
DTSTART;TZID=Asia/Kolkata:20251025T110000
DTEND;TZID=Asia/Kolkata:20251025T153000
DTSTAMP:20260419T231616
CREATED:20251024T073715Z
LAST-MODIFIED:20251024T095533Z
UID:144863-1761390000-1761406200@events.srmap.edu.in
SUMMARY:Interactive Session and Hands-on Workshop for Visiting Students
DESCRIPTION:The Department of Computer Science and Engineering is hosting an interactive session and hands-on workshop for visiting B.Tech. Cyber Security students from Ramachandra College of Engineering\, Eluru. \nProgramme Schedule: \n\n\n11:00 AM – 12:00 PM: Discussion on Academic\, Research\, and Cyber Security Projects\, and M.Tech (Cyber Security Stream)\nBy Dr Sriramulu Bojjagani & Dr Bhaskar Santhosh Egala\n12:00 PM – 1:30 PM: Lab (Hands-on Session)\nBy Dr Sriramulu Bojjagani & Dr Bhaskar Santhosh Egala\n1:30 PM – 2:30 PM: Lunch Break\n2:30 PM – 3:30 PM: Campus Tour\n\n\n\nFaculty Coordinators: \n\nDr Sriramulu Bojjagani\, Assistant Professor\, Dept. of Computer Science and Engineering\nDr Bhaskar Santhosh Egala\, Assistant Professor\, Dept. of Computer Science and Engineering
URL:https://events.srmap.edu.in/event/interactive-session-and-hands-on-cybersecurity/
LOCATION:Tiered Classroom\, 5th Floor\, Admin Block
CATEGORIES:CSE Events,Departmental Events,Events,Homepage Events
ATTACH;FMTTYPE=image/png:https://events.srmap.edu.in/wp-content/uploads/2025/10/CSE-1-min.png
END:VEVENT
END:VCALENDAR