BEGIN:VCALENDAR
VERSION:2.0
PRODID:-//SRMAP Events - ECPv6.15.11//NONSGML v1.0//EN
CALSCALE:GREGORIAN
METHOD:PUBLISH
X-WR-CALNAME:SRMAP Events
X-ORIGINAL-URL:https://events.srmap.edu.in
X-WR-CALDESC:Events for SRMAP Events
REFRESH-INTERVAL;VALUE=DURATION:PT1H
X-Robots-Tag:noindex
X-PUBLISHED-TTL:PT1H
BEGIN:VTIMEZONE
TZID:Asia/Kolkata
BEGIN:STANDARD
TZOFFSETFROM:+0530
TZOFFSETTO:+0530
TZNAME:IST
DTSTART:20240101T000000
END:STANDARD
END:VTIMEZONE
BEGIN:VEVENT
DTSTART;TZID=Asia/Kolkata:20251015T143000
DTEND;TZID=Asia/Kolkata:20251015T160000
DTSTAMP:20260420T004344
CREATED:20251013T061214Z
LAST-MODIFIED:20251013T063114Z
UID:144831-1760538600-1760544000@events.srmap.edu.in
SUMMARY:Using LLMs to Build Knowledge Graphs: A Case Study in Multimodal Food Computing
DESCRIPTION:
URL:https://events.srmap.edu.in/event/using-llms-to-build-knowledge-graphs-a-case-study-in-multimodal-food-computing/
LOCATION:Zoom
CATEGORIES:CSE Events,Events,Homepage Events,Webinars
ATTACH;FMTTYPE=image/jpeg:https://events.srmap.edu.in/wp-content/uploads/2025/10/food-computing.jpg
END:VEVENT
END:VCALENDAR