BEGIN:VCALENDAR
VERSION:2.0
PRODID:-//SRMAP Events - ECPv6.15.11//NONSGML v1.0//EN
CALSCALE:GREGORIAN
METHOD:PUBLISH
X-ORIGINAL-URL:https://events.srmap.edu.in
X-WR-CALDESC:Events for SRMAP Events
REFRESH-INTERVAL;VALUE=DURATION:PT1H
X-Robots-Tag:noindex
X-PUBLISHED-TTL:PT1H
BEGIN:VTIMEZONE
TZID:Asia/Kolkata
BEGIN:STANDARD
TZOFFSETFROM:+0530
TZOFFSETTO:+0530
TZNAME:IST
DTSTART:20250101T000000
END:STANDARD
END:VTIMEZONE
BEGIN:VEVENT
DTSTART;TZID=Asia/Kolkata:20260408T113000
DTEND;TZID=Asia/Kolkata:20260408T133000
DTSTAMP:20260424T232320
CREATED:20260408T035608Z
LAST-MODIFIED:20260408T035608Z
UID:145641-1775647800-1775655000@events.srmap.edu.in
SUMMARY:Career Roadmap for Tech Students
DESCRIPTION:SRM AP ACM Student Chapter in collaboration with the Department of Computer Science and Engineering\, School of Engineering and Sciences (SEAS) is organising a session on “Career Roadmap for Tech Students: From Classroom to Corporate.” \nMr Amol Mahajan\, AI Tech Lead will deliver the insightful session.
URL:https://events.srmap.edu.in/event/career-roadmap-for-tech-students/
LOCATION:Tiered Classroom\, 5th Floor\, Admin Block
CATEGORIES:CSE Events,Departmental Events,Events,Homepage Events
ATTACH;FMTTYPE=image/png:https://events.srmap.edu.in/wp-content/uploads/2026/04/cse-acm.png
END:VEVENT
BEGIN:VEVENT
DTSTART;TZID=Asia/Kolkata:20260425T100000
DTEND;TZID=Asia/Kolkata:20260425T120000
DTSTAMP:20260424T232320
CREATED:20260422T111725Z
LAST-MODIFIED:20260422T111833Z
UID:145706-1777111200-1777118400@events.srmap.edu.in
SUMMARY:Webinar on Hardware Security
DESCRIPTION:The Department of Computer Science and Engineering is organising an online webinar titled “Hardware Under Attack: Building Trust and Security in the Silicon Era”. \nThis webinar focuses on the emerging challenges in hardware security and the growing need for trust in the silicon era. The session will explore hardware-level vulnerabilities\, attack vectors\, and techniques for safeguarding modern computing systems. It will also highlight secure hardware design practices and real-world applications\, enabling participants to understand the importance of building resilient and trustworthy systems. \nResource Person: Prof. Anirban Sengupta\nProfessor\, Department of Computer Science and Engineering\, IIT Indore \nAbout the Speaker \nProf. Anirban Sengupta is a Full Professor at IIT Indore with over 330 publications\, 16 patents\, and 6 books to his credit. He is a Fellow of the IET (UK)\, the British Computer Society (UK)\, and the IETE (India)\, and a Senior Member of IEEE. He has received several prestigious recognitions\, including the IEEE Chester Sall Memorial Award (2020) and multiple best paper and research awards. He has served in key leadership roles within IEEE societies and currently serves as the Editor-in-Chief of IET Computers & Digital Techniques. He has held over 20 editorial positions in reputed IEEE\, IET\, and Nature journals and has been consistently ranked among the top 2% of scientists globally by Stanford University (2021–2024). His research expertise spans hardware security\, VLSI design\, and secure computing systems. \nCertificates will be provided to all registered participants who attend the session. \nRegister Now – https://forms.gle/dxEUpiMsHEWVcxrF9
URL:https://events.srmap.edu.in/event/webinar-on-hardware-security/
LOCATION:Online event
CATEGORIES:CSE Events,Departmental Events,Events,Homepage Events
ATTACH;FMTTYPE=image/png:https://events.srmap.edu.in/wp-content/uploads/2026/04/TRAINING-PROGRAMME-9.png
END:VEVENT
END:VCALENDAR