BEGIN:VCALENDAR
VERSION:2.0
PRODID:-//SRMAP Events - ECPv6.15.11//NONSGML v1.0//EN
CALSCALE:GREGORIAN
METHOD:PUBLISH
X-ORIGINAL-URL:https://events.srmap.edu.in
X-WR-CALDESC:Events for SRMAP Events
REFRESH-INTERVAL;VALUE=DURATION:PT1H
X-Robots-Tag:noindex
X-PUBLISHED-TTL:PT1H
BEGIN:VTIMEZONE
TZID:Asia/Kolkata
BEGIN:STANDARD
TZOFFSETFROM:+0530
TZOFFSETTO:+0530
TZNAME:IST
DTSTART:20210101T000000
END:STANDARD
END:VTIMEZONE
BEGIN:VEVENT
DTSTART;TZID=Asia/Kolkata:20220714T080000
DTEND;TZID=Asia/Kolkata:20220715T170000
DTSTAMP:20260422T070107
CREATED:20220713T223500Z
LAST-MODIFIED:20250528T085719Z
UID:142132-1657785600-1657904400@events.srmap.edu.in
SUMMARY:DST-INSPIRE fellowship expert committee meeting to be held at SRM University-AP
DESCRIPTION:“Innovation in Science Pursuit for Inspired Research” (INSPIRE) programme is a flagship initiative of the Department of Science and Technology (DST) to persuade young and talented science enthusiasts to pursue various fields of sciences and instigate quality research to strengthen the Science and Technology network of the country. \nINSPIRE fellowship is one of the important components under the purview of INSPIRE programme to attract Science graduates to undertake Doctoral research in both basic and applied sciences. The fellowship enables the aspirants to pursue research at any recognized university or institute in India. \nSRM University-AP is glad to host the subject expert committee meeting on July 14 & 15\, 2022\, to select the meritorious candidates for the DST-INSPIRE fellowship 2022 to pursue PhD in physics at any recognized institute across the country. During the meeting\, the expert committee will list out the most deserving candidates among scores of applicants from all over the country. \nAs part of the event\, an interactive session has been scheduled with the eminent scientist Dr Umesh K Sharma\, DST New Delhi. He would cast light on the scopes and opportunities of pursuing doctorate with an INSPIRE fellowship. A talk by Prof Dinakar Kanjilal\, Ex-Director IUAC Delhi\, will also be organized to give the faculty and students a comprehensive understanding of the same. \nDistinguished Members of the DST INSPIRE Meeting \nDr Umesh K Sharma \nDr Dinakar Kanjilal \nDr G Vijaya Prakash \nDr Anandamayee Tej \nDr Rajendra \nDr Arijit Chowdhuri
URL:https://events.srmap.edu.in/event/dst-inspire-fellowship-expert-committee-meeting-to-be-held-at-srm-university-ap/
CATEGORIES:Departmental Events,Events,Invited Talks,Physics
END:VEVENT
BEGIN:VEVENT
DTSTART;TZID=Asia/Kolkata:20220729T100000
DTEND;TZID=Asia/Kolkata:20220729T120000
DTSTAMP:20260422T070107
CREATED:20220720T051000Z
LAST-MODIFIED:20250806T124253Z
UID:142134-1659088800-1659096000@events.srmap.edu.in
SUMMARY:Explore the world through Physics
DESCRIPTION:“Physics is about questioning\, studying\, probing nature. You probe\, and\, if you’re lucky\, you get strange clues” – Lene Hau \n \nAre you a Physics student dreaming of the exciting possibilities and opportunities the subject may present you with? Well\, your passion for physics is sure to gift you with endless opportunities to explore the world. No matter the type of career you choose\, the magic of Physics will remain an integral part of your life. You could be an astronaut\, a teacher\, an engineer or a researcher\, Physics will never fail you to take you to greater heights and depths of your interest. \nThe Department of Physics brings to you an exciting workshop on “Opportunities in Physics” with Prof R P Singh from Physical Research Laboratory\, Ahmedabad on July 29\, 2022 at 10.00 am. Students pursuing advanced undergraduate and postgraduate programmes in Physics in various universities and colleges in the vicinity are invited to attend the workshop\, visit on-campus research facilities\, and interact with the speaker and the faculty. The keynote speaker\, Prof R P Singh will give a seminar on “Free-space quantum communication”\, and various presentations will also be organised as part of the workshop. \nThis is an excellent opportunity for the students to create a deeper perspective on the scopes and opportunities of pursuing Physics. They can also get in touch with experts in the field and experience the latest innovations during laboratory visits. Having a broader understanding of the infinite possibilities of the subject will certainly help students make an informed decision as to how to move ahead and grab the right opportunity. \nProgramme Schedule
URL:https://events.srmap.edu.in/event/explore-the-world-through-physics/
CATEGORIES:Departmental Events,Events,Physics,Workshop
END:VEVENT
END:VCALENDAR