BEGIN:VCALENDAR
VERSION:2.0
PRODID:-//SRMAP Events - ECPv6.15.11//NONSGML v1.0//EN
CALSCALE:GREGORIAN
METHOD:PUBLISH
X-ORIGINAL-URL:https://events.srmap.edu.in
X-WR-CALDESC:Events for SRMAP Events
REFRESH-INTERVAL;VALUE=DURATION:PT1H
X-Robots-Tag:noindex
X-PUBLISHED-TTL:PT1H
BEGIN:VTIMEZONE
TZID:Asia/Kolkata
BEGIN:STANDARD
TZOFFSETFROM:+0530
TZOFFSETTO:+0530
TZNAME:IST
DTSTART:20210101T000000
END:STANDARD
END:VTIMEZONE
BEGIN:VEVENT
DTSTART;TZID=Asia/Kolkata:20220806T093000
DTEND;TZID=Asia/Kolkata:20220806T130000
DTSTAMP:20260422T052750
CREATED:20220731T222000Z
LAST-MODIFIED:20250528T124716Z
UID:139951-1659778200-1659790800@events.srmap.edu.in
SUMMARY:From scratch to the published manuscript
DESCRIPTION:An ideal research process relies on some essential characteristics. One among them is to communicate the research findings. Peer reviewed research journals serve a huge role in this. However\, researchers lack an understanding of how to write a publishable research paper. Grasping the basic structure of a scientific paper would help the researcher to decide what should be included in each section. There will be pitfalls in each of these sections but can be avoided if approached strategically. Along with the other components\, target journal selection and authorship is also an important aspect of this entire activity. \nSuccessful production of an article for submission to a peer‐reviewed scientific journal requires substantial effort. To ensure this success\, The Department of Computer Science and Engineering is planning for a one-day online workshop on How to write and publish a research article. \nDate: August 06\, 2022 \nTime: 09.30 am to 1.00 pm \nThe workshop expects more than four hundred participants. It is open to both students and faculty from UG\, PG and PhD programmes. Assistant Professors Dr V Manikandan and Dr Murali Krishna Enduri are coordinating the event. The workshop will give a general idea about topics such as\, different options to publish research works\, benefits of publishing research articles\, steps to write a review paper or research article from scratch\, hands-on training with LaTeX to write a research article etc.
URL:https://events.srmap.edu.in/event/from-scratch-to-the-published-manuscript/
CATEGORIES:CSE Events,Departmental Events,Events,Workshop
END:VEVENT
BEGIN:VEVENT
DTSTART;TZID=Asia/Kolkata:20220829T053000
DTEND;TZID=Asia/Kolkata:20220829T190000
DTSTAMP:20260422T052750
CREATED:20220826T022500Z
LAST-MODIFIED:20220826T022500Z
UID:141653-1661751000-1661799600@events.srmap.edu.in
SUMMARY:Towards the construction of a skilled youth
DESCRIPTION:“We cannot always build the future for our youth\, but we can build our youth for the future” \n– Franklin D Roosevelt \n \nIndia is one of the countries in the world currently experiencing an explosion in the youth population. And undoubtedly\, skilled youth is the supreme asset of any land. However\, the dismaying fact is that the surpassing potential of our youth is yet to be explored to its fullest. Higher institutes of learning and universities play a pivotal role in equipping their students to face the ever-evolving world fraught with unseen challenges. Reckoning with this alarming fact\, the Department of Computer Science and Engineering at SRM University-AP is organising a one-month-long programme on “Youth Empowerment and Skill Development” under the ISR activities of the university from Aug 29\, 2022\, to Sept 28\, 2022. \nThe programme is exclusively organised for young people living in rural communities near SRM University-AP with an aim to develop the knowledge and experiences that will help them live happier\, more fulfilling lives and improve their ability to make better decisions about their future. Courses are offered across various domains such as internet technologies\, web development\, MS office\, and the like that have become essential tools in a technology-driven world. \nThe inaugural session is scheduled on August 29\, 2022\, at 05.15 pm. The event will be graced by the honourable Vice-Chancellor Prof VS Rao\, Dean – SEAS Prof BV Babu\, Associate Dean – SEAS & the Head of the Department of CSE – Prof T Ragunathan\, and other university dignitaries. Classes will be conducted between 5.30 pm and 7.00 pm during the month. \nJoin us and empower yourself for a better tomorrow.
URL:https://events.srmap.edu.in/event/towards-the-construction-of-a-skilled-youth/
CATEGORIES:CSE Events,Departmental Events,Events
END:VEVENT
END:VCALENDAR