BEGIN:VCALENDAR
VERSION:2.0
PRODID:-//SRMAP Events - ECPv6.15.11//NONSGML v1.0//EN
CALSCALE:GREGORIAN
METHOD:PUBLISH
X-WR-CALNAME:SRMAP Events
X-ORIGINAL-URL:https://events.srmap.edu.in
X-WR-CALDESC:Events for SRMAP Events
REFRESH-INTERVAL;VALUE=DURATION:PT1H
X-Robots-Tag:noindex
X-PUBLISHED-TTL:PT1H
BEGIN:VTIMEZONE
TZID:Asia/Kolkata
BEGIN:STANDARD
TZOFFSETFROM:+0530
TZOFFSETTO:+0530
TZNAME:IST
DTSTART:20220101T000000
END:STANDARD
END:VTIMEZONE
BEGIN:VEVENT
DTSTART;TZID=Asia/Kolkata:20230104T090000
DTEND;TZID=Asia/Kolkata:20230104T103000
DTSTAMP:20260421T215827
CREATED:20221230T035900Z
LAST-MODIFIED:20250821T133637Z
UID:142451-1672822800-1672828200@events.srmap.edu.in
SUMMARY:The Art of Traditional Storytelling and Dramaturgy
DESCRIPTION:Have you ever been fascinated by the theatricality installed and demonstrated by art performances? Drawn by the intensity of sensations and layers of emotions built on the stage by artists? The Department of English is inviting renowned theatre artist and storyteller\, Mr Vikram Sridhar for a webinar on “Interpersonal Communication and Storytelling”. The webinar will be on January 04\, 2023. The session will expound on the intricate link between the art of storytelling\, inspired by traditional folklore\, and the cultural and ecological undertones in the stories and performances. Register for the webinar to savour the theatricality of traditional storytelling and drama! \nAbstract \nCommunication is not about words. It’s also about how words can be intelligently used to engage with others. It’s at its best when words conjure stories. A story that becomes a beautiful memory for your listener/audience/interlocutor. Let’s look at how we can become good storytellers to express our ideas. In this talk\, Vikram Sridhar would share with us the building bricks of storytelling and open different possibilities of effective\, even memorable\, communication \nAbout the Speaker \nMr Vikram Sridhar is a Performance Storyteller & Theatre Practitioner who combines his various interests and work over 20+ years in Theatre\, Conservation and Social Work. He has spoken at multiple events on the power of stories and theatre like the TEDx and has been quoted in various media. He has extensively travelled the country performing and speaking at public spaces\, community libraries\, schools\, corporates\, business conferences\, and literary & cultural festivals for children and adults. He believes in the Desi way of Storytelling as a strong medium of conservation from nature to human relationships as his stories are rooted in folklore\, ecology and heritage inspired by various communities of the soil. \nJoin the talk for an enthralling session and learn to embrace the histrionics of theatre and the cultural nuances of our ancient art of storytelling!
URL:https://events.srmap.edu.in/event/the-art-of-traditional-storytelling-and-dramaturgy/
LOCATION:Zoom
CATEGORIES:Departmental Events,English,Events,Webinars
END:VEVENT
BEGIN:VEVENT
DTSTART;TZID=Asia/Kolkata:20230105T143000
DTEND;TZID=Asia/Kolkata:20230105T153000
DTSTAMP:20260421T215827
CREATED:20230103T040200Z
LAST-MODIFIED:20250806T121629Z
UID:141940-1672929000-1672932600@events.srmap.edu.in
SUMMARY:Career Guidance to Improve your Job Prospects!
DESCRIPTION:General awareness and guidance to available career options and opportunities greatly benefit fresh graduates facing an increasingly demanding job market. Proper career counselling by an expert mentor will reassure and instil confidence in students to overcome challenges while seeking a career of their choice. The Paari School of Business is organising a talk by Professor Vinay Kumar Nangia\, Mentor\, Guide for Education\, Business and Startups on January 05\, 2023\, on the topic “Career Choice”. The session will enlighten all students of SRM AP on the evolving job market and the plethora of opportunities available to young job seekers. \nAbstract \nJob seekers and interns face difficulties in clearly defining their career paths. This has taken a toll on students\, who are frequently unprepared for the world of work when they graduate. Employers are increasingly concerned about graduates’ unemployability. Students require career counselling to explore and plan for future career endeavours based on their unique interests\, skills\, and values. \nProf Vinay Nangia will shower the light on the choice of career. His talk includes\, What are the different opportunities we have? How to select a career? How to use our strengths to achieve a goal? Participation in career guidance strengthens the link between academic and professional experiences\, improving career preparation and management. \nAbout the Speaker \nProfessor Vinay Kumar Nangia is a leader\, mentor\, motivator\, educator\, trainer\, coach and guide to students\, scholars\, teachers and business executives in academia\, industry and government has a rich experience in the industry\, education\, consulting and start-up world. Prof. Nangia has multi-functional expertise in Banking\, Finance\, General Management\, Education and Institution Building. This includes experience in raising and deploying financial resources in India and overseas\, setting up new ventures in India and a new industrial project overseas. Banking experience includes exposure to commercial banking\, merchant banking\, investment banking\, trade finance\, project finance and training. Experience in education includes active participation in the formulation and setting up of MBA and MCA programs in IIT Roorkee and more recently BBA and MBA programs in NSUT\, Dwarka\, New Delhi. \nJoin the session to increase your career prospects with proper guidance and mentorship!
URL:https://events.srmap.edu.in/event/career-guidance-to-improve-your-job-prospects/
LOCATION:APJ Abdul Kalam Auditorium
CATEGORIES:Departmental Events,Events,Management Events
END:VEVENT
BEGIN:VEVENT
DTSTART;TZID=Asia/Kolkata:20230109T153000
DTEND;TZID=Asia/Kolkata:20230109T163000
DTSTAMP:20260421T215827
CREATED:20230106T061700Z
LAST-MODIFIED:20250806T121606Z
UID:142866-1673278200-1673281800@events.srmap.edu.in
SUMMARY:The Significance of Mental Health and Wellness on the Being
DESCRIPTION:A healthy body and a sound mind are the prerequisites for a peaceful life. Preservation of social\, physical and mental well-being is of utmost importance for any individual and is recognised as an essential health parameter to their sustenance. Ms Rupa Murghai\, Head of the Wellness Centre at BML Munjal University\, is invited for an “Interactive Session” with the students of SRM University-AP on January 09\, 2023\,  regarding the significance of wellness and being. An experienced mentor and guide\, Ms Rupa Murghai will deliver a keynote session on how mental health forms a human being and its influence on their core personality. \nAbout the Speaker \nMs Rupa Murghai has over 30 years of experience in Guidance and Counselling and has conducted several workshops in Corporate Houses\, colleges and schools for staff\, parents and students on mental health. She is also a well-sought-after Life skill Trainer providing training programmes for The Indian Academy of Pediatrics\, for School Principals and teachers and MHRD projects throughout the country. A renowned academician\, Ms Rupa Murghai has presented papers at the National and International levels on psychological issues and contributed to AEP (Adolescent Education Program) country-wide Manual. She has also been quoted in leading English dailies including Asian Readers Digest\, Hindustan Times\, Times of India\, India Today\, Bureau of Information and Indian Express. \nJoin the session and learn the importance of mental wellness in the universal being of an individual!
URL:https://events.srmap.edu.in/event/the-significance-of-mental-health-and-wellness-on-the-being/
LOCATION:Tiered Classroom\, 5th Floor\, Admin Block
CATEGORIES:Departmental Events,Events,Students Affairs Events
END:VEVENT
END:VCALENDAR