BEGIN:VCALENDAR
VERSION:2.0
PRODID:-//SRMAP Events - ECPv6.15.11//NONSGML v1.0//EN
CALSCALE:GREGORIAN
METHOD:PUBLISH
X-ORIGINAL-URL:https://events.srmap.edu.in
X-WR-CALDESC:Events for SRMAP Events
REFRESH-INTERVAL;VALUE=DURATION:PT1H
X-Robots-Tag:noindex
X-PUBLISHED-TTL:PT1H
BEGIN:VTIMEZONE
TZID:Asia/Kolkata
BEGIN:STANDARD
TZOFFSETFROM:+0530
TZOFFSETTO:+0530
TZNAME:IST
DTSTART:20220101T000000
END:STANDARD
END:VTIMEZONE
BEGIN:VEVENT
DTSTART;TZID=Asia/Kolkata:20230301T100000
DTEND;TZID=Asia/Kolkata:20230301T130000
DTSTAMP:20260421T184812
CREATED:20230224T002200Z
LAST-MODIFIED:20250806T121450Z
UID:142507-1677664800-1677675600@events.srmap.edu.in
SUMMARY:Strive for Sustainable Development with Saurvi
DESCRIPTION:The Sustainable Development Goals establish a blueprint for peace and prosperity for people and the planet\, now and into the future. Fundamentally the SDGs are an urgent call for action by all countries\, developed and developing\, in a global partnership to formulate strategies in resolving issues on poverty\, improve health and education\, reduce inequality\, and spur economic growth – all while tackling climate change and working to preserve our oceans and forests. In accordance with the UNSDG goals\, The Directorate of Entrepreneurship and Innovation in association with Saurvi\, the woman leadership and entrepreneurship student community under the Home of Leaders\, is organising a workshop on Sustainable Development and calls for student presentations on March 01\, 2023. The workshop will feature Mrs Burisetty Sri Lakshmi Ramya Krishna\, Founder and CEO of Utopia Nutraceuticals India Private Limited\, as the guest speaker. \nAgenda: \nSustainable development is a development plan that meets the needs of the present\, without compromising the ability of future generations to meet their own needs. \n  \nThe workshop will be followed by student presentations\, where participants can share their thoughts and ideas related to Sustainable Development. A few selected ideas will be followed up in a Pitch and Win contest later this month\, with winners receiving cash prizes\, medals\, guidance from the HatchLab and more. A Kahoot! is also scheduled for students to broaden their knowledge of the topic. Winners of the game will receive exciting prizes. \nGuidelines for Presentation: \n\nProblem statements have been provided in the google form. Participants need to choose any one among them.\nEach team/individual will be given 10 minutes to present their idea\, followed by a Q&A session with the judges\, evaluation by the organisers\, audience and judges for around 3 minutes.\nPresentations will be done in the order prescribed in the mail that will be sent to you a few days before the event.\n\n  \nJoin the workshop for an insightful discourse on SDGs and explore the world of opportunities in the field of Sustainable Development. \n\nRegistration Deadline: Feb 27\, 2023\nRegistration Fee: Rs. 500\, Fully subsidized by SRM University-AP\n\n  \nAbout the Speaker \nMrs Burisetty Sri Lakshmi Ramya Krishna (Founder & CEO of Utopia Nutraceuticals) is a woman entrepreneur who started her start–up named “Utopia Nutraceuticals India Private Limited” in 2018 while pursuing her PhD as a Research Scholar in the Department of Biotechnology\, KL Deemed to be University. \nNote: E-Certificates and On Duty Attendance will be provided for the participants.
URL:https://events.srmap.edu.in/event/strive-for-sustainable-development-with-saurvi/
LOCATION:APJ Abdul Kalam Auditorium
CATEGORIES:Departmental Events,Events,IDEA Events,IDEA Workshop,Workshop
END:VEVENT
BEGIN:VEVENT
DTSTART;TZID=Asia/Kolkata:20230307T093000
DTEND;TZID=Asia/Kolkata:20230307T113000
DTSTAMP:20260421T184812
CREATED:20230303T034300Z
LAST-MODIFIED:20250728T050716Z
UID:141841-1678181400-1678188600@events.srmap.edu.in
SUMMARY:Green Growth Technology: A Unique Strategy for Sustainable Development
DESCRIPTION:Green growth\, an exceptional strategy advocating environmentally sustainable economic development\, has received wider attention due to the prevailing crisis on climate change and environmental degradation. In this needful hour of cultivating green skills to adapt products\, services and processes to combat climate change and the related environmental requirements\, The Department of Environmental Sciences is organising a National Science Day Seminar on “Green Growth Technologies and Skills” on March 07\, 2023. Prof. Seeram Ramakrishna\, FREng\, Everest Chair\, Director-Center for Nanotechnology & Sustainability\, National University of Singapore\, will be the keynote speaker of the seminar. \nAbstract \nCountries pledged net-zero emissions by 2050. Businesses are aligning with the decarbonization of economies. There are three main routes to decarbonization. Energy efficiency is estimated to reduce emissions by 15-20%. Deploying decarbonised technologies across all sectors contributes to a 40-45% reduction in emissions. Up to 40% emissions reduction is envisaged by transitioning from the current linear economy to a more circular economy. The circular industrial economy reduces dependence on virgin resources and generates resources from the waste streams generated by consumerism. Green growth means greening existing industries and creating new green industries. The green growth pursuit augers well for humans and global environmental commons. \nJoin the session and gain constructive insights into Green growth technology and the Green economy! \nView Programme Schedule
URL:https://events.srmap.edu.in/event/green-growth-technology-a-unique-strategy-for-sustainable-development/
LOCATION:Tiered Classroom\, 5th Floor\, Admin Block
CATEGORIES:Departmental Events,ENVS Events,Events
END:VEVENT
BEGIN:VEVENT
DTSTART;TZID=Asia/Kolkata:20230311T093000
DTEND;TZID=Asia/Kolkata:20230311T160000
DTSTAMP:20260421T184812
CREATED:20230309T001700Z
LAST-MODIFIED:20250623T062359Z
UID:141536-1678527000-1678550400@events.srmap.edu.in
SUMMARY:Expand your Horizons with Chemzeal!
DESCRIPTION:The Department of Chemistry at SRM University-AP is organising a fun and interactive outreach programme\, “ChemZeal” on March 11\, 2023\, that offers a platform for students to engage with chemistry excitingly while learning about the latest research and technological advancements. The programme is open to all undergraduate students with a science background and who have a genuine interest in the world of chemistry. The outreach project includes activities in chemistry\, a career guidance session enlightening on the scopes and opportunities in various fields and a thrilling talent test. Impressive prizes will be awarded to winners of the contest. \nObjectives of ChemZeal:- \n\nProviding Hands-on experience with world-class research equipment\nExpanding knowledge: Learn about the latest developments in the field of chemistry.\nEnhancing career prospects: Career guidance on various career paths in the field of chemistry.\nNetworking with peers: A platform to connect with other students who share a passion for chemistry.\n\nJoin the programme and experience the wonders of chemistry with ChemZeal – A Day for Chemistry!
URL:https://events.srmap.edu.in/event/expand-your-horizons-with-chemzeal/
LOCATION:APJ Abdul Kalam Auditorium
CATEGORIES:Departmental Events,Events
END:VEVENT
BEGIN:VEVENT
DTSTART;TZID=Asia/Kolkata:20230315T100000
DTEND;TZID=Asia/Kolkata:20230315T123000
DTSTAMP:20260421T184812
CREATED:20230313T052100Z
LAST-MODIFIED:20250806T121337Z
UID:141843-1678874400-1678883400@events.srmap.edu.in
SUMMARY:Combating Plastic Waste Contamination in India
DESCRIPTION:Plastic pollution and contamination is an emerging crisis that has become a major contributor to environmental degradation. Strategic measures with maximum efficacy must be adopted to tackle this increasing challenge. The Department of Environmental Science and Engineering is organising a seminar titled the ‘Scenario of Emerging Pollutant – Microplastics in India: Abundance\, Fate (stability\, mobility\, trophic transfer) and Eco-friendly Remediation’. The seminar will be held on March 15\, 2023. Prof. Gopala Krishna Darbha\, Associate Professor\, IISER\, Kolkata is the keynote speaker of the session. Prof. Darbha will deliver an insightful session on the excessive production of microplastics in India and how the staggering growth of plastic contamination will negatively influence our ecosystem. \nAbstract \nThe global demand for plastics has been increasing continuously because plastics have now become a ubiquitous part of human life. The plastics are easily available at low cost and have the maximum durability properties due to which it is getting very difficult to derail the entire systems of plastics manufacturing and its use. In the last 50 years\, it has been reported that the global production of plastic is 9.1 billion tons\, while the annual rate of plastic production has been continuously increasing by 8.7 %. These plastics generate 274 million tonnes of plastic solid waste\, globally. In India\, approximately 9.4 million tonnes of plastic waste is generated per year\, and 60 % of the plastic waste is recycled while the remaining is either landfilled or left unnoticed. Furthermore\, the current outbreak of the COVID-19 pandemic led to a sudden increase in the production of personal protective equipment (gloves and masks) which adds plastic waste to the terrestrial environment\, and this can cause grievous plastic pollution soon. Microplastics (MPs) are plastic particles which are < 5 mm in diameter. These are estimated by various methods like salt-based density separation\, physical (microscopy)\, and chemical characterisation (spectroscopy). \nJoin the session and learn to combat the microplastic crisis!
URL:https://events.srmap.edu.in/event/combating-plastic-waste-contamination-in-india/
LOCATION:S209\, Level 2\, New Academic Block
CATEGORIES:Departmental Events,ENVS Events,Events
END:VEVENT
BEGIN:VEVENT
DTSTART;TZID=Asia/Kolkata:20230318T160000
DTEND;TZID=Asia/Kolkata:20230318T170000
DTSTAMP:20260421T184812
CREATED:20230314T060600Z
LAST-MODIFIED:20250528T072309Z
UID:141788-1679155200-1679158800@events.srmap.edu.in
SUMMARY:Alumni Talks: Your Way Forward with a BTech in ECE
DESCRIPTION:Are you curious about how and where to pursue higher studies after completing your BTech in ECE? The Directorate of Alumni Affairs and Higher Connect Club of the Department of Electronics and Communication Engineering is organising an Alumni Talk titled “Journey from SRM AP to Higher Studies” on March 18\, 2023. This interactive session will feature three distinguished alumni sharing their experiences and insights on pursuing higher studies after completing their BTech in ECE from SRM University-AP. \nChandanam Sai Nived\, currently pursuing Master’s in VLSI & Embedded Systems at the University of Texas at Dallas\, Pulivarthi Jithendra\, seeking Master’s in VLSI at Illinois Institute of Technology\, and Devarajugattu Jayanth Saikumar\, also pursuing Master’s in VLSI & Embedded System at the University of Texas at Dallas are the speakers for the session. The alumni speakers will share their personal journeys\, including the challenges and opportunities that helped them achieve their goals and secure admissions in the universities of their dreams. \nJoin this informative and inspiring session to actualise your dream of studying abroad.
URL:https://events.srmap.edu.in/event/alumni-talks-your-way-forward-with-a-btech-in-ece/
LOCATION:Zoom
CATEGORIES:Alumni Relations,Departmental Events,ECE,Events
END:VEVENT
BEGIN:VEVENT
DTSTART;TZID=Asia/Kolkata:20230324T090000
DTEND;TZID=Asia/Kolkata:20230324T170000
DTSTAMP:20260421T184812
CREATED:20230323T044200Z
LAST-MODIFIED:20250528T124718Z
UID:142140-1679648400-1679677200@events.srmap.edu.in
SUMMARY:Industry-Academia Workshop
DESCRIPTION:The Department of Physics is organising an Industry-Academia Workshop on March 24\, 2023. The workshop will feature eminent speakers\, both in-person and online for a constructive discourse on the pedagogical method and strategies to be implemented for the Master’s programme in the forthcoming academic year. The programme will be initiated with an introductory talk by Honourable ice Chancellor\, Prof. Manoj K Arora. The agenda of the programme includes discussions on the MSc Physics curricula and ways to make it suitable for the industry track\, discussion on the possibility of industry internships (2-6 months) for the UG and PG students\, discussion and interactive session on hurdles and identification of solutions to strengthen the industry-academia collaboration\, interaction with faculty members and discussing possibilities for consultancy projects and gathering experts’ opinions about the BTech Engineering Physics programme. The workshop will also include a visit to the Research labs at the university. \nAbout the Speakers \n\nDr SK Taher Ali\, PhD\, IIT Kharagpur\, Centre for Materials for Electronics Technology (C-MET)\, Hyderabad\, MeitY\nMr SP Ghosh\, BTech\, Calcutta University\, Consultant: Bufo Innovations Pvt Ltd\, Superannuated from NTPC as GM (Project) on 31. 07.2020\nDr Debashish Mazumdar\, PhD\, IIT Kharagpur\, Former Executive Vice President\, R&D\, Exide Industries Ltd\nDr Arunabh Ghosh\, PhD\, Sungkyunkwan University\, Associate Director\, Battery Innovation Centre (BIC) – OLA Electric Technologies
URL:https://events.srmap.edu.in/event/industry-academia-workshop/
LOCATION:Board Room\, Homi J Bhabha Block
CATEGORIES:Departmental Events,Events,Physics,Workshop
END:VEVENT
BEGIN:VEVENT
DTSTART;TZID=Asia/Kolkata:20230327T100000
DTEND;TZID=Asia/Kolkata:20230327T123000
DTSTAMP:20260421T184812
CREATED:20230324T033600Z
LAST-MODIFIED:20250806T121242Z
UID:141845-1679911200-1679920200@events.srmap.edu.in
SUMMARY:The Impact of Land Use/Land Cover on Water Resources
DESCRIPTION:Land use/cover and climate changes have a great impact on the hydrological processes. To spread more light on the significance of this phenomenon\, the Department of Environmental Science and Engineering is organising a research talk and workshop on March 27\, 2023\, discussing “How Interactions Between Climate and Land Use/ Land Cover Changes Can Affect Water Resources”. Distinguished academician Prof. Alan Ernest Fryar\, Professor\, Department of Earth and Environmental Science\, University of Kentucky\, USA will deliver the session. \nJoin the talk to gain insight into the influence of land use/land cover on water resources! \nAbout the Speaker \nProf. Alan Ernest Fryar is a Professor and Director of Undergraduate Studies at the Department of Earth and Environmental Science\, University of Kentucky\, USA. He has received his PhD in Geology from the University of Alberta in 1992. \nResearch Expertise: \n\nField\, experimental\, and modelling studies of groundwater flow\, mass transport\, and reactions in the subsurface\nGroundwater/stream interactions\nMass transport in karst watersheds\nChemical evolution during groundwater recharge and flow; natural attenuation of contaminants\nWater resources in developing countries\nHistory of hydrogeology\n\nSelected Professional Affiliations: \n\nFellow of the Geological Society of America\nAmerican Geophysical Union\, USA\nAssociation of Women Geoscientists\nThe International Association of Geochemistry\nThe International Association of Hydrogeologists (IAH)\n\nSelected Research Projects Grants: \nIdentifying recharge signals in spring flow on the Shillong Plateau\, Meghalaga\, India\, Fulbright-Kalam Climate Fellowship (Jan 2023- May 2023) \nEarly detection and quantitative risk assessment of microbial contamination in karst basins (A.E. Fryar\, PI; R.T. Dapkus and D.M. Byrne\, co-PIs): Kentucky Water Resources Research Institute\, $10\,001\, Sep. 2021–Aug. 2022. \nIRES Track I: A multi-faceted approach for understanding hydrologic controls on transmission losses in dryland environments (A.M. Milewski [University of Georgia] and A.E. Fryar\, PIs; R. El Kadiri [Middle Tennessee State University]\, C. Garing [University of Georgia]\, and C.D. Hanley\, co-PIs): National Science Foundation\, $299\,908 (UK share $90\,952)\, Sep. 2020–Oct. 2023.
URL:https://events.srmap.edu.in/event/the-impact-of-land-use-land-cover-on-water-resources/
LOCATION:S209\, Level 2\, New Academic Block
CATEGORIES:Departmental Events,ENVS Events,Events
END:VEVENT
END:VCALENDAR