BEGIN:VCALENDAR
VERSION:2.0
PRODID:-//SRMAP Events - ECPv6.15.11//NONSGML v1.0//EN
CALSCALE:GREGORIAN
METHOD:PUBLISH
X-ORIGINAL-URL:https://events.srmap.edu.in
X-WR-CALDESC:Events for SRMAP Events
REFRESH-INTERVAL;VALUE=DURATION:PT1H
X-Robots-Tag:noindex
X-PUBLISHED-TTL:PT1H
BEGIN:VTIMEZONE
TZID:Asia/Kolkata
BEGIN:STANDARD
TZOFFSETFROM:+0530
TZOFFSETTO:+0530
TZNAME:IST
DTSTART:20220101T000000
END:STANDARD
END:VTIMEZONE
BEGIN:VEVENT
DTSTART;TZID=Asia/Kolkata:20230505T120000
DTEND;TZID=Asia/Kolkata:20230505T130000
DTSTAMP:20260421T154107
CREATED:20230504T013400Z
LAST-MODIFIED:20230504T013400Z
UID:142272-1683288000-1683291600@events.srmap.edu.in
SUMMARY:Interaction with US Delegates - Northern Arizona University
DESCRIPTION:Studying abroad provides ample opportunities for students to earn an internationally recognised certification in his or her field of interests. Pursuing academic interests internationally also allows the student to learn more about the different cultures and be exposed to a myriad of other things that might not be possible back home. The Directorate of International Relations and Higher Studies\, SRM University-AP in collaboration with IDP is organising an “Interaction with US delegates from Northern Arizona University” on May 05\, 2023. \nIDP India guides students and their families through the entire study overseas process – university/course selection\, submission of application\, assistance with the visa process and pre-departure planning. \nThe Delegates will provide an insight to students on various subject specialisations and will also prepare students for their stay in the US. \nAbout the Resource Persons \nProfessor Issac Shaffer – Associate Director for School of Informatics Computing and Cyber systems . He has deep interest in Programming and statistics both which he teaches \,with research interest in Bioinformatics. He will be speaking about the M S Computer Science Programme and the M S I T programme. \nDr Ryan Fitch – Assistant Professor of Economics – He has deep interest in Business Analytics and his research focuses on the economics of wildfire suppression and ecosystem services valuation. His line of study and research has led him towards remote sensing and the application of modelling techniques within geo-spatial applications. He will be speaking about the M S in Business Analytics Program. \nCesar Flores – Associate Vice Provost at the Center for International Education. He will be speaking about academic integrity and student success. \nDr Tarang Jain – PT\, PhD\, DPT is an Associate Professor in the Department of Physical Therapy and Athletic Training\, Northern Arizona University at Flagstaff with a PhD in Rehabilitation Science. he is the faculty advisor for the India Student Association of Northern Arizona and the Jacks Cricket Club. He will be speaking about Life in Flagstaff and preparing for your journey to the US. \nJoin the session and explore your possibilities!
URL:https://events.srmap.edu.in/event/interaction-with-us-delegates-northern-arizona-university/
LOCATION:Tiered Classroom\, 5th Floor\, Admin Block
CATEGORIES:Departmental Events,Events,IR-Events
END:VEVENT
BEGIN:VEVENT
DTSTART;TZID=Asia/Kolkata:20230508T140000
DTEND;TZID=Asia/Kolkata:20230508T170000
DTSTAMP:20260421T154107
CREATED:20230505T012900Z
LAST-MODIFIED:20250806T120659Z
UID:141800-1683554400-1683565200@events.srmap.edu.in
SUMMARY:Paving The Way For Next-generation AI
DESCRIPTION:The Department of Electronics and Communication Engineering is organising an interaction for its faculty with the acclaimed academician\, Dr Bharat Ramesh\, Senior Lecturer at International Centre for Neuromorphic Systems\, Western Sydney University\, Australia\, on May 8\, 2023. Dr Ramesh will speak on Neuromorphic Engineering – Paving the way for Next-generation AI. \nAbstract of the talk \nNeuromorphic Engineering is a subfield of Electrical Engineering that aims to apply knowledge of how signals are processed in the brain to build electronic signal processing systems that vastly outperform current digital signal processing systems. Current ‘smart’ sensors are generally sensors with a built-in computer. We aim to develop smart sensors with a built-in brain by combining bio-inspired sensors with bio-inspired signal processing. \nReverse Engineering the Brain – The brain creates a coherent interpretation of the external world based on input from its senses. Yet data from the senses are unreliable and confused. How does the brain determine what is out there in the world around it? Neuromorphic Engineering conducts neurophysiological and psychophysical investigations combined with theoretical\, computational\, and electronic modelling studies to discover how the brain achieves this. The outcomes of this research will then be applied to create intelligent electronic sensors. \nThis talk reviews the fundamentals and properties of neuromorphic sensors and provides a unified view of the main approach taken. Examples are presented to demonstrate the application using a novel setup known as Astrosite. Only about 40% of those satellites are active\, so the potential for disruptions caused by dead satellites and debris in orbit that don’t perform as expected has increased the need to track and monitor objects in space. Western Sydney University has been tackling this problem with bio-inspired (neuromorphic) engineering principles. Using unique event-based sensors on mobile telescopes\, they have demonstrated the ability to capture and track real-time orbital objects day and night. \nAbout the Speaker \nDr Bharath’s primary research interests include pattern recognition and computer vision. His research is centred on event-based cameras for computationally efficient machine learning for problems such as object recognition and related areas such as scene understanding\, face recognition\, and object detection. He has published and reviewed papers at well-known AI/ML conferences. He also serves as a reviewer for top conferences such as the CVPR and journals like Transactions on Image Processing (TIP). He received a BE degree in electrical & electronics engineering from Anna University of India in 2009; an MSc and PhD in electrical engineering from the National University of Singapore in 2011 and 2015\, respectively\, while working at the Control and Simulation Laboratory on Image Classification using Invariant Features. \nTo learn more about this cutting-edge technology\, join the session!
URL:https://events.srmap.edu.in/event/paving-the-way-for-next-generation-ai/
LOCATION:S209\, Level 2\, New Academic Block
CATEGORIES:Departmental Events,ECE,Events
END:VEVENT
BEGIN:VEVENT
DTSTART;TZID=Asia/Kolkata:20230510T150000
DTEND;TZID=Asia/Kolkata:20230510T160000
DTSTAMP:20260421T154107
CREATED:20230504T045900Z
LAST-MODIFIED:20230504T045900Z
UID:142142-1683730800-1683734400@events.srmap.edu.in
SUMMARY:Prof. Prabal Maiti on Complex Molecular Systems
DESCRIPTION:Knowledge acquisition and creation are key to consistent education\, and quality learning is achieved with a constant drive to explore various domains guided by expert mentors. Following this principle\, the Department of Physics is organising an insightful session as part of their Eminent Guest Lecture Series: An Odyssey of Physics on May 10\, 2023. The guest lecture will be delivered by renowned academic and scholar Prof. Prabal K Maiti\, Professor and Head\, Centre for Condensed Matter Theory\, Department of Physics\, Indian Institute of Science\, Bangalore\, on the topic “Multiscale modelling of complex systems”. \nAbstract \nComputer simulations are important scientific tools to understand the emergence of collective properties from chemical structures in complex molecular systems. It has helped us improve our basic understanding and provide calculation tools for the pre-synthesis design and screening of novel materials for various technologies. In this talk\, the speaker will summarise the efforts in understanding the structure and dynamics of confined fluid\, self-assembly and mechanics of various DNA molecules and charge transport in molecular systems. \nJoin the lecture for a resourceful and valuable session!
URL:https://events.srmap.edu.in/event/prof-prabal-maiti-on-complex-molecular-systems/
LOCATION:S209\, Level 2\, New Academic Block
CATEGORIES:Departmental Events,Events,Physics
END:VEVENT
BEGIN:VEVENT
DTSTART;TZID=Asia/Kolkata:20230512T153000
DTEND;TZID=Asia/Kolkata:20230512T170000
DTSTAMP:20260421T154107
CREATED:20230510T001400Z
LAST-MODIFIED:20250806T120544Z
UID:141905-1683905400-1683910800@events.srmap.edu.in
SUMMARY:Subjective Information in Social Science Research: Rationale and Legitimacy
DESCRIPTION:The Department of Economics is organising a special lecture on Subjective Information in Social Science Research: Rationale and Legitimacy on May 12\, 2023\, from 3:30 PM to 5:00 PM. Prof. Rathinasamy Maria Saleth\, a Distinguished Visiting Professor at the Department of Economics\, will deliver the talk. \nAbstract of the talk \nStarting with a brief discussion on different kinds of data or information sources commonly used in social science research\, the presentation then outlines the theoretical logic and practical reasoning for considering “perception” as a legitimate data source for generative valuable subjective or qualitative information. In this respect\, the presentation explains how individuals normally use “adaptive instrumental evaluation” as a tool to organise and synthesise various forms of perceived and observed information and perform a process of ‘mental accounting’ or ‘silent calculation’ so as to derive feasible alternative options or decisions. Such options or decisions are often ranked by checking them against individually derived but generally converging “reference frames”. After providing a few instances where subjective or qualitative information can be the main\, if not the only\, data source for empirical evaluation\, the presentation concludes with a quick review of major methods and survey techniques available for eliciting subjective information. \nAbout the Speaker \nProf. Rathinasamy Maria Saleth is affiliated as an Honorary Professor at the Madras School of Economics\, Chennai. Prior to this\, he has been Director of the Loyola Institute of Business Administration\, Chennai (2014-15) and the Director of the Madras Institute of Development Studies\, Chennai (2009-14). Earlier\, Prof. Saleth has been a Principal Researcher with the International Water Management Institute (IWMI)\, Colombo\, Sri Lanka (2002-2008); Adjunct Professor at South Australian University\, Adelaide\, Australia (2003-06); Professor of Ecological Economics at the Institute for Social and Economic Change\, Bengaluru (2000-2002); Visiting Researcher\, World Bank\, Washington DC (1998); and Professor of Economics at the Institute for Economic Growth\, Delhi (1992-2000). He received his MA from Madurai Kamaraj University\, Madurai (1979)\, MPhil from Jawaharlal Nehru University\, New Delhi (1981)\, and PhD from the University of Illinois\, Urbana-Champaign\, USA (1989). Prof Saleth works in the areas of resource management\, institutional change\, development policy\, and impact assessment and has published three books\, six edited volumes\, and over 100 research papers in journals and edited volumes related to these areas.
URL:https://events.srmap.edu.in/event/subjective-information-in-social-science-research-rationale-and-legitimacy/
LOCATION:W301\, Vikram Sarabhai Block
CATEGORIES:Departmental Events,Economics Events,Events
END:VEVENT
BEGIN:VEVENT
DTSTART;TZID=Asia/Kolkata:20230517T140000
DTEND;TZID=Asia/Kolkata:20230517T153000
DTSTAMP:20260421T154107
CREATED:20230515T230800Z
LAST-MODIFIED:20250806T120521Z
UID:141863-1684332000-1684337400@events.srmap.edu.in
SUMMARY:Distinguished Lecture on Cultures of Innovation
DESCRIPTION:The Department of Liberal Arts is organising an exemplary public lecture by Distinguished Visiting Faculty\, Prof. Haribabu Ejnavarzala. The lecture will be held on May 17\, 2023\, Prof. Haribabu will elaborate on Cultures of Innovation. \nAbstract \nInnovation is a social process that involves transforming an idea or an invention into a product\, process\, or service. One can also include creation of new institutions or a set of rules to establish an organisation as an innovation. The process involves various actors and institutions at different stages of the process. Generally\, innovation ecosystem is used to describe innovation as a system and its interrelated elements. In this lecture I will use the term ‘culture of innovation’ as it is a much broader term that includes values and meanings that are attached to the processes and products of innovation. I will draw up on the cultures of innovation in three countries\, the USA\, China and India to discern how different actors with their knowledge and skill endowments\, and institutions – government\, legal and financial- contribute to the culture of innovation. At present\, sustainability and climate-resilience and equity are important values that must be endorsed and put into the process and products of innovation. \nAbout the Speaker \nProf. Haribabu Ejnavarzala is a treasure house of knowledge\, an academician with over 40 years of experience. He has to his credit 25+ publications and has held several coveted positions like Vice Chancellor In-charge\, Pro-Vice Chancellor and Dean at the University of Hyderabad. He has also worked as a Visiting Professor to several International Universities. His research interests lie in Science Technology and Society Interface\, Science Culture and Society\, Technology Culture and Society. Prof. Haribabu is currently associated with SRM University-AP as a Visiting Professor. \nFor an exceptionally captivating experience\, join now!
URL:https://events.srmap.edu.in/event/distinguished-lecture-on-cultures-of-innovation/
LOCATION:Tiered Classroom\, Level 5\, Vikram Sarabhai Block
CATEGORIES:Departmental Events,Events,Liberal Arts Events
END:VEVENT
BEGIN:VEVENT
DTSTART;TZID=Asia/Kolkata:20230520T100000
DTEND;TZID=Asia/Kolkata:20230520T110000
DTSTAMP:20260421T154107
CREATED:20230517T233900Z
LAST-MODIFIED:20250806T120502Z
UID:142169-1684576800-1684580400@events.srmap.edu.in
SUMMARY:A Career in Forensic Psychology
DESCRIPTION:Forensic psychology is the application of scientific knowledge and methods to help answer legal questions arising in criminal\, civil\, contractual\, or other judicial proceedings. In the UK and the USA forensic science upholds a prominent role in the criminal justice system\, however in India it is yet to gain prominence. In connection to this\, The Department of Psychology is organising an Online Lecture Series: Forensic Psychology: An emerging field. The lecture will be held online on May 20\, 2023. Resource person Krupa Nishar will speak on Forensic Psychology: A career with criminals and police. \nAbout the Speaker \nKrupa Nishar\, a Gold Medallist from Gujarat Forensic Sciences University is a practicing Forensic Psychologist (Freelancing with Sirway Me). She is the Project Director collaborating with the Bureau of Police Research and Development\, MHA for a study titled “A study of factors responsible for recidivism’ in the Prisons of Tihar\, Dasna\, and Bhondsi in the NCR region”. She is also Research Consultant at an international NGO in Mumbai which fights against the issue of Human Trafficking and has been a Resource person at various national and international platforms like IIM Ahmedabad\, St. Xavier’s College Mumbai\, University of Madras TEDx.
URL:https://events.srmap.edu.in/event/a-career-in-forensic-psychology/
LOCATION:Zoom
CATEGORIES:Departmental Events,Events,Psychology
END:VEVENT
BEGIN:VEVENT
DTSTART;TZID=Asia/Kolkata:20230525T140000
DTEND;TZID=Asia/Kolkata:20230525T150000
DTSTAMP:20260421T154107
CREATED:20230523T235100Z
LAST-MODIFIED:20230523T235100Z
UID:142275-1685023200-1685026800@events.srmap.edu.in
SUMMARY:Interaction with the University of Portsmouth
DESCRIPTION:The Directorate of International Relations and Higher Studies is organising a session “Interaction with the University of Portsmouth” on May 25\, 2023. The session will be delivered by Ms Anamika Saxena\, Regional Recruitment Adviser – Sub-continent\, The University of Portsmouth. The interaction will be highly beneficial for students who wish to pursue their higher studies and reputed institutes abroad. \nJoin the talk for an engaging and insightful session on pursuing higher education at the University of Portsmouth!
URL:https://events.srmap.edu.in/event/interaction-with-the-university-of-portsmouth/
CATEGORIES:Departmental Events,Events,IR-Events
END:VEVENT
BEGIN:VEVENT
DTSTART;TZID=Asia/Kolkata:20230526T103000
DTEND;TZID=Asia/Kolkata:20230526T120000
DTSTAMP:20260421T154107
CREATED:20230522T231500Z
LAST-MODIFIED:20250806T120435Z
UID:142171-1685097000-1685102400@events.srmap.edu.in
SUMMARY:Lecture#2 : Forensic Psychology - Insights on Behavioural Evidence Analysis
DESCRIPTION:In an era of increasing crime rates\, forensic science employs Behavioural Evidence Analysis (BEA)\, to unravel the crime and find convicts. Behavioural Evidence Analysis (BEA) is a deductive based strategy that uses evidence to determine the offender’s personality. In relation to this\, The Department of Psychology is conducting the second edition of the Online Lecture Series titled Forensic Psychology: An Emerging Field on May 26\, 2023. The talk will be delivered by Industrial expert\, Dr Amrutha Karayil will expatiate on “The Said and the Unsaid in the Crime Scene: Role of Behavioural Evidence Analysis.” \nAbout the Speaker \nDr Amrutha Karayil is an accomplished academician and an expert in the study of Crimes against Women and Children\, Victimology and Victim Assistance. She holds a PhD from University of Madras in her core research area “Rape Myth Acceptance” and has a Masters Degree in Criminology & Criminal Justice Science (MA) and in English Literature (MA) to her credit. She has numerous certifications in Forensic Medicine\, Forensic Psychology and Forensic Science from SIFS\, Delhi. Dr Karayil’s overseas stint in Victimology from the Tokiwa International Victimology Institute\, Tokiwa University\, Mito\, Japan and Victim Assistance from Dubrovnik University Centre\, Croatia has helped her gain a deeper perspective in her craft. She is an active member at the World Society of Victimology. \nDr Karayil’s position as Teaching faculty at the Tamil Nadu Police Academy\, Vandalur for the New Recruits of DSP batch allows her to share practical\, in-field experience. She also trains faculties for their Diploma in Juvenile Justice and Juvenile Psychology\, offered by the University of Madras. She is a Resource person at Asian as well as the European Post Graduate courses in Victimology.
URL:https://events.srmap.edu.in/event/lecture2-forensic-psychology-insights-on-behavioural-evidence-analysis/
LOCATION:Zoom
CATEGORIES:Departmental Events,Events,Psychology,Webinars
END:VEVENT
BEGIN:VEVENT
DTSTART;TZID=Asia/Kolkata:20230526T160000
DTEND;TZID=Asia/Kolkata:20230526T173000
DTSTAMP:20260421T154107
CREATED:20230525T060000Z
LAST-MODIFIED:20250806T120235Z
UID:142091-1685116800-1685122200@events.srmap.edu.in
SUMMARY:Tech Seminar on Semiconductor\, MEMS and Micro drones
DESCRIPTION:It is imperative for students of engineering and technology to be aware of the new-age tech and its applications that exists in the global platform. The Department of Mechanical Engineering is organising a Department Technical Seminar titled “Semiconductor\, MEMS and Micro drones” on May 26\, 2023. The online session will be delivered by Prof. Lung-Jieh Yang\, Department of Mechanical Engineering\, Tamkang University\, Taiwan. \nAbstract of the Talk \nTaiwan is famous for its semiconductor industry not only key to the electronics business but also strategically important to international politics. The speaker addresses three important research fields in engineering: The IC industry\, MEMS\, and MAVs (the micro drones or micro-air-vehicles). Some MEMS products including inkjet printer\, pressure sensor\, air-bag accelerometer\, projector\, IR imager and drones will be mentioned. Drones or micro air vehicles (MAVs) can effectively extend human physical presence to a longer distance. The ultra-short-range surveillance and the development of Tamkang’s Golden Snitch will also be described. \nAbout the speaker \nProf. Lung-Jieh Yang received his Ph.D. from Institute of Applied Mechanics\, National Taiwan University in 1997 and is currently a professor with Department of Mechanical Engineering\, Tamkang University\, Taiwan. He has published 80 international journal articles and 5 books in the areas of microelectromechanical systems (MEMS) and flapping wing micro-air-vehicles (MAVs).
URL:https://events.srmap.edu.in/event/tech-seminar-on-semiconductor-mems-and-micro-drones/
LOCATION:Zoom
CATEGORIES:Departmental Events,Events,Mechanical Engineering
END:VEVENT
BEGIN:VEVENT
DTSTART;TZID=Asia/Kolkata:20230530T110000
DTEND;TZID=Asia/Kolkata:20230530T130000
DTSTAMP:20260421T154107
CREATED:20230528T221600Z
LAST-MODIFIED:20230528T221600Z
UID:142511-1685444400-1685451600@events.srmap.edu.in
SUMMARY:Open Innovation Challenge - For Budding Entrepreneurs!
DESCRIPTION:The Directorate of Leadership\, Innovation and Entrepreneurship is organising an Open Innovation Challenge on “Green Resolve – Amrit Kaal Adhyay” in association with IndianOil Startup Scheme. Delegates from IndianOil spearheaded by Director-R&D will visit the university on May 30\, 2023\, to meet and interact with Vice Chancellor\, Prof. Manoj K Arora and to create awareness among the student /scholar community of SRM University-AP. The delegates will conduct a Pre-Pitching Session for Students/Scholars/Potential Entrepreneurs\, a Presentation on Startup Green Resolve – Amrit Kaal Adhyay followed by a Q & A session. \nIndianOil has launched the Open Innovation Challenge on “Green Resolve – Amrit Kaal Adhyay” under IndianOil Startup Scheme on March 10\, 2023\, inviting online applications from aspiring innovators / prospective entrepreneurs through the online portal (https://startupfund.indianoil.in). \nJoin to know more about the Innovation Challenge and build a Career as an Entrepreneur!
URL:https://events.srmap.edu.in/event/open-innovation-challenge-for-budding-entrepreneurs/
LOCATION:APJ Abdul Kalam Auditorium
CATEGORIES:Departmental Events,Events,IDEA Events
END:VEVENT
END:VCALENDAR