BEGIN:VCALENDAR
VERSION:2.0
PRODID:-//SRMAP Events - ECPv6.15.11//NONSGML v1.0//EN
CALSCALE:GREGORIAN
METHOD:PUBLISH
X-WR-CALNAME:SRMAP Events
X-ORIGINAL-URL:https://events.srmap.edu.in
X-WR-CALDESC:Events for SRMAP Events
REFRESH-INTERVAL;VALUE=DURATION:PT1H
X-Robots-Tag:noindex
X-PUBLISHED-TTL:PT1H
BEGIN:VTIMEZONE
TZID:Asia/Kolkata
BEGIN:STANDARD
TZOFFSETFROM:+0530
TZOFFSETTO:+0530
TZNAME:IST
DTSTART:20220101T000000
END:STANDARD
END:VTIMEZONE
BEGIN:VEVENT
DTSTART;TZID=Asia/Kolkata:20230601T093000
DTEND;TZID=Asia/Kolkata:20230601T103000
DTSTAMP:20260421T141936
CREATED:20230530T045800Z
LAST-MODIFIED:20250806T120209Z
UID:142173-1685611800-1685615400@events.srmap.edu.in
SUMMARY:A Biological Perspective of Neuropsychiatric Disorders
DESCRIPTION:The Department of Psychology is organising an online Guest lecture titled “The Role of Microglia in neuropsychiatric disorders” on June 01\, 2023. The session will be delivered by Dr Neeraja Revi\, Postdoctoral Research Associate\, Department of Biomedical Sciences\, College of Medicine Rockford\, University of Illinois. Dr Revi will provide insight into the influence of microglia on different psychiatric illnesses. \nAbstract \nThe lecture will discuss microglia\, its interaction with other types of cells in the CNS and its potential role in mental health disorders like anxiety\, depression\, and schizophrenia. A focus will be given to gender-based differences in microglia and its influence. Also\, animal models of these disorders and discoveries regarding the role of microglia in the recent past will be discussed. Overall\, the interaction will be looking into the biological basis of different psychiatric illnesses. \nAbout the Speaker \nDr Neeraja Revi is a postdoctoral research associate at the Blazer nanomedicine lab at the University of Illinois Chicago (UIC). Her primary interest in the lab lies in developing anti-integrin peptide delivery using nanoplatforms as a therapeutic intervention for angiogenesis-related diseases. She is also focused on predicting novel targets of psychedelic compounds and developing targeted drug delivery of such compounds using nanocarriers. She is interested in understanding the microglia polarization properties of these formulations with the view of developing potential therapeutic options for mental health disorders. Prior to joining UIC\, Dr Revi completed her PhD from the Indian Institute of Technology\, Hyderabad and BS-MS dual degree from the Indian Institute of Science Education and Research (IISER)\, Pune. For her doctoral studies\, Dr Revi studied nanomedical approaches for treating neurodegenerative disorders and developing nanotherapeutic interventions for snake envenomation. She has authored multiple research articles in peer-reviewed journals and has also filed for Indian patents for developing nanoformulations for treating Theileria. She has been the recipient of prestigious fellowships like DST INSPIRE from 2010-2015\, DBT BTFS from 2015-2016 and Ministry of Education funding for her PhD studies from 2017-2022.
URL:https://events.srmap.edu.in/event/a-biological-perspective-of-neuropsychiatric-disorders/
LOCATION:Tiered Classroom\, 5th Floor\, Admin Block
CATEGORIES:Departmental Events,Events,Psychology,Webinars
END:VEVENT
BEGIN:VEVENT
DTSTART;TZID=Asia/Kolkata:20230602T113000
DTEND;TZID=Asia/Kolkata:20230602T123000
DTSTAMP:20260421T141936
CREATED:20230531T015800Z
LAST-MODIFIED:20230531T015800Z
UID:141882-1685705400-1685709000@events.srmap.edu.in
SUMMARY:Careers in Molecular Biology and Biotechnology
DESCRIPTION:The Department of Biological Sciences is organising an Industry Expert Lecture Series featuring talks from industry experts from various domains of biology. As part of the series\, a lecture titled “Choosing Biotechnology along with Molecular Biology as a Career” will be delivered by Dr Krishna Rayudu from Sanzyme Biologics Pvt. Ltd. on June 02\, 2023. The talk will highlight industry expectations and skill development for BSc\, MSc\, and PhD students to enter into Biotech Industries. \nJoin the session to gain insight into the scope and opportunities for a successful career in the Biotech industry!
URL:https://events.srmap.edu.in/event/careers-in-molecular-biology-and-biotechnology/
LOCATION:S209\, Level 2\, New Academic Block
CATEGORIES:Biology Events,Departmental Events,Events
END:VEVENT
BEGIN:VEVENT
DTSTART;TZID=Asia/Kolkata:20230605T100000
DTEND;TZID=Asia/Kolkata:20230605T130000
DTSTAMP:20260421T141936
CREATED:20230525T013900Z
LAST-MODIFIED:20250806T120406Z
UID:141848-1685959200-1685970000@events.srmap.edu.in
SUMMARY:A Global Initiative for a Green Earth - #BeatPlasticPollution
DESCRIPTION:World Environment Day is celebrated on June 05 to raise worldwide awareness of pressing environmental issues and initiate action to protect our nature. The theme of World Environment Day 2023 is “Solutions to Plastic Pollution” emphasising the need to combat the climate crisis posed by global plastic pollution. The campaign #BeatPlasticPollution focuses on the steps governments and businesses around the world are taking to tackle plastic pollution and the subsequent consequence of this action. It also highlights the importance of accelerating this action and the transition to a circular economy. \nAs a part of World Environment Day celebrations\, The Department of Environmental Science and Engineering is organising two invited lectures on June 05\, 2023\, by field experts to enlighten on the global solutions to combat plastic pollution. The speakers will expound on ways to manage waste as a resource and local waste management systems and policies. \nJoin the session and work towards a greener tomorrow! \nProgramme details:- \nSpeaker: Dr K V Jayakumar\, Professor\, Department of Civil Engineering\, National Institute of Technology\, Warangal. \nTitle of the talk: “Managing Waste as a Resource“ \n  \nSpeaker: Mr M V Chary\, President – Jindal Urban Waste Management\, Guntur\, Andhra Pradesh \nTitle of the talk: “Municipal Solid Waste Handling and Management” \n  \nProgramme Schedule
URL:https://events.srmap.edu.in/event/a-global-initiative-for-a-green-earth-beatplasticpollution/
LOCATION:Tiered Classroom\, 5th Floor\, Admin Block
CATEGORIES:Departmental Events,ENVS Events,Events,Invited Talks
END:VEVENT
BEGIN:VEVENT
DTSTART;TZID=Asia/Kolkata:20230609T140000
DTEND;TZID=Asia/Kolkata:20230609T153000
DTSTAMP:20260421T141936
CREATED:20230607T235900Z
LAST-MODIFIED:20250806T120151Z
UID:141657-1686319200-1686324600@events.srmap.edu.in
SUMMARY:A Discourse on Digital Transformation
DESCRIPTION:The Department of Computer Science and Engineering (Specialisation – Internet of Things) is organising an Invited Talk by Prof. Rajeev Shorey\, Professor\, Department of CE\, IIT Delhi\, on June 09\, 2023. Prof. Shorey will deliver a session on “Digital Transformation”. \nJoin the talk to experience an insightful session! \nAbout the Speaker \nProf. Shorey received his PhD and MS (Engg) in Electrical Communication Engineering from the Indian Institute of Science (IISc)\, Bangalore\, India in 1997 and 1991 respectively. He received his BE degree in Computer Science and Engineering from IISc\, Bangalore in 1987. He has more than 50 publications in international journals and conferences and several US patents\, all in the area of wireless and wired networks\, to his credit. \nFor his contributions to the area of Communication Networks\, Prof. Shorey was elected Fellow of the Indian National Academy of Engineering in 2007. He is also a Fellow of the Institution of Electronics and Telecommunication Engineers\, India and a Senior Member. Prof\, Shorey has also held various positions\, including President\, NIIT University\, India and Principal Scientist at TCS Research and Innovation\, India. \nProf. Rajeev works in the domains of:- \n\nCommunication Networks\nIoT\n5G\nEdge Computing\nIntersection of Edge and AI/ML\nCybersecurity
URL:https://events.srmap.edu.in/event/a-discourse-on-digital-transformation/
LOCATION:Tiered Classroom\, 5th Floor\, Admin Block
CATEGORIES:CSE Events,Departmental Events,Events,Invited Talks
END:VEVENT
BEGIN:VEVENT
DTSTART;TZID=Asia/Kolkata:20230614T153000
DTEND;TZID=Asia/Kolkata:20230614T170000
DTSTAMP:20260421T141936
CREATED:20230612T041900Z
LAST-MODIFIED:20250806T120122Z
UID:142054-1686756600-1686762000@events.srmap.edu.in
SUMMARY:Mathematical Discourse by Dr Narravula Harshvardhan Reddy
DESCRIPTION:The Department of Mathematics at SRM University-AP is organising an engaging Guest Lecture on June 14\, 2023. Dr Narravula Harshavardhan Reddy will speak on Finite Element Techniques for Thin-shell Deployable Space Structures. \n  \n  \nAbstract \nPart 1: Rotation-free finite element analysis \nWhile the majority of analytical analyses of plates and shells rely on Kirchhoff-Love (KL) formulations put forth for thin plates and shells\, modern finite element formulations draw upon the Reissner-Mindlin (RM) theory for moderately thick shells. The finite element formulations based on RM theory treat translations and rotations as independent variables and are advantageous due to their demand for only C0-continuity of the geometry between elements and the use of relatively simple shape functions. Nonetheless\, RM elements suffer from various locking phenomena such as shear locking and are inefficient in analysing very thin shells. With the emergence of stronger materials like carbon fibre-reinforced composites and the realisation of lightweight structures with extremely small thicknesses\, KL finite element formulations utilising only translations as the degrees of freedom are gaining prominence. This talk discusses two such rotation-free finite element formulations: Onate’s EBST [1] and NURBS-based isogeometric analysis [2] for thin-shell structures. \nPart 2: h-adaptive finite element analysis \nThin-shell deployable structures\, including booms and longerons\, undergo complex deformations such as localised folding and buckling\, and snap-through instabilities. These deformations are often accompanied by moving contact surfaces. Nonlinear Finite element analysis of such behaviours requires highly dense meshes in the regions of interest. Since most of the deployable structures such as booms are very long in one dimension compared to the others\, mesh density must be high throughout the domain of the analysis leading to a high computation cost.The computation cost can be reduced by adapting the mesh to the deformation throughout the geometrically nonlinear analysis. This talk focuses on h-adaptive mesh refinement for thin-shell deployable structures. \nAbout the Speaker \nDr Narravula Harshavardhan Reddy is a resourceful Mathematician and researcher\, who has made significant contributions to the understanding and application of mathematical principles in various domains. His impressive academic foundations in Mechanical Engineering from IIT\, Guwahati and Masters and PhD in Aeronautical Sciences from California Institute of Technology\, Pasadena\, CA backed with his extensive experience of about a decade in the realm is truly inspiring. He has 10 noteworthy publications and 4 distinguished talks to his credit. \nJoin the engaging discourse with Dr Reddy and members of the faculty !
URL:https://events.srmap.edu.in/event/mathematical-discourse-by-dr-narravula-harshvardhan-reddy/
LOCATION:Tiered Classroom\, Level 5\, Vikram Sarabhai Block
CATEGORIES:Departmental Events,Events,Math Events
END:VEVENT
BEGIN:VEVENT
DTSTART;TZID=Asia/Kolkata:20230623T113000
DTEND;TZID=Asia/Kolkata:20230623T123000
DTSTAMP:20260421T141936
CREATED:20230622T232900Z
LAST-MODIFIED:20250623T065824Z
UID:142277-1687519800-1687523400@events.srmap.edu.in
SUMMARY:Malaysia Global Immersion Programme with AIMST University
DESCRIPTION:Global Immersion Programmes are instrumental in formulating trans-border business prospects\, exposure to diverse cultures and constructive exchange of knowledge and perspectives with academic and industry practitioners. The Directorate of International Relations and Higher Studies is organising an “Orientation on AIMST Malaysia Global Immersion Programme” on June 26\, 2023. The session will be delivered by Prof. Dr Kathiresam Sathasivam\, Deputy Vice-Chancellor\, Academic and International Affairs\, AIMST University\, Malaysia. The orientation will provide a detailed overview of the programme highlights and the guaranteed benefits of the immersion programme. \nThe Global Immersion Programme to Malaysia is set to take place from August 03-16\, 2023. The programme aims to provide international and regional knowledge to the participants on global business fronts and relevant research and academic pursuits in novel and subsisting fields. Industrial and field visits showcasing cutting-edge technology\, hands-on experience in emerging domains of technology\, webinars and short courses on a series of topics\, and experiencing the scenery\, local culture and beauty of Malaysia are some of the highlights of the Global Immersion programme.
URL:https://events.srmap.edu.in/event/malaysia-global-immersion-programme-with-aimst-university/
LOCATION:Zoom
CATEGORIES:Departmental Events,Events,IR-Events,Webinars
END:VEVENT
BEGIN:VEVENT
DTSTART;TZID=Asia/Kolkata:20230626T080000
DTEND;TZID=Asia/Kolkata:20230715T170000
DTSTAMP:20260421T141936
CREATED:20230509T051000Z
LAST-MODIFIED:20250728T050828Z
UID:142052-1687766400-1689440400@events.srmap.edu.in
SUMMARY:AIS School on p-adic Methods in Arithmetic
DESCRIPTION:The Department of Mathematics of SRM University-AP\, in collaboration with the National Centre for Mathematics\, is organising an AIS school on p-adic methods in Arithmetic from June 26 to July 15 at the university. Prof. C S Rajan of Ashoka University and Assistant Professors Dr Manish Kumar Pandey and Dr Sazzad Ali Biswas of the Department of Mathematics at SRM University-AP are the convenors of the three-week long programme. \nThe prime focus of the AIS being held at the campus is to study the p-adic numbers and the p-adic methods in arithmetic. Topics covered in the first ten days include absolutes values on fields\, completeness\, construction of the field Q_p of p-adic numbers\, p-adic algebraic number theory\, and the Local-Global Principle. There are also topics from the basic Algebraic Number Theory (e.g.\, Class groups\, Local Fields\, Number Fields\, Cyclotomic fields etc.). In the last eight days of the programme\, the construction of the p-adic zeta function\, Modular Forms\, Iwasawa’s construction of P-adic L-functions and the main conjecture of Iwasawa Theory\, applications of p-adic numbers\, and open problems will be discussed. \nNational Centre for Mathematics is a joint centre of IIT Bombay and TIFR\, Mumbai. The purpose of AIS schools is to provide training in core subjects in Mathematics to PhD students\, young researchers\, and teachers. The emphasis in these schools is on learning mathematics by doing it. IIT Bombay and TIFR jointly established the National Centre for Mathematics (NCM) in 2011. The instructional schools and workshops planned by an NBHM committee on ATM Schools are now being organised under the supervision of the Apex Committee of the NCM. The objective is to organise quality schools that help researchers and teachers and enjoyably learn advanced mathematics. \n Download the flyer here!
URL:https://events.srmap.edu.in/event/ais-school-on-p-adic-methods-in-arithmetic/
CATEGORIES:Conferences,Departmental Events,Math Events
END:VEVENT
END:VCALENDAR