BEGIN:VCALENDAR
VERSION:2.0
PRODID:-//SRMAP Events - ECPv6.15.11//NONSGML v1.0//EN
CALSCALE:GREGORIAN
METHOD:PUBLISH
X-WR-CALNAME:SRMAP Events
X-ORIGINAL-URL:https://events.srmap.edu.in
X-WR-CALDESC:Events for SRMAP Events
REFRESH-INTERVAL;VALUE=DURATION:PT1H
X-Robots-Tag:noindex
X-PUBLISHED-TTL:PT1H
BEGIN:VTIMEZONE
TZID:Asia/Kolkata
BEGIN:STANDARD
TZOFFSETFROM:+0530
TZOFFSETTO:+0530
TZNAME:IST
DTSTART:20220101T000000
END:STANDARD
END:VTIMEZONE
BEGIN:VEVENT
DTSTART;TZID=Asia/Kolkata:20230908T160000
DTEND;TZID=Asia/Kolkata:20230908T170000
DTSTAMP:20260421T091614
CREATED:20230907T234500Z
LAST-MODIFIED:20230907T234500Z
UID:142281-1694188800-1694192400@events.srmap.edu.in
SUMMARY:Pursue your Masters at Texas A&M University
DESCRIPTION:SRM University-AP collaborates with reputed institutions worldwide to provide opportunities to its students to pursue their higher studies in the field of their choice. Under the aegis of the Directorate of International Relations and Higher Studies\, representatives of universities from around the globe are invited to interact with students\, offering guidance to choose a university catering to their area of research and scholarship and support for applying to the same. \nA seminar titled “Insights of Texas A&M University\, San Antonio” is being organised on September 08\, 2023\, to inform students on why choose Texas A&M University for their Masters education. The session will be delivered by Ankita Chaturvedi\, an International student recruitment and marketing expert. She is an accomplished Student Recruitment Professional with expertise in the SEA region\, working with Global destinations such as Europe/USA/Singapore/Ireland/Canada. \nJoin the talk and learn about the unique programmes offered by Texas A&M University!
URL:https://events.srmap.edu.in/event/pursue-your-masters-at-texas-am-university/
LOCATION:ALC 1\, Homi J Bhabha Block
CATEGORIES:Departmental Events,Events,IR-Events
END:VEVENT
BEGIN:VEVENT
DTSTART;TZID=Asia/Kolkata:20230912T120000
DTEND;TZID=Asia/Kolkata:20230912T130000
DTSTAMP:20260421T091614
CREATED:20230908T052400Z
LAST-MODIFIED:20250806T115948Z
UID:141945-1694520000-1694523600@events.srmap.edu.in
SUMMARY:How to Ace Your Job Interviews: Hear from an HR Consulting Expert
DESCRIPTION:Communication has been an integral part of one’s day-to-day existence and it wouldn’t be too wrong to say that your communication skills can both make or break your future. Effective communication is key to success in all aspects of life\, especially when it comes to cracking job interviews. The Paari School of Business has initiated a seminar titled “Facing Company Interviews and the Role of Communication” on September 12\, 2023. Mr Suresh S\, who has been the Ex-Chief HR Officer of many top-notch companies like Nissan\, Titan and Hyundai\, will be delivering the lecture for all BBA and MBA students. \nDon’t miss the opportunity to hear from the expert! \nAbout the Speaker \nMr S Suresh is a postgraduate in Personnel Management and Industrial Relations from the Madras School of Social Work and has been in the HR Profession for over 4 decades. He completed his Bachelor in Law and a PG Diploma in Management. He has served prominent companies like GEC Alsthom\, Titan Watches\, Hyundai Motors\, Orchid Pharma\, Renault Nissan\, Hinduja Foundries etc.\, and has been in ReGen Powertech\, Chennai in the Renewable Energy sector for the past 10 years as Head – HR and more recently as a Consultant – HR. He has handled all aspects of HR including Talent Acquisition\, Induction\, Training of personnel in all positions\, Performance Management Systems\, Payroll\, Industrial Relations\, Statutory Compliance\, and Strategic HR including working in Green Field and Brown Field Multi-National Companies and has reported to the top management of most of the companies. \nHe has also been a Guest Faculty at many institutions including the Management Development Department of IIT\, Madras\, Madras School of Social Work etc. He has also conducted several Inter-Collegiate Quiz competitions through NIPM\, Madras Chapter in which he was also a committee member. He is also a Life Member of the Indian Society for Training and Development\, Chennai ( ISTD ). He was a member of the Group Study Exchange programme of Rotary International which visited Mindanao District of the Philippines for 4 weeks. He was the President of the Rotary Club of Madras Coromandel and is currently a Consultant – HR for some leading companies in and around Chennai in the areas of Recruitment\, Training\, Industrial Relations etc.
URL:https://events.srmap.edu.in/event/how-to-ace-your-job-interviews-hear-from-an-hr-consulting-expert/
LOCATION:APJ Abdul Kalam Auditorium
CATEGORIES:Departmental Events,Events,Management Events
END:VEVENT
BEGIN:VEVENT
DTSTART;TZID=Asia/Kolkata:20230915T150000
DTEND;TZID=Asia/Kolkata:20230915T163000
DTSTAMP:20260421T091614
CREATED:20230914T053300Z
LAST-MODIFIED:20250806T115930Z
UID:141947-1694790000-1694795400@events.srmap.edu.in
SUMMARY:Performance Management with Brillio
DESCRIPTION:The Paari School of Business hosts interactive and insightful sessions to provide management students ample knowledge on various domains. A guest talk featuring Ms Ritu Sharma\, leader\, mentor\, and coach is being organised on September 15\, 2023. Ms Sharma will speak on “Performance Management: Learning How Employees’ Performance is Managed Strategically by Brillio”. \nJoin the session and learn the tricks and tips of the trade! \nAbout the Speaker \nMs Ritu Sharma has 20+ years of experience working in the talent acquisition and HR business partner space. She has diversified experience working in industry sectors like Consulting\, IT\, ITES\, Product Development\, and Engineering Services. She has been exclusively working on Campus Hiring roles covering all types of academic institutions – B-Schools\, Engineering\, Graduate colleges\, CA campuses etc. for the past 8 years.
URL:https://events.srmap.edu.in/event/performance-management-with-brillio/
LOCATION:Tiered Classroom\, 5th Floor\, Admin Block
CATEGORIES:Departmental Events,Events,Management Events
END:VEVENT
BEGIN:VEVENT
DTSTART;TZID=Asia/Kolkata:20230920T150000
DTEND;TZID=Asia/Kolkata:20230920T160000
DTSTAMP:20260421T091614
CREATED:20230919T005900Z
LAST-MODIFIED:20230919T005900Z
UID:142282-1695222000-1695225600@events.srmap.edu.in
SUMMARY:Gain Perspective with our Semester Abroad Programme
DESCRIPTION:The Directorate of International Relations & Higher Studies at SRM University-AP is organising a seminar on the “Semester Abroad Programme” to be held on September 20\, 2023. \nThe Semester Abroad Programme is a unique proposition offered at SRM AP that makes it stand out amongst other universities. The varsity’s collaboration with prestigious universities worldwide enables it to offer its top-ranking second and third-year students to pursue their semester abroad. The programme offers students exposure to different cultures and a platform not only for gaining more profound knowledge in their core competencies but also for understanding and appreciating the pressing issues faced by society. \nJoin the seminar to gain insights into the programme\, and let your international dreams take flight!
URL:https://events.srmap.edu.in/event/gain-perspective-with-our-semester-abroad-programme/
LOCATION:ALC 1\, Homi J Bhabha Block
CATEGORIES:Departmental Events,Events,IR-Events
END:VEVENT
BEGIN:VEVENT
DTSTART;TZID=Asia/Kolkata:20230920T150000
DTEND;TZID=Asia/Kolkata:20230920T163000
DTSTAMP:20260421T091614
CREATED:20230919T010100Z
LAST-MODIFIED:20230919T010100Z
UID:142146-1695222000-1695227400@events.srmap.edu.in
SUMMARY:Prof. R P Singh on Qubit and Quantum Mechanics
DESCRIPTION:The Department of Physics is organising the tenth edition of the “Eminent Guest Lecture Series: An Odyssey of Physics” on September 20\, 2023. The eminent lecture will be delivered by Prof. R P Singh\, Physical Research Laboratory\, Ahmedabad who will expound on the topic “Beyond Qubit” and the advantages of developing the quantum system in laboratories for efficient usage. \nJoin the session for an exciting and insightful lecture on Quantum Mechanics! \nAbstract \nA qubit is a two-state quantum-mechanical system\, one of the simplest exhibiting the peculiarity of quantum mechanics\, for example\, the polarization state of a photon. However\, there are quantum systems which can exist in infinite states\, such as the orbital angular momentum (OAM) state of a photon. One can go further and instead of choosing quantum mechanical systems with discrete variables like polarization and OAM\, could consider using quantum systems with continuous variables such as position and momentum or field quadratures. We will discuss creating these quantum systems in the lab and harnessing them to our advantage.
URL:https://events.srmap.edu.in/event/prof-r-p-singh-on-qubit-and-quantum-mechanics/
LOCATION:Tiered Classroom\, 5th Floor\, Admin Block
CATEGORIES:Departmental Events,Events,Physics
END:VEVENT
BEGIN:VEVENT
DTSTART;TZID=Asia/Kolkata:20230922T100000
DTEND;TZID=Asia/Kolkata:20230922T110000
DTSTAMP:20260421T091614
CREATED:20230920T042100Z
LAST-MODIFIED:20250806T115914Z
UID:141588-1695376800-1695380400@events.srmap.edu.in
SUMMARY:Exploring Sustainable Advancements in Transportation Engineering
DESCRIPTION:The Department of Civil Engineering is organising an Industry Guest Lecture by Mr Kota Sitaramanjaneyulu\, Former Chief Scientist and Professor at CSIR-Central Road Research Institute (CRRI) and the Academy of Scientific and Innovative Research on September 22\, 2023. Mr K Sitaramanjaneyulu will elucidate on “Sustainable Advancements in Road Construction Industry” emphasising topics such as Milled materials for granular bases (pilot case study) and Advanced materials and technologies for the construction and maintenance of roads. \nJoin the session and gain perspective on transportation engineering! \nAbout the Speaker \nMr Kota Sitaramanjaneyulu is a Former Chief Scientist and Professor at CSIR-Central Road Research Institute (CRRI) and the Academy of Scientific and Innovative Research. He has a Bachelor’s degree from Bangalore University and Masters from BITS-Philani. He has over 32 years of professional work experience with CRRI until his retirement in July 2021. His areas of expertise are highway engineering covering quality control and technical inspection; pavement design; pavement performance evaluation; pavement maintenance and management. He has held many prestigious positions such as member secretary\, convener\, and member on several IRC technical committees during his tenure at CRRI. He has over 50 publications in national and international journals and conferences. He was also involved as project coordinator\, project leader and team member in multiple R&D and consultancy projects relating to Pavement Performance\, Investigation of Road Failures\, Technical Audit and Third-party Quality Assurance/Audit of Road Projects\, Structural and Functional Evaluation of Pavements and Maintenance Management aspects. He was awarded the Medal for Best Paper on Road Research (Instituted by Bihar PWD) by the Indian Roads Congress during the 72nd Annual Session\, 2011 held at Lucknow for the Research Paper entitled “Critical Evaluation of Roadway Capacity of Multi-Lane Speed Corridors under Heterogeneous Traffic Condition through Traditional and Microscopic Simulation Models”.
URL:https://events.srmap.edu.in/event/exploring-sustainable-advancements-in-transportation-engineering/
LOCATION:Tiered Classroom\, 5th Floor\, Admin Block
CATEGORIES:Civil Engg events,Departmental Events,Events
END:VEVENT
BEGIN:VEVENT
DTSTART;TZID=Asia/Kolkata:20230923T170000
DTEND;TZID=Asia/Kolkata:20230923T180000
DTSTAMP:20260421T091614
CREATED:20230922T033400Z
LAST-MODIFIED:20250528T123856Z
UID:142367-1695488400-1695492000@events.srmap.edu.in
SUMMARY:Ace your Coding Interview with our Alumni!
DESCRIPTION:Success is truly remembered when you help others achieve the same. The Directorate of Alumni Relations manifests this statement by organising interactive sessions with our distinguished alumni who have succeeded in various domains of interest. These engagements help build good networks\, constructive mentorship and guidance for their future careers. \nOn this note\, an online Alumni Talk on “How to Succeed in Global Careers: Tips for Cracking Coding Interviews” is being organised on September 23\, 2023. The session will be delivered by Mohit Kumar (BTech CSE 2023) who has been placed at Volante Systems\, Canada as a Software Developer. Our expert alumni will share tips and tricks on how to ace a coding interview and land the job of your dreams.
URL:https://events.srmap.edu.in/event/ace-your-coding-interview-with-our-alumni/
LOCATION:Zoom
CATEGORIES:Alumni Relations,Departmental Events,Events,Webinars
END:VEVENT
BEGIN:VEVENT
DTSTART;TZID=Asia/Kolkata:20230926T140000
DTEND;TZID=Asia/Kolkata:20230926T150000
DTSTAMP:20260421T091614
CREATED:20230925T003800Z
LAST-MODIFIED:20250806T115847Z
UID:141949-1695736800-1695740400@events.srmap.edu.in
SUMMARY:Significance of AI in Marketing and Business
DESCRIPTION:The business domain is a highly evolving and dynamic sector that utilises modern-day tools and technology to propel various fields including marketing and branding. The Paari School of Business is organising a guest talk on September 26\, 2023\, titled “AI and Generative AI-Powered Marketing” by Mr Laxminarayanan G\, Senior Vice President and Global Delivery Head of Polestar Solutions. The session will delve into the significance and impact of AI-powered marketing on the management sector. \nJoin the session for an insightful lecture! \nAbout the Speaker \nMr Laxminarayanan G is an experienced management consultant with extensive experience in providing AI\, Analytics and Digital Marketing consulting to many Fortune 500 companies over the last 16 years. He has played leadership roles in various firms including Deloitte and PwC. He is a management graduate from IIM Lucknow and has a postgraduate diploma in AI/ML. He is also a visiting faculty in IIM Kolkata\, IIM Lucknow and IIM Amritsar engaged in teaching modern-day tools and techniques to students. He has been associated with several top b schools in mentoring and teaching students in the AI and marketing domain. He is also an avid speaker at different industry forums and a regular guide to several MSMEs through CII and NASSCOM.
URL:https://events.srmap.edu.in/event/significance-of-ai-in-marketing-and-business/
LOCATION:Tiered Classroom\, 5th Floor\, Admin Block
CATEGORIES:Departmental Events,Events,Management Events
END:VEVENT
BEGIN:VEVENT
DTSTART;TZID=Asia/Kolkata:20230926T153000
DTEND;TZID=Asia/Kolkata:20230926T163000
DTSTAMP:20260421T091614
CREATED:20230925T041700Z
LAST-MODIFIED:20250806T115806Z
UID:141951-1695742200-1695745800@events.srmap.edu.in
SUMMARY:Kanchan Khera Delibrates on Entrepreneurship: An Adventure With A Purpose
DESCRIPTION:In the current society\, individuals who are capable of creating or providing job opportunities are highly valued over job seekers. However an entrepreneur’s job is precarious\, it tends to push one’s limits and can be both exciting and perilous at the same time\, making an entrepreneur nothing short of an adventurer! In the words of Peter Drucker\, an Austrian-American management consultant\, educator\, and author\, “the entrepreneur constantly searches for change\, responds to it and exploits it as an opportunity”. Tune in to Ms Kanchan Khera as she speaks on Entrepreneurship: An Adventure With A Purpose organised by Paari School of Business on September 26\, 2023. \nAbout the Speaker \nMs Kanchan Khera is the CEO and founder of Zykrr\, a cutting-edge technology company that is transforming the way we think about experience management. Ms Khera’s professional journey began at McKinsey & Company\, one of the world’s leading management consulting firms\, where she led the Global Survey Solutions team along with managing a portfolio of digital products and solutions. She honed her expertise in digital\, strategy\, operations\, and organizational design\, working closely with top executives and industry leaders. \nAt Zykrr\, Kanchan is leading a team of talented developers\, designers\, and experienced specialists\, all working together to create solutions that drive meaningful business outcomes. With a deep understanding of technology and a passion for delivering exceptional customer experiences\, Kanchan is revolutionising the way we think about experience management and helping businesses around the world unlock the full potential of their customer relationships.
URL:https://events.srmap.edu.in/event/kanchan-khera-delibrates-on-entrepreneurship-an-adventure-with-a-purpose/
LOCATION:Tiered Classroom\, 5th Floor\, Admin Block
CATEGORIES:Departmental Events,Events,Management Events
END:VEVENT
END:VCALENDAR