BEGIN:VCALENDAR
VERSION:2.0
PRODID:-//SRMAP Events - ECPv6.15.11//NONSGML v1.0//EN
CALSCALE:GREGORIAN
METHOD:PUBLISH
X-ORIGINAL-URL:https://events.srmap.edu.in
X-WR-CALDESC:Events for SRMAP Events
REFRESH-INTERVAL;VALUE=DURATION:PT1H
X-Robots-Tag:noindex
X-PUBLISHED-TTL:PT1H
BEGIN:VTIMEZONE
TZID:Asia/Kolkata
BEGIN:STANDARD
TZOFFSETFROM:+0530
TZOFFSETTO:+0530
TZNAME:IST
DTSTART:20220101T000000
END:STANDARD
END:VTIMEZONE
BEGIN:VEVENT
DTSTART;TZID=Asia/Kolkata:20231007T160000
DTEND;TZID=Asia/Kolkata:20231007T170000
DTSTAMP:20260421T072945
CREATED:20231004T041700Z
LAST-MODIFIED:20250806T115701Z
UID:142369-1696694400-1696698000@events.srmap.edu.in
SUMMARY:Balancing Academics with Extracurriculars
DESCRIPTION:Co-curricular and Co-scholastic activities/courses play a significant role in the holistic development of students at SRM University-AP. The Directorate of Alumni Relations is organising an online Alumni Talk on “Balancing Academics with Extracurriculars at SRM University-AP” on Saturday\, October 07\, 2023 from 04.00 to 05.00 PM IST through Zoom. Our distinguished alumnus\, Raghupathruni Pavan Krishna (Class of 2021 BTech CSE)\, currently working as a Software Engineer at the Bank of America\, will be the speaker for the session. \nTune in now to hear how to balance your academics with your extracurricular activities and lead a positive and productive learning journey!
URL:https://events.srmap.edu.in/event/balancing-academics-with-extracurriculars/
LOCATION:Zoom
CATEGORIES:Alumni Relations,Departmental Events,Events,Webinars
END:VEVENT
BEGIN:VEVENT
DTSTART;TZID=Asia/Kolkata:20231011T140000
DTEND;TZID=Asia/Kolkata:20231011T153000
DTSTAMP:20260421T072945
CREATED:20231004T034800Z
LAST-MODIFIED:20250623T062205Z
UID:141953-1697032800-1697038200@events.srmap.edu.in
SUMMARY:Entrepreneurship: Be the Game-changers of the Global World
DESCRIPTION:The Paari School of Business is organising a seminal lecture for budding entrepreneurs titled “Entrepreneurship: Nurturing Innovation\, Profitability and Business Growth” on October 11\, 2023. The session will be delivered by Dr Gaurav Arora\, Global Entrepreneur at Enhance (Luxury Hospitality and Tourism Representation). Dr Arora is a seasoned professional with two decades of rich experience in the hospitality & tourism industry. He has worked with some of the best & leading 5-star Hotel brands in India & abroad and is currently chasing his passion for entrepreneurship as a successful global entrepreneur in the international hospitality and tourism space. \nLearn from the maestro on how entrepreneurs are changing the game in every domain! \nLast date for registration – October 08\, 2023.
URL:https://events.srmap.edu.in/event/entrepreneurship-be-the-game-changers-of-the-global-world/
LOCATION:APJ Abdul Kalam Auditorium
CATEGORIES:Departmental Events,Events,Management Events
END:VEVENT
BEGIN:VEVENT
DTSTART;TZID=Asia/Kolkata:20231012T110000
DTEND;TZID=Asia/Kolkata:20231012T120000
DTSTAMP:20260421T072945
CREATED:20231011T040600Z
LAST-MODIFIED:20250526T131014Z
UID:141542-1697108400-1697112000@events.srmap.edu.in
SUMMARY:Towards Renewable and Sustainable Energy Storage Devices
DESCRIPTION:With the stellar increase in energy demands and the consequent crisis of environmental degradation\, there is a predominant need for sustainable renewable energy storage systems. To enlighten further on this matter\, The Department of Chemistry is organising a Guest Lecture on “Ultrathin\, 2D large area transition metal hydroxide film for charge storage and water splitting” by Dr Manav Saxena\, Centre for Nano & Material Sciences\, JAIN (Deemed-to-be University). The session is scheduled to be held on October 12\, 2023\, and will explicate the development of ultrathin charge storage devices as an alternate source of storage and conversion systems. \nJoin the session to learn more about the recent advancements in renewable energy storage systems! \nAbstract \nThe ever-increasing energy demands and growing environmental pollution have triggered enormous attention toward developing sustainable renewable energy storage and conversion systems. Large-area\, ultrathin two-dimensional (<20 nm) nanostructures of electrode material could be effective for electrochemical and electrocatalytic purposes due to their abundant active sites\, high specific surface area\, and ultrathin thickness\, which facilitates shortening the ion diffusion length. \nHowever\, small lateral size\, non-uniformity and defect formation during the synthesis hinder the device’s performance. To date\, very few endeavours have been made to synthesize large-area nanosheets. However\, the lateral size of this nanosheet is less than 1 mm and smaller than other 2D materials\, which generates fabrication challenges and consequently affects the performance of real devices. Herein\, we developed the ultrathin\, large-area\, freestanding\, and non-layered transition metal hydroxide (Co\, Ni\, Mo) nanosheet and its Van der Waals heterostructures grown at a water-air interface via an oven-based wet chemical synthesis method at low temperature. This work offers a competitive route towards a rational design and the development of ultrathin charge storage devices and high-performance OER electrocatalysts.
URL:https://events.srmap.edu.in/event/towards-renewable-and-sustainable-energy-storage-devices/
CATEGORIES:Departmental Events,Events
END:VEVENT
BEGIN:VEVENT
DTSTART;TZID=Asia/Kolkata:20231012T113000
DTEND;TZID=Asia/Kolkata:20231012T123000
DTSTAMP:20260421T072945
CREATED:20231011T044700Z
LAST-MODIFIED:20250806T115736Z
UID:141884-1697110200-1697113800@events.srmap.edu.in
SUMMARY:Unravelling Mysteries of Gender-Specific Gene Regulation with Dr Prasanna Kumar
DESCRIPTION:Department of Biological Sciences is organising an insightful discourse into the fascinating world of Molecular Biology. The session will explore the “Role of Insulin-Regulated Transcription Factor FoxK1 in Males and Females” by our guest speaker\, Dr Prasanna Kumar Reddy Allu\, on October 12\, 2023. He will unravel the complexities of FoxK1\, a key player in the intricate machinery of insulin regulation\, and how its functions differ between males and females. \nLet’s delve into the captivating world of Molecular Biology. \nAbout the Speaker \nDr Prasanna Kumar Reddy Allu is a research scientist at Harvard Medical School\, USA. He has ten years of research experience in metabolism\, brown fat\, and cardiovascular research. Dr Kumar was ranked AIR-18 for Master of Technology (Biotechnology) in the Jawaharlal Nehru University Exam for Biotechnology conducted by Jawaharlal Nehru University\, New Delhi and has received a Junior/Senior Research Fellowship from the University Grants Commission (UGC) and Council of Scientific & Industrial Research (CSIR) for pursuing Doctoral study. The American Heart Association (AHA) also awarded Dr Kumar a post-doctoral fellowship.
URL:https://events.srmap.edu.in/event/unravelling-mysteries-of-gender-specific-gene-regulation-with-dr-prasanna-kumar/
LOCATION:Tiered Classroom\, 5th Floor\, Admin Block
CATEGORIES:Biology Events,Departmental Events,Events,Invited Talks
END:VEVENT
BEGIN:VEVENT
DTSTART;TZID=Asia/Kolkata:20231012T150000
DTEND;TZID=Asia/Kolkata:20231012T160000
DTSTAMP:20260421T072945
CREATED:20231010T055800Z
LAST-MODIFIED:20250526T131014Z
UID:141540-1697122800-1697126400@events.srmap.edu.in
SUMMARY:Nobel Lecture in Chemistry - Delve into the World of Quantum Dots!
DESCRIPTION:On the declaration of the Noble Prize in Chemistry 2023: “for the discovery and synthesis of quantum dots\, the Department of Chemistry feels is organising Noble and Ig Noble Lecture Series. The Department is hosting the first captivating intellectual odyssey by Dr Sabyasachi Chakrabortty\, Associate Professor\, Department of Chemistry on October 12\, 2023. Dr Chakrabortty will deliver the lecture on “The Colourful World of Quantum Dots.” This session promises to be a thought-provoking exploration of the fascinating realm where quantum physics and nanotechnology converge opening up new horizons in science and technology. \nPrepare to be enthralled as we delve into the microscopic world of quantum dots\, where the properties of matter behave in ways that challenge our understanding of the physical universe. Let us journey through the vibrant and diverse landscape of these nanoscale wonders. \nJoin now for an illuminating session! \nAbstract \nQuantum dots (QDs)\, nanoscale semiconductor particles\, have emerged as a fascinating field of research and application due to their unique synthesis methods\, remarkable properties\, and diverse range of applications. These tiny nanoparticles\, typically in the range of 2 to 10 nanometers\, exhibit size-tunable emission spectra\, a property arising from quantum confinement effects\, making them invaluable in many fields such as display technology\, medical imaging\, catalysis\, renewable energies and so on. In this talk\, the journey so far for QDs and the limitless possibilities they offer for the future will be discussed. The future is bright – it can range from flexible electronics\, tiny sensors\, thinner solar cells to encrypted quantum communication.
URL:https://events.srmap.edu.in/event/nobel-lecture-in-chemistry-delve-into-the-world-of-quantum-dots/
LOCATION:APJ Abdul Kalam Auditorium
CATEGORIES:Departmental Events,Events
END:VEVENT
BEGIN:VEVENT
DTSTART;TZID=Asia/Kolkata:20231016T103000
DTEND;TZID=Asia/Kolkata:20231016T123000
DTSTAMP:20260421T072945
CREATED:20231013T051300Z
LAST-MODIFIED:20250806T115541Z
UID:142093-1697452200-1697459400@events.srmap.edu.in
SUMMARY:Prof. Pant Delivers Lecture and Workshop on Lighter-than-Air System
DESCRIPTION:An esteemed academician and a seasoned expert in the Lighter-Than-Air (LTA) system\, Prof. Rajkumar S Pant from the prestigious Indian Institute of Technology\, Bombay\, will be delivering a University Distinguished Lecture. The lecture about “The Design and Development of Lighter Than Air Systems”\, the lecture will be followed by a workshop on “Sizing of Reusable Indoor Hot Air Balloon” (RIHAB). The Department of Mechanical Engineering’s initiative in organising the event will provide valuable insights to the university’s new-age engineers. \nAbout the Speaker \nProf. Rajkumar S Pant has been a member of the faculty of the Aerospace Engineering Department at the Indian Institute of Technology Bombay since December 1989. He has also worked for five years in Hindustan Aeronautics Limited in the Design & Engineering Department at Kanpur (3.5 years) and Nasik (1.5 years) Divisions. Prof. Pant is an alumnus of the College of Aeronautics\, Cranfield University\, UK\, where he earned his PhD under the Commonwealth Scholarship Scheme\, and IIT Madras\, where he did his Masters in Aeronautical Engineering. \nProf. Pant was honoured with the Lifetime Achievement Award for outstanding advancement of the Art and Science of Buoyant Flight by the Lighter-than-Air Technical Committee of the American Institute of Aeronautics & Astronautics on 14 June 2023. He also won the Uttarakhand Science Pioneer Award at the 17th State Science Congress of Uttarakhand held in February 2023. He has won three awards for excellence in teaching at IIT Bombay\, viz.\, Departmental Award for Excellence in Teaching in 2022\, Hotchand and Jamunabai Lala Teaching Award in 2021\, and D P Joshi Excellent Teacher Award in 2014. He received the Special Recognition in Academic Excellence (Faculty-National category) award from the Institution of Engineers (India) in January 2021. In 2019\, he was felicitated by the Institution of Engineers (India) as an Eminent Engineering personality in Aerospace Engineering. \nAbstract of the Talk \nLighter-than-air (LTA) systems are aerial platforms that overcome gravity primarily by the buoyancy force acting on them due to a lighter-than-air gas (e.g.\, Hydrogen or Helium)\nenclosed in their envelopes. Design development and flight testing of prototypes of several LTA systems have been conducted at the Lighter-Than-Air Systems Laboratory of IIT Bombay for nearly two decades. The aim of this talk is to discuss the latest developments in the area of conceptual design\, sizing\, design\, development and flight/field testing of LTA Systems. The talk will also showcase some of the research and development activities that have been carried out in the LTA Systems Laboratory of IIT Bombay. \nJoin the lecture for an enriching learning experience!
URL:https://events.srmap.edu.in/event/prof-pant-delivers-lecture-and-workshop-on-lighter-than-air-system/
LOCATION:ALC 1\, Homi J Bhabha Block
CATEGORIES:Departmental Events,Events,Mechanical Engineering,University Distinguished Lecture
END:VEVENT
BEGIN:VEVENT
DTSTART;TZID=Asia/Kolkata:20231017T160000
DTEND;TZID=Asia/Kolkata:20231017T173000
DTSTAMP:20260421T072945
CREATED:20231016T053800Z
LAST-MODIFIED:20250806T115513Z
UID:142284-1697558400-1697563800@events.srmap.edu.in
SUMMARY:Crafting Dreams and Future through IR Workshop
DESCRIPTION:Oftentimes\, our dreams of pursuing higher studies abroad remain only a distant dream owing to the lack of awareness or even the possibility of being rejected due to a not-so-very professional statement of purpose. But not anymore! The Directorate of International Relations and Higher Studies at SRM University-AP is organising a workshop titled\, “Crafting an Enthusiastic Statement & Virtual Global Apprenticeship Initiative” on October 17\, 2023. \nThe initiative will enable aspiring students to pursue their higher studies abroad. \nAbout the Speakers \nJeeva Mathew is the Head of Strategy & Growth at Belong Education\, where he plays a pivotal role in shaping the company’s strategic direction for business growth and organisational development. His mission at Belong Education is to empower talent by enabling them to build tangible proof-of-work through industry-integrated experiences. \nMr Mathew brings a wealth of expertise to his current role. His previous endeavours include a significant stint at Plaksha University\, where he spearheaded outreach and admissions for the Plaksha Technology Leaders Program—a prestigious 1-year PGP program focusing on technology and leadership. Prior to that\, various programs at the Info Edge Centre for Entrepreneurship\, situated within Ashoka University – a Liberal Arts and Sciences University in India. \nMr Soumyo Duttagupta\, Chief Mentor Jamboree has 20+ years of leadership experience in the field of Education. He has been building and growing businesses\, leading large academic and operations teams\, teaching PG courses\, and advising students and their parents. He has held CXO roles in K12 schools\, Universities\, and Career and College Admission advisory organisations. His prior experience in the consumer product and automobile space to build brands\, has enabled him to recruit and nurture talent. \nMr Soumyo has counselled and guided numerous students from high schools and undergraduate colleges as well as early-career professionals from India and abroad to find the right courses and colleges for higher education and helped them get admissions to top Universities for Undergraduate and Postgraduate courses. \nJoin the session to learn more and pursue your higher education dreams!
URL:https://events.srmap.edu.in/event/crafting-dreams-and-future-through-ir-workshop/
LOCATION:Tiered Classroom\, 5th Floor\, Admin Block
CATEGORIES:Departmental Events,Events,International Relations,IR-Events
END:VEVENT
BEGIN:VEVENT
DTSTART;TZID=Asia/Kolkata:20231018T160000
DTEND;TZID=Asia/Kolkata:20231018T170000
DTSTAMP:20260421T072945
CREATED:20231018T002700Z
LAST-MODIFIED:20250806T115440Z
UID:141850-1697644800-1697648400@events.srmap.edu.in
SUMMARY:Decoding the Climate Crisis with Distinguished Academician\, Prof. Hesham Ali El-Enshasy
DESCRIPTION:The Department of Environmental Science and Engineering is organising an ECO TALK: Global Expert Lecture Series inviting renowned academicians\, field experts and researchers to disseminate their valuable knowledge in the field of environmental sciences. The first lecture of the series scheduled on October 18\, 2023 will witness international guest speaker and distinguished academician\, Prof. Dr rer. Nat. Hesham Ali El-Enshasy as the keynote speaker. Prof. Enshasy\, who is currently the Director – Institute of Bioproduct Development (IBD)\, a Professor at Bioprocess Engineering School of Chemical and Energy Engineering and a Faculty of Engineering at the Universiti Teknologi Malaysia (UTM) will deliver an online session on the topic\, “Impact of Climate Change on Food Security and Human Health”. \n 
URL:https://events.srmap.edu.in/event/decoding-the-climate-crisis-with-distinguished-academician-prof-hesham-ali-el-enshasy/
LOCATION:Zoom
CATEGORIES:Departmental Events,ENVS Events,Events
END:VEVENT
BEGIN:VEVENT
DTSTART;TZID=Asia/Kolkata:20231019T143000
DTEND;TZID=Asia/Kolkata:20231019T163000
DTSTAMP:20260421T072945
CREATED:20231018T050600Z
LAST-MODIFIED:20250806T115418Z
UID:141955-1697725800-1697733000@events.srmap.edu.in
SUMMARY:Tracing the Path from Operational Excellence to Transformation
DESCRIPTION:The Paari School of Business is organising a captivating guest lecture by Mr Prashanth Koduganty\, Sr Director Operations from Optum Global Solutions\, on the intriguing topic “Around Journey from Operational Excellence to Transformation.” Prepare to embark on an exploration of innovation strategy and the dynamic landscape of change on October 19\, 2023. The session will shed light on the evolving dynamics of operational excellence and the path to true transformation. In an era where adaptability and innovation are paramount\, this lecture promises to be an illuminating guide for businesses and individuals alike. \nJoin the session to explore new horizons and unlock the keys to organizational success! \nAbout the Speaker \nMr Prashanth Koduganty is a Senior Director in a leading US-based health care and well-being company. He graduated from the Liverpool Business School with a Master’s in Business Administration. Mr Prashanth has 20+ years of work experience and is an accomplished Digital Transformation and Lean Six Sigma Leader with a remarkable history of merging Lean Six Sigma principles with cutting-edge technology to drive impactful organisational change. Adept at orchestrating seamless digital transitions while optimising processes for efficiency\, quality\, and customer satisfaction\, he is recognised for exceptional problem-solving skills\, strategic vision\, and an unwavering commitment to continuous improvement.
URL:https://events.srmap.edu.in/event/tracing-the-path-from-operational-excellence-to-transformation/
LOCATION:Tiered Classroom\, 5th Floor\, Admin Block
CATEGORIES:Departmental Events,Events,Management Events
END:VEVENT
BEGIN:VEVENT
DTSTART;TZID=Asia/Kolkata:20231019T160000
DTEND;TZID=Asia/Kolkata:20231019T170000
DTSTAMP:20260421T072945
CREATED:20231018T011800Z
LAST-MODIFIED:20250526T131015Z
UID:141544-1697731200-1697734800@events.srmap.edu.in
SUMMARY:Unlocking the Future: Advancements Towards mRNA-Based Vaccines
DESCRIPTION:In a constantly evolving world\, we believe in celebrating those groundbreaking moments in science that shape our future. The Department of Chemistry organises the 2nd lecture of the Nobel & Ig Nobel Lecture Series–2023 on the “Steps Towards the Development of mRNA-Based Vaccines“. The lecture will delve into the cutting-edge advancements in developing mRNA-based vaccines with a session by Dr Sateesh E\, Department of Chemistry\, on October 19\, 2023. This remarkable scientific achievement holds the potential to transform healthcare and the session will explore it from all angles. \nStay tuned for thought-provoking discussions\, exciting discoveries\, and a glimpse into the minds of some of the most brilliant and unconventional thinkers in the field! \nAbstract \nThe Nobel Prize in Medicine in 2023 was awarded for the breakthrough discovery of nucleoside modifications in mRNA to develop effective mRNA-based vaccines. Their investigation for mRNA vaccine in the place of the conventional vaccine was hampered by the fact that in vitro synthesised mRNAs caused inflammation\, whereas the cell-synthesized mRNAs did not elicit any inflammatory response. However\, the inflammatory reaction was reduced when modified nucleosides were included in the mRNAs. This unravelled mystery of the reduced inflammation by the modified mRNA has led to the Nobel Prize-winning discovery that paved the way to develop effective mRNA vaccines against COVID-19 that saved millions of lives. This talk will discuss the journey towards the development of mRNA vaccines and their potential for the development of future vaccines and therapeutics.
URL:https://events.srmap.edu.in/event/unlocking-the-future-advancements-towards-mrna-based-vaccines/
LOCATION:APJ Abdul Kalam Auditorium
CATEGORIES:Departmental Events,Events
END:VEVENT
BEGIN:VEVENT
DTSTART;TZID=Asia/Kolkata:20231030T140000
DTEND;TZID=Asia/Kolkata:20231030T160000
DTSTAMP:20260421T072945
CREATED:20231027T033500Z
LAST-MODIFIED:20250806T115356Z
UID:141802-1698674400-1698681600@events.srmap.edu.in
SUMMARY:Unveiling the Future of Biomedical Imaging with Prof. Naren Naik
DESCRIPTION:The Department of Electronics and Communication Engineering is pleased to introduce an exciting and enlightening talk by the esteemed Prof. Naren Naik\, a distinguished authority in Electrical Engineering from IIT Kanpur on October 30\, 2023 that promises to push the boundaries of biomedical imaging and research. Prof. Naik will explore the captivating realm of “Dynamic Shape-Based Biomedical Tomographic Reconstruction Algorithms.” This topic represents a cutting-edge fusion of engineering and medicine\, offering remarkable insights into the future of healthcare and diagnostics. \nPrepare to embark on a journey through the intricate world of tomographic reconstruction\, where mathematical algorithms and shape dynamics converge to transform how we visualize and understand the human body. Prof. Naik’s expertise and pioneering research in this field will unveil a world of possibilities and innovations that are set to shape the future of biomedical imaging. \nJoin to unlock the secrets of dynamic shape-based biomedical tomographic reconstruction algorithms! \nAbout the Speaker \nProf. Naren Naik specialises in the modelling and reconstruction algorithms for tomographic imaging. He is a Professor in the Department of Electrical Engineering and the Centre of Lasers and Photonics at Indian Institute of Technology\, Kanpur. His major application thrust in the past few years has been in functional biomedical imaging with fluorescence optical and photoacoustic tomography\, as well as electrical impedance and impedance-acoustic tomography. \nAbstract of the Talk \nTomography (coming from the Greek (tomos = slice) is the science of computationally quantitatively obtaining (“reconstructing”) the internal structure of a medium of interest from the data obtained by the interaction of an interrogating signal with the medium. It is an inverse problem where computational signal processing frameworks work together with the physics of radiation-matter interaction to yield the desired interior properties of objects of interest. The talk will first aim to introduce the basic ideas involved in biomedical tomographic imaging with an emphasis on optical-based modalities. The reconstruction problem is defined and classified\, and the algorithmic framework to solve it is discussed. We will then discuss solutions we have developed for dynamic reconstruction problems in a straight path (a dynamic boundary problem) and pharmacokinetic fluorescence photoacoustic (static boundary but time-varying states) tomographies. The latter problem in pharmacokinetic Imaging has vital applications in early cancer detection and metabolic imaging.
URL:https://events.srmap.edu.in/event/unveiling-the-future-of-biomedical-imaging-with-prof-naren-naik/
LOCATION:Tiered Classroom\, 5th Floor\, Admin Block
CATEGORIES:Departmental Events,ECE,Events,Invited Talks
END:VEVENT
END:VCALENDAR