BEGIN:VCALENDAR
VERSION:2.0
PRODID:-//SRMAP Events - ECPv6.15.11//NONSGML v1.0//EN
CALSCALE:GREGORIAN
METHOD:PUBLISH
X-ORIGINAL-URL:https://events.srmap.edu.in
X-WR-CALDESC:Events for SRMAP Events
REFRESH-INTERVAL;VALUE=DURATION:PT1H
X-Robots-Tag:noindex
X-PUBLISHED-TTL:PT1H
BEGIN:VTIMEZONE
TZID:Asia/Kolkata
BEGIN:STANDARD
TZOFFSETFROM:+0530
TZOFFSETTO:+0530
TZNAME:IST
DTSTART:20220101T000000
END:STANDARD
END:VTIMEZONE
BEGIN:VEVENT
DTSTART;TZID=Asia/Kolkata:20231109T100000
DTEND;TZID=Asia/Kolkata:20231109T113000
DTSTAMP:20260421T055534
CREATED:20231108T001000Z
LAST-MODIFIED:20250806T115334Z
UID:141590-1699524000-1699529400@events.srmap.edu.in
SUMMARY:Guest Talk  on “Road Construction and Issues - Critical Review”
DESCRIPTION:The Department of Civil Engineering at SRM University-AP is thrilled to announce that Mr K Nayeemulla\, the Engineer-in-Chief (R&B) MDR Govt. of Andhra Pradesh\, Vijayawada\, will be the esteemed guest speaker for the upcoming 2nd Industry Guest Lecture on “Road Construction and Issues – Critical Review” scheduled to be held on November 09\, 2023. The lecture promises to be insightful and informative\, covering a wide range of topics related to road construction and maintenance. Mr Nayeemulla will also discuss pilot projects on FDP and waste plastic roads in Andhra Pradesh\, providing valuable insights and perspectives on these innovative initiatives. \nThe event is a must-attend for students of civil engineering and road construction! \nAbout the Speaker \nMr K Nayeemulla completed his bachelor’s degree in Civil Engineering from JNTU\, Anantapur\, and his Master’s in Structural Engineering from IISc Bangalore. He also holds an MBA degree from Osmania University\, Hyderabad. In the early days of his career\, Mr Nayeemulla worked as a software engineer at MS Idea Pvt. Ltd\, Bangalore\, and as a lecturer at various colleges\, including BMS College of Engineering\, one of the prestigious colleges in Bangalore. He joined Andhra Pradesh R&B in 1993 as a deputy executive engineer on direct recruitment and has since worked in several roles\, such as Executive Engineer\, Superintending Engineer\, and Chief Engineer\, over 30 years. He actively participates in many prestigious technical forums organised by the Indian Road Congress and CSIR-Centra Road Research Institute (CRRI). His noteworthy achievements in his career include his contributions in obtaining sanctions to the state of AP from NABARD. He works as an Engineer-in-Chief (R&B) MDR\, Government of Andhra Pradesh\, Vijayawada.
URL:https://events.srmap.edu.in/event/guest-talk-on-road-construction-and-issues-critical-review/
LOCATION:S209\, Level 2\, New Academic Block
CATEGORIES:Civil Engg events,Departmental Events,Events
END:VEVENT
BEGIN:VEVENT
DTSTART;TZID=Asia/Kolkata:20231125T100000
DTEND;TZID=Asia/Kolkata:20231125T173000
DTSTAMP:20260421T055534
CREATED:20231124T032400Z
LAST-MODIFIED:20231124T032400Z
UID:142286-1700906400-1700933400@events.srmap.edu.in
SUMMARY:Celebrating the Myriad Hues of Culture!
DESCRIPTION:As an interdisciplinary and inclusive institute of repute\, SRM University-AP is all set to celebrate our international students on International Students’ Day! Under the aegis of the Directorate of International Relations and Higher Studies\, a festive programme is being organised on November 25\, 2023. Exciting performances from our global students showcasing the cultures\, traditions and art forms of their countries await this grand ceremony. \nJoin and participate as we weave our diverse tapestry and celebrate cultures across the world!
URL:https://events.srmap.edu.in/event/celebrating-the-myriad-hues-of-culture/
LOCATION:Tiered Classroom\, 5th Floor\, Admin Block
CATEGORIES:Departmental Events,Events,IR-Events
END:VEVENT
BEGIN:VEVENT
DTSTART;TZID=Asia/Kolkata:20231129T140000
DTEND;TZID=Asia/Kolkata:20231130T160000
DTSTAMP:20260421T055534
CREATED:20231129T014100Z
LAST-MODIFIED:20250806T115256Z
UID:141907-1701266400-1701360000@events.srmap.edu.in
SUMMARY:Seminar by Distinguished Academician Prof. Rathinasamy Maria Saleth
DESCRIPTION:The Department of Economics is inviting Distinguished Visiting Professor\, Prof. Rathinasamy Maria Saleth for two esteemed seminars on novel topics of social relevance. Prof. Saleth will talk on “Climate Change\, Water\, and Adaptation” on November 29\, 2023\, and “Social Science Research: Theories\, Models\, and Empirical Analysis” on November 30\, 2023. \nJoin the sessions and gain insights from the seasoned academician! \nAbout the Speaker \nProf. Rathinasamy Maria Saleth is currently a Distinguished Visiting Professor at the Department of Economics\, Easwari School of Liberal Arts\, SRM University-AP. He is regularly affiliated as an Honorary Professor at the Madras School of Economics\, Chennai. \nProf. Saleth received his MA from Madurai Kamaraj University\, Madurai (1979)\, MPhil from Jawaharlal Nehru University\, New Delhi (1981)\, and PhD from University of Illinois\, Urbana-Champaign\, USA (1989). He works in the areas of water resource management\, institutional change\, development policy\, and impact assessment and has published three books\, six edited volumes\, and over 100 research papers in journals and edited volumes related to these areas. \nProf. Saleth has also won awards for some of his papers\, books\, and works from professional organisations such as the Indian Society of Agricultural Economics\, the American Water Resources Association\, the International Water Association\, and the University of South Australia. He has also been a consultant to the World Bank\, Food and Agriculture Organisation\, Asian Development Bank\, UN Economic and Social Council for the Asia and the Pacific\, and UN Environment Programme. \nTalk 1: Climate Change\, Water\, and Adaptation \nAbstract: This presentation covers the nature and magnitude of the impacts of climate change on water resources and possible coping and adaptation options both from global and national perspectives. The presentation starts with a discussion on the leading causes of climate change\, especially the cumulative effects of global warming caused by greenhouse gases and related environmental consequences from human-induced economic activities and ecological disturbances. It\, then\, shows how the impacts of climate change are manifested both at the global and national scale in terms of the spatial and temporal patterns of precipitation and water availability and the resultant implications for water\, agriculture\, and economy. Although climate change is caused essentially by non-hydrological factors\, the water sector continues to be the main medium through which most of its impacts are transmitted to the agricultural sector in particular and other economic sectors in general. As such\, it is but natural for the adaptation/coping strategies also to be designed at the point of the impacted sectors\, though\, admittedly\, general mitigation strategies go far beyond these sectors. The presentation\, finally\, concludes by delineating feasible adaptation strategies for the water sector\, which include not just demand management options but also supply management avenues\, especially those involving institutional changes and infrastructural developments. \nTalk 2: Social Science Research: Theories\, Models\, and Empirical Analysis \nAbstract: This presentation covers the theoretical\, methodological\, and empirical aspects of social science research\, especially from the perspective of young research scholars. It starts with a discussion on the nature\, rationale\, features\, and types of building blocks of social science theories. After an analytical description of three broad types of models\, i.e.\, simple\, interactive\, and path-based models\, the presentation provides concrete illustrations\, particularly for the interactive and path-based models using a few empirical case studies. These illustrative case studies will show how to conceptualize\, operationalize\, and empirically evaluate the research problems in different contexts. The presentation\, finally\, concludes with the discussion on some of the additional methodological\, practical\, and data-related aspects of importance in social science research.
URL:https://events.srmap.edu.in/event/seminar-by-distinguished-academician-prof-rathinasamy-maria-saleth/
LOCATION:Tiered Classroom\, 5th Floor\, Admin Block
CATEGORIES:Departmental Events,Economics Events,Events
END:VEVENT
END:VCALENDAR