BEGIN:VCALENDAR
VERSION:2.0
PRODID:-//SRMAP Events - ECPv6.15.11//NONSGML v1.0//EN
CALSCALE:GREGORIAN
METHOD:PUBLISH
X-WR-CALNAME:SRMAP Events
X-ORIGINAL-URL:https://events.srmap.edu.in
X-WR-CALDESC:Events for SRMAP Events
REFRESH-INTERVAL;VALUE=DURATION:PT1H
X-Robots-Tag:noindex
X-PUBLISHED-TTL:PT1H
BEGIN:VTIMEZONE
TZID:Asia/Kolkata
BEGIN:STANDARD
TZOFFSETFROM:+0530
TZOFFSETTO:+0530
TZNAME:IST
DTSTART:20230101T000000
END:STANDARD
END:VTIMEZONE
BEGIN:VEVENT
DTSTART;TZID=Asia/Kolkata:20241107T113000
DTEND;TZID=Asia/Kolkata:20241107T173000
DTSTAMP:20260420T100546
CREATED:20241106T045800Z
LAST-MODIFIED:20241106T045800Z
UID:141853-1730979000-1731000600@events.srmap.edu.in
SUMMARY:E-Waste Quest 2024: Embracing Sustainability in the Digital Age
DESCRIPTION:In recent years\, the growing reliance on electronic devices has led to significant challenges in its waste management\, particularly concerning discarded items like mobile phones\, chargers\, batteries\, and wires. E-Waste Quest 2024\, an event that will align with ‘Generation Green’ Campaign organised by OPPO India and the All-India Council for Technical Education (AICTE)\, is set for launch on campus on November 07\, 2024. The event will highlight pressing issues and provide participants with the knowledge and tools needed to make responsible choices regarding their electronic waste. \nE-Waste Quest 2024 will feature a series of informative sessions\, and engaging discussions and poster presentation competitions. Attendees can expect to learn about the environmental impact of e-waste\, the importance of recycling\, and actionable steps they can take to contribute to a cleaner and greener planet. \nJoin us at E-Waste Quest 2024 to be part of this vital conversation on sustainability and advocate for a better tomorrow. \n  \nMedia Coverage for the Event
URL:https://events.srmap.edu.in/event/e-waste-quest-2024-embracing-sustainability-in-the-digital-age/
LOCATION:APJ Abdul Kalam Auditorium
CATEGORIES:Departmental Events,ENVS Events,Events
END:VEVENT
BEGIN:VEVENT
DTSTART;TZID=Asia/Kolkata:20241122T140000
DTEND;TZID=Asia/Kolkata:20241122T160000
DTSTAMP:20260420T100546
CREATED:20241119T050800Z
LAST-MODIFIED:20250527T085255Z
UID:141598-1732284000-1732291200@events.srmap.edu.in
SUMMARY:Lecture on Airport Pavement Materials and Design
DESCRIPTION:The Department of Civil Engineering is thrilled to announce an upcoming Industry Guest Lecture titled “Airport Pavement Materials and Design\,” featuring Mr A Ramalingeswara Rao\, Associate Vice President of Navi Mumbai International Airport Pvt Ltd. The webinar is set to take place on November 22\, 2024. \nThe session offers participants insights into various aspects of airport infrastructure\, including the interplay between airfield designs and highways. Mr Rao will delve into critical topics such as Pavement Classification Rating (PCR) Testing and Runway Friction Testing\, providing attendees with a deeper understanding of the methodologies that ensure the safety and efficiency of airport operations. Additionally\, the lecture will cover the concept of expedient pavements\, addressing their importance in modern aviation. \nThis event is an excellent opportunity for prospective as well as current students\, professionals\, and anyone interested in transportation engineering to learn from an expert in the field. Join the lecture for an enriching experience in the realm of civil engineering.
URL:https://events.srmap.edu.in/event/lecture-on-airport-pavement-materials-and-design/
LOCATION:x 206
CATEGORIES:Civil Engg events,Departmental Events,Events
END:VEVENT
END:VCALENDAR