BEGIN:VCALENDAR
VERSION:2.0
PRODID:-//SRMAP Events - ECPv6.15.11//NONSGML v1.0//EN
CALSCALE:GREGORIAN
METHOD:PUBLISH
X-ORIGINAL-URL:https://events.srmap.edu.in
X-WR-CALDESC:Events for SRMAP Events
REFRESH-INTERVAL;VALUE=DURATION:PT1H
X-Robots-Tag:noindex
X-PUBLISHED-TTL:PT1H
BEGIN:VTIMEZONE
TZID:Asia/Kolkata
BEGIN:STANDARD
TZOFFSETFROM:+0530
TZOFFSETTO:+0530
TZNAME:IST
DTSTART:20240101T000000
END:STANDARD
END:VTIMEZONE
BEGIN:VEVENT
DTSTART;TZID=Asia/Kolkata:20250307T090000
DTEND;TZID=Asia/Kolkata:20250308T170000
DTSTAMP:20260420T034720
CREATED:20250303T045200Z
LAST-MODIFIED:20250623T061936Z
UID:141915-1741338000-1741453200@events.srmap.edu.in
SUMMARY:A Two-Day Workshop on Applied Econometrics
DESCRIPTION:The Department of Economics\, Easwari School of Liberal Arts is organising a Two-day Workshop on “Applied Econometrics: Leveraging with Software and Database” on March 07-08\, 2025. This workshop aims to provide participants with a robust understanding of Econometrics\, emphasising theoretical foundations and practical applications using STATA or R. \nThe workshop will also explore Time Series\, Cross-Sectional\, and Panel Data methodologies with hands-on experience in databases. \nThe workshops aim to ensure that participants will: \n\nStrengthen their understanding of Econometrics principles.\nGain hands-on experience with data analysis using STATA/R.\nLearn to effectively apply econometric techniques in real-world scenarios.\n\nTarget Audience – Academicians\, Research Scholars\, Data Analysts\, and practitioners in Economics\, Commerce\, Management and related disciplines. \nResource Persons: \nDr Anandarao Suvvari\, IIT Goa: Expertise in Econometrics and STATA/R \nDr Mohan Rao Balaga\, IIT Dharwad: Specialist in Time Series Analysis and STATA/R \nDr Pratap C Mohanty\, IIT Roorkee: Specialist in Cross Sectional Data and STATA/R \nDr Vineesh Prakash\, SRM University-AP: Specialist in Panel Data and STATA/R
URL:https://events.srmap.edu.in/event/a-two-day-workshop-on-applied-econometrics/
LOCATION:Tiered Classroom\, 5th Floor\, Admin Block
CATEGORIES:Departmental Events,Economics Events,Events
END:VEVENT
BEGIN:VEVENT
DTSTART;TZID=Asia/Kolkata:20250312T100000
DTEND;TZID=Asia/Kolkata:20250312T140000
DTSTAMP:20260420T034720
CREATED:20250522T051300Z
LAST-MODIFIED:20250522T051300Z
UID:142110-1741773600-1741788000@events.srmap.edu.in
SUMMARY:Industry Visit to Dr Narla Tata Rao Thermal Power Station
DESCRIPTION:The Department of Mechanical Engineering is organising an industrial visit to Dr Narla Tata Rao Thermal Power Station on March 12\, 2025. Dr Chandan Kumar and Dr Manjesh Kumar\, faculty coordinators at the department\, will accompany the students during the visit. \nThe Industrial visit aims to provide the B.Tech and M.Tech students more hands-on experience and exposure while also allowing them to observe firsthand the sustainable methods used in the sector. \nStudents will be able to explore various operational aspects of the power plant\, including boiler operations\, turbine functioning\, coal handling and environmental management techniques. They also have the opportunity to directly interact and learn from the experts and observe practical demonstrations of the thermal plants’ functioning.
URL:https://events.srmap.edu.in/event/industry-visit-to-dr-narla-tata-rao-thermal-power-station/
CATEGORIES:Departmental Events,Events,Mechanical Engineering
END:VEVENT
BEGIN:VEVENT
DTSTART;TZID=Asia/Kolkata:20250319T150000
DTEND;TZID=Asia/Kolkata:20250319T170000
DTSTAMP:20260420T034720
CREATED:20250318T014000Z
LAST-MODIFIED:20250806T113845Z
UID:141836-1742396400-1742403600@events.srmap.edu.in
SUMMARY:The Delhi Metro Story: Hear from Mr Sekh Samim\, Delhi Metro Rail Corporation Ltd
DESCRIPTION:The Department of Electrical and Electronics Engineering is organising a Departmental Guest Lecture on March 19\, 2025. Mr Sekh Samim\, Deputy-Chief Architect\, Delhi Metro Rail Corporation Ltd\, India will deliver the guest session. \nTitle of the Talk: The Delhi Metro Story \nAbout the Speaker: \nMr Sekh Samim brings over 12 years of experience as a Transportation Architect\, specialising in Mass Rapid Transit System projects\, primarily with Delhi Metro Rail Corporation Ltd. His expertise spans the design and execution of underground and elevated metro stations\, depots\, and auditoriums for projects like Delhi Metro Phase-III & IV\, Kochi Metro\, Jaipur Metro\, and Mumbai Metro. \nHe has played a key role in implementing Building Information Modeling (BIM) at Delhi Metro\, ensuring sustainability\, innovation\, and streamlined transit-oriented development. Currently\, he is leading the design and execution of property developments for more than 144 metro stations\, along with projects like the Automatic People Movers at Central Vista\, New Delhi\, and Multi-Modal Integration initiatives. \nMr Samim holds a B.Arch. from NIT Trichy and a Postgraduate Diploma in Metro Rail Technology and Management from IIT Delhi. He is also a member of the Council of Architecture (COA)\, Indian Green Building Council (IGBC)—LEED AP\, and ASHRAE. \nTime: 3:00 PM \nMode: Online \nPasscode: 993911 \nAll faculty\, research scholars\, and students are encouraged to attend this session and gain valuable insights into the future of the automobile industry.
URL:https://events.srmap.edu.in/event/the-delhi-metro-story-hear-from-mr-sekh-samim-delhi-metro-rail-corporation-ltd/
LOCATION:Zoom
CATEGORIES:Departmental Events,EEE,Events
END:VEVENT
BEGIN:VEVENT
DTSTART;TZID=Asia/Kolkata:20250326T140000
DTEND;TZID=Asia/Kolkata:20250326T153000
DTSTAMP:20260420T034720
CREATED:20250324T233100Z
LAST-MODIFIED:20250806T113827Z
UID:141971-1742997600-1743003000@events.srmap.edu.in
SUMMARY:Management Lessons from Tata Group
DESCRIPTION:The Department of Management at SRM University-AP is organising a guest lecture on\, “Management Lessons from Tata Group”. The lecture will delve into effective management policies and strategies of the Tata Group\, a conglomerate known for not just its diverse business interests but also its successful and effective management strategies making it an ideal case study for aspiring managers and business leaders. The lecture will be delivered by seasoned management expert and strategist Mr Ajay Majumdar. \nAbout the Speaker: \nMr Ajay Majumdar is an accomplished industry leader and academic with extensive experience in Human Resource Management\, Industrial Engineering\, and Organisational Development. His career spans over three and half decades across leading corporations like Tata Motors\, Hindustan Motors\, Bata India\, and leading news & media conglomerate Anandabazar Group. Mr Majumdar holds a Master of Technology degree in Industrial Engineering & Management from the Indian Institute of Management\, Mumbai (formerly NITIE\, Mumbai). He has also worked as Visiting Faculty at leading Management institutes such as XLRI\, Jamshedpur\, Indian Institute of Social Welfare & Business Management (IISWBM)\, Kolkata\, Praxis Business School\, Kolkata and Calcutta Business School\, Kolkata. His specialisations include Operations Management\, HR\, Organizational Design\, Leadership\, and Compensation Strategy. Mr Majumdar has also authored notable books titled Numerical Examples in Operations Research\, and Jibonpurer Pathik\, a book in Bengali. \nThe Department looks forward to welcoming all to be a part of the insightful lecture.
URL:https://events.srmap.edu.in/event/management-lessons-from-tata-group/
LOCATION:C-503\, C V Raman Block
CATEGORIES:Departmental Events,Events,Management Events
END:VEVENT
BEGIN:VEVENT
DTSTART;TZID=Asia/Kolkata:20250328T090000
DTEND;TZID=Asia/Kolkata:20250328T170000
DTSTAMP:20260420T034720
CREATED:20250307T031600Z
LAST-MODIFIED:20250728T052857Z
UID:141856-1743152400-1743181200@events.srmap.edu.in
SUMMARY:Unite for Sustainability: ESE-2025 Awaits You!
DESCRIPTION:The Department of Environmental Science and Engineering and the Directorate of Admissions are jointly organising the Environmental Sustainability Exhibition (ESE-2025) on March 28\, 2025. \nESE-2025 serves as an exceptional platform for undergraduate students from universities across India to share their innovative ideas and initiatives aimed at building a sustainable future. This event provides a unique opportunity to explore groundbreaking concepts\, collaborate with like-minded peers\, network with academic and industry leaders\, and actively contribute to the global mission of sustainability. \nKey Events: \n\nPresentations: Through exhibiting model demonstration\, Posters\, Power-point\, or video presentations\nHands-on Training: As part of this exhibition\, hand-on experience with sophisticated instruments will be provided\nCampus and laboratory visits: Explore state-of-the-art facilities at various laboratories in SRM University-AP and explore possible collaborative works\nPrizes and Certificates: Awarding excellence in various categories\n\nExciting Rewards & Opportunities: \n\nCash prizes (₹20\,000/-\, ₹15\,000/- and ₹10\,000/- for first three winners).\nCash prizes up to ₹5\,000/- for securing positions from 4 to 10.\nTravel (Train Fare up to 3-Tier AC) reimbursement for participants.\nFood and accommodation during Exhibition\nExhibition kit and Participation Certificate\nHands-on experience in environmental analysis.\n\nMark Your Calendar – Key Dates: \nRegistration Start Date: February 01\, 2025 \nRegistration Closing Date: March 20\, 2025 \nOpen For: \n\nUndergraduate Students (B.Sc. Environmental Science/relevant/allied subjects\, B.Tech. Civil/Environmental Engineering/ relevant/allied subjects) and faculty members\nEnvironmental Organizations\nSustainable Technology Developers\n\nJoin the Green Revolution – Registration Details: \n\nStudent Participants (For Each): ₹500/-\nOrganisations/Industry/Consultancy Exhibitors: ₹5000/-\n\nRegistration Link for Students – Click \nRegistration Link for Faculty/Others – Click \nScan for payment –  \nFor more details\, click to download the brochure  \nMedia Coverage for the Event
URL:https://events.srmap.edu.in/event/unite-for-sustainability-ese-2025-awaits-you/
CATEGORIES:Admission Events - Domestic,Departmental Events,ENVS Events,Events
END:VEVENT
END:VCALENDAR