BEGIN:VCALENDAR
VERSION:2.0
PRODID:-//SRMAP Events - ECPv6.15.11//NONSGML v1.0//EN
CALSCALE:GREGORIAN
METHOD:PUBLISH
X-WR-CALNAME:SRMAP Events
X-ORIGINAL-URL:https://events.srmap.edu.in
X-WR-CALDESC:Events for SRMAP Events
REFRESH-INTERVAL;VALUE=DURATION:PT1H
X-Robots-Tag:noindex
X-PUBLISHED-TTL:PT1H
BEGIN:VTIMEZONE
TZID:Asia/Kolkata
BEGIN:STANDARD
TZOFFSETFROM:+0530
TZOFFSETTO:+0530
TZNAME:IST
DTSTART:20240101T000000
END:STANDARD
END:VTIMEZONE
BEGIN:VEVENT
DTSTART;TZID=Asia/Kolkata:20250915T140000
DTEND;TZID=Asia/Kolkata:20250915T160000
DTSTAMP:20260419T182925
CREATED:20250916T051930Z
LAST-MODIFIED:20250916T051930Z
UID:144577-1757944800-1757952000@events.srmap.edu.in
SUMMARY:Guest Talk on Careers in the Age of AI
DESCRIPTION:Paari School of Business is organising a Guest Talk on “Four Generations of Career Evolution: Careers in the Age of AI and Skills” by Dr Ibrahim Shaik\, CEO & Director\, ABIA Consultancy.
URL:https://events.srmap.edu.in/event/guest-talk-on-careers-in-the-age-of-ai/
LOCATION:Tiered Classroom\, 5th Floor\, Admin Block
CATEGORIES:Departmental Events,Events,Homepage Events
ATTACH;FMTTYPE=image/png:https://events.srmap.edu.in/wp-content/uploads/2025/09/Guest-Talk-PSB-819x1024-1.png
END:VEVENT
END:VCALENDAR