BEGIN:VCALENDAR
VERSION:2.0
PRODID:-//SRMAP Events - ECPv6.15.11//NONSGML v1.0//EN
CALSCALE:GREGORIAN
METHOD:PUBLISH
X-ORIGINAL-URL:https://events.srmap.edu.in
X-WR-CALDESC:Events for SRMAP Events
REFRESH-INTERVAL;VALUE=DURATION:PT1H
X-Robots-Tag:noindex
X-PUBLISHED-TTL:PT1H
BEGIN:VTIMEZONE
TZID:Asia/Kolkata
BEGIN:STANDARD
TZOFFSETFROM:+0530
TZOFFSETTO:+0530
TZNAME:IST
DTSTART:20210101T000000
END:STANDARD
END:VTIMEZONE
BEGIN:VEVENT
DTSTART;TZID=Asia/Kolkata:20221105T113000
DTEND;TZID=Asia/Kolkata:20221105T130000
DTSTAMP:20260422T023806
CREATED:20221104T220600Z
LAST-MODIFIED:20250806T123208Z
UID:142047-1667647800-1667653200@events.srmap.edu.in
SUMMARY:Department distinguished lecture on Lie groups
DESCRIPTION:SRM University-AP augments its cause to edify students with extensive knowledge and vision in their field of interest. On this note\, the Department of Mathematics is organising a Department Distinguished Lecture on the topic “Lie groups as a unifying theme in mathematics: from Algebra and Number theory to Geometry and Topology”\, on November 05\, 2022. Prof Dipendra Prasad\, IIT Bombay is the keynote speaker of the session. \nAbout the Speaker \nProf Dipendra Prasad is an eminent mathematician working in the area of Representation Theory. He was conferred with his PhD from Harvard University under the supervision of Prof Benedict Gross. Among many other accomplishments\, Prof Prasad is celebrated for his famous conjecture Gan-Gross-Prasad conjecture\, which has attracted attention of several established mathematicians. In recognition of his contributions\, the Government of India has awarded him the Shanti Swarup Bhatnagar Prize in Mathematical Sciences in 2002. Apart from that he holds the JC Bose fellowship awarded by the Department of Science and Technology\, New Delhi. He is also a recipient of the Swarna Jayanti Fellowship in the year 1999. He was the Invited Speaker of the International Congress of Mathematicians\, 2018 in Rio de Janeiro in Section 7 (Lie Groups and Generalizations) with the talk ‘Ext-analogues of branching laws’.
URL:https://events.srmap.edu.in/event/department-distinguished-lecture-on-lie-groups/
CATEGORIES:Departmental Events,Events,Math Events
ATTACH;FMTTYPE=image/png:https://events.srmap.edu.in/wp-content/uploads/2022/11/DDL-banner-1.png
END:VEVENT
END:VCALENDAR