BEGIN:VCALENDAR
VERSION:2.0
PRODID:-//SRMAP Events - ECPv6.15.11//NONSGML v1.0//EN
CALSCALE:GREGORIAN
METHOD:PUBLISH
X-WR-CALNAME:SRMAP Events
X-ORIGINAL-URL:https://events.srmap.edu.in
X-WR-CALDESC:Events for SRMAP Events
REFRESH-INTERVAL;VALUE=DURATION:PT1H
X-Robots-Tag:noindex
X-PUBLISHED-TTL:PT1H
BEGIN:VTIMEZONE
TZID:Asia/Kolkata
BEGIN:STANDARD
TZOFFSETFROM:+0530
TZOFFSETTO:+0530
TZNAME:IST
DTSTART:20210101T000000
END:STANDARD
END:VTIMEZONE
BEGIN:VEVENT
DTSTART;TZID=Asia/Kolkata:20221114T103000
DTEND;TZID=Asia/Kolkata:20221114T130000
DTSTAMP:20260422T023540
CREATED:20221111T045300Z
LAST-MODIFIED:20250806T122409Z
UID:142251-1668421800-1668430800@events.srmap.edu.in
SUMMARY:Intranet portals: Recent developments and applications
DESCRIPTION:Intranet portal is a unique gateway that provides increased knowledge facilitating users of an enterprise to make informed decisions and to improve collaboration\, productivity and effectiveness. It is a software tool that enables an established enterprise to manage its data\, applications\, and information effectively through personalised views. The Department of International Relations and Higher Studies is organising a “Mega Launch of Intranet Portal” on November 14\, 2022\, to understand the recent developments in Intranet portal design and applications. Mr Surendra Tipparaju\, Director at Microsoft\, will preside as chief guest over the event through online mode. Mr Tipparaju will share his expertise on data analytics and the concept of Intranet portal expounding on its advantages and value-added capabilities. \nAbout the Speaker \nMr Surendra Tipparaju is a leading technocrat in Data and Artificial Intelligence (AI) at Microsoft working on enabling AI\, Machine Learning and Big Data analytics. He is presently engaged with worldwide clients\, delivering AI solutions in the areas of Data platform\, Deep learning and Advanced AI architectures. Mr Tipparaju is also an active volunteer with IEEE society contributing through mentoring in the technology forums. He is also on board with Soham Academy of Human Excellence supporting children from all segments of society on education and personality development for them to become future successful global citizens. In association with iFocus and Colosseum Foundation\, he also volunteers on global outreach as a mentor in transforming individuals and entrepreneurs towards a positive lifestyle. Mr Surendra Tipparaju\, as a pioneer of lifelong learning\, leads challenges and inspires as many people as possible through technology in every possible scenario to enhance human condition. \nJoin the session to learn about Intranet portals and its functioning as a unified gateway for all enterprise services and information.
URL:https://events.srmap.edu.in/event/intranet-portals-recent-developments-and-applications/
LOCATION:Tiered Classroom\, 5th Floor\, Admin Block
CATEGORIES:Departmental Events,Events,IR-Events
END:VEVENT
END:VCALENDAR