BEGIN:VCALENDAR
VERSION:2.0
PRODID:-//SRMAP Events - ECPv6.15.11//NONSGML v1.0//EN
CALSCALE:GREGORIAN
METHOD:PUBLISH
X-WR-CALNAME:SRMAP Events
X-ORIGINAL-URL:https://events.srmap.edu.in
X-WR-CALDESC:Events for SRMAP Events
REFRESH-INTERVAL;VALUE=DURATION:PT1H
X-Robots-Tag:noindex
X-PUBLISHED-TTL:PT1H
BEGIN:VTIMEZONE
TZID:Asia/Kolkata
BEGIN:STANDARD
TZOFFSETFROM:+0530
TZOFFSETTO:+0530
TZNAME:IST
DTSTART:20210101T000000
END:STANDARD
END:VTIMEZONE
BEGIN:VEVENT
DTSTART;TZID=Asia/Kolkata:20221203T110000
DTEND;TZID=Asia/Kolkata:20221203T123000
DTSTAMP:20260422T023625
CREATED:20221128T222500Z
LAST-MODIFIED:20250806T122150Z
UID:141582-1670065200-1670070600@events.srmap.edu.in
SUMMARY:Industry Guest lecture on Transportation Engineering
DESCRIPTION:The development of road networks is the reflection of the overall growth of the country and its infrastructure. The Department of Civil Engineering is organising the second Industry Guest lecture in the area of Transportation Engineering on December 03\, 2022. The session titled Sustainable Technologies in practice for Pavement Maintenance in India will be addressed by the eminent industrial innovator\, Mr D Bhanoj\, Senior Manager\, Cube Highways. The lecture will expound on a range of topics including Pavement Recycling (both hot and cold)\, Fiber Reinforced Microsurfacing\, and Pothole Patching\, etc. \nHuge development and maintenance projects consume a massive portion of our resources and hence sustainable methods of rehabilitating pavements must be adopted. Moreover\, the maintenance of pavements at a preferable level is a prerequisite for the smooth functioning of public mobility. Through this informative session\, Mr Bhanoj will explicate on the latest technologies and mechanisation for sustainable maintenance of pavements. \nAbout the Speaker \nMr D Bhanoj holds a postgraduate degree in Transportation Engineering from IIT Madras where he topped the transportation division and is currently working with Cube Highways. Prior to this\, he was associated with ITS Planner and Engineers. His expertise includes pavement evaluation\, design\, maintenance strategization\, sustainable pavement technologies\, characterization of pavement materials and pavement recycling. Under his supervision\, Cube has successfully implemented and executed many innovative materials and technologies for which Cube bagged the gold award for innovation (HiMA). He is actively involved in various research activities and has multiple publications in the field of Pavement Engineering. He has successfully completed pavement studies close to 100 projects across the country. He played a key role in drafting the IRC manual for performance assessment of Highways. \nJoin this insightful session to learn more about pavement construction and maintenance.
URL:https://events.srmap.edu.in/event/industry-guest-lecture-on-transportation-engineering/
LOCATION:Online event
CATEGORIES:Civil Engg events,Departmental Events,Events
END:VEVENT
END:VCALENDAR