BEGIN:VCALENDAR
VERSION:2.0
PRODID:-//SRMAP Events - ECPv6.15.11//NONSGML v1.0//EN
CALSCALE:GREGORIAN
METHOD:PUBLISH
X-WR-CALNAME:SRMAP Events
X-ORIGINAL-URL:https://events.srmap.edu.in
X-WR-CALDESC:Events for SRMAP Events
REFRESH-INTERVAL;VALUE=DURATION:PT1H
X-Robots-Tag:noindex
X-PUBLISHED-TTL:PT1H
BEGIN:VTIMEZONE
TZID:Asia/Kolkata
BEGIN:STANDARD
TZOFFSETFROM:+0530
TZOFFSETTO:+0530
TZNAME:IST
DTSTART:20220101T000000
END:STANDARD
END:VTIMEZONE
BEGIN:VEVENT
DTSTART;TZID=Asia/Kolkata:20230315T100000
DTEND;TZID=Asia/Kolkata:20230315T123000
DTSTAMP:20260421T203539
CREATED:20230313T052100Z
LAST-MODIFIED:20250806T121337Z
UID:141843-1678874400-1678883400@events.srmap.edu.in
SUMMARY:Combating Plastic Waste Contamination in India
DESCRIPTION:Plastic pollution and contamination is an emerging crisis that has become a major contributor to environmental degradation. Strategic measures with maximum efficacy must be adopted to tackle this increasing challenge. The Department of Environmental Science and Engineering is organising a seminar titled the ‘Scenario of Emerging Pollutant – Microplastics in India: Abundance\, Fate (stability\, mobility\, trophic transfer) and Eco-friendly Remediation’. The seminar will be held on March 15\, 2023. Prof. Gopala Krishna Darbha\, Associate Professor\, IISER\, Kolkata is the keynote speaker of the session. Prof. Darbha will deliver an insightful session on the excessive production of microplastics in India and how the staggering growth of plastic contamination will negatively influence our ecosystem. \nAbstract \nThe global demand for plastics has been increasing continuously because plastics have now become a ubiquitous part of human life. The plastics are easily available at low cost and have the maximum durability properties due to which it is getting very difficult to derail the entire systems of plastics manufacturing and its use. In the last 50 years\, it has been reported that the global production of plastic is 9.1 billion tons\, while the annual rate of plastic production has been continuously increasing by 8.7 %. These plastics generate 274 million tonnes of plastic solid waste\, globally. In India\, approximately 9.4 million tonnes of plastic waste is generated per year\, and 60 % of the plastic waste is recycled while the remaining is either landfilled or left unnoticed. Furthermore\, the current outbreak of the COVID-19 pandemic led to a sudden increase in the production of personal protective equipment (gloves and masks) which adds plastic waste to the terrestrial environment\, and this can cause grievous plastic pollution soon. Microplastics (MPs) are plastic particles which are < 5 mm in diameter. These are estimated by various methods like salt-based density separation\, physical (microscopy)\, and chemical characterisation (spectroscopy). \nJoin the session and learn to combat the microplastic crisis!
URL:https://events.srmap.edu.in/event/combating-plastic-waste-contamination-in-india/
LOCATION:S209\, Level 2\, New Academic Block
CATEGORIES:Departmental Events,ENVS Events,Events
END:VEVENT
END:VCALENDAR