BEGIN:VCALENDAR
VERSION:2.0
PRODID:-//SRMAP Events - ECPv6.15.11//NONSGML v1.0//EN
CALSCALE:GREGORIAN
METHOD:PUBLISH
X-WR-CALNAME:SRMAP Events
X-ORIGINAL-URL:https://events.srmap.edu.in
X-WR-CALDESC:Events for SRMAP Events
REFRESH-INTERVAL;VALUE=DURATION:PT1H
X-Robots-Tag:noindex
X-PUBLISHED-TTL:PT1H
BEGIN:VTIMEZONE
TZID:Asia/Kolkata
BEGIN:STANDARD
TZOFFSETFROM:+0530
TZOFFSETTO:+0530
TZNAME:IST
DTSTART:20220101T000000
END:STANDARD
END:VTIMEZONE
BEGIN:VEVENT
DTSTART;TZID=Asia/Kolkata:20230324T090000
DTEND;TZID=Asia/Kolkata:20230324T170000
DTSTAMP:20260421T203530
CREATED:20230323T044200Z
LAST-MODIFIED:20250528T124718Z
UID:142140-1679648400-1679677200@events.srmap.edu.in
SUMMARY:Industry-Academia Workshop
DESCRIPTION:The Department of Physics is organising an Industry-Academia Workshop on March 24\, 2023. The workshop will feature eminent speakers\, both in-person and online for a constructive discourse on the pedagogical method and strategies to be implemented for the Master’s programme in the forthcoming academic year. The programme will be initiated with an introductory talk by Honourable ice Chancellor\, Prof. Manoj K Arora. The agenda of the programme includes discussions on the MSc Physics curricula and ways to make it suitable for the industry track\, discussion on the possibility of industry internships (2-6 months) for the UG and PG students\, discussion and interactive session on hurdles and identification of solutions to strengthen the industry-academia collaboration\, interaction with faculty members and discussing possibilities for consultancy projects and gathering experts’ opinions about the BTech Engineering Physics programme. The workshop will also include a visit to the Research labs at the university. \nAbout the Speakers \n\nDr SK Taher Ali\, PhD\, IIT Kharagpur\, Centre for Materials for Electronics Technology (C-MET)\, Hyderabad\, MeitY\nMr SP Ghosh\, BTech\, Calcutta University\, Consultant: Bufo Innovations Pvt Ltd\, Superannuated from NTPC as GM (Project) on 31. 07.2020\nDr Debashish Mazumdar\, PhD\, IIT Kharagpur\, Former Executive Vice President\, R&D\, Exide Industries Ltd\nDr Arunabh Ghosh\, PhD\, Sungkyunkwan University\, Associate Director\, Battery Innovation Centre (BIC) – OLA Electric Technologies
URL:https://events.srmap.edu.in/event/industry-academia-workshop/
LOCATION:Board Room\, Homi J Bhabha Block
CATEGORIES:Departmental Events,Events,Physics,Workshop
END:VEVENT
END:VCALENDAR