BEGIN:VCALENDAR
VERSION:2.0
PRODID:-//SRMAP Events - ECPv6.15.11//NONSGML v1.0//EN
CALSCALE:GREGORIAN
METHOD:PUBLISH
X-ORIGINAL-URL:https://events.srmap.edu.in
X-WR-CALDESC:Events for SRMAP Events
REFRESH-INTERVAL;VALUE=DURATION:PT1H
X-Robots-Tag:noindex
X-PUBLISHED-TTL:PT1H
BEGIN:VTIMEZONE
TZID:Asia/Kolkata
BEGIN:STANDARD
TZOFFSETFROM:+0530
TZOFFSETTO:+0530
TZNAME:IST
DTSTART:20220101T000000
END:STANDARD
END:VTIMEZONE
BEGIN:VEVENT
DTSTART;TZID=Asia/Kolkata:20230406T160000
DTEND;TZID=Asia/Kolkata:20230406T173000
DTSTAMP:20260421T185215
CREATED:20230403T224100Z
LAST-MODIFIED:20250806T121224Z
UID:142265-1680796800-1680802200@events.srmap.edu.in
SUMMARY:Exploring Novel Avenues for Higher Education
DESCRIPTION:The Directorate of International Relations & Higher Studies at SRM University-AP actively engages in providing general awareness of the myriad of opportunities available for students to study abroad at reputed institutions of their choice. Invited talks and seminars by global representatives of foreign universities are one way of providing such interaction and engagement. On this note\, The Directorate of IR & HS is organising a seminar titled “Interaction with Northeastern University” on April 06\, 2023. Ms Shazee Shahzad\, Senior Manager- Recruitment & Marketing\, Northeastern University\, Boston\, USA will be delivering the session. \nAbout the Speaker \nMs Shazee Shahzad is the Senior Manager- Recruitment & Marketing and has been serving for 8 years in the International education sector. Working at Northeastern University\, and being part of the International Enrollment Management team\, Ms Shahzad plays a pivotal role in managing the operations at the Graduate School and Northeastern School of Law. \nJoin the session to explore the higher education opportunities at Northeastern University!
URL:https://events.srmap.edu.in/event/exploring-novel-avenues-for-higher-education/
CATEGORIES:Departmental Events,Events,IR-Events
END:VEVENT
END:VCALENDAR