BEGIN:VCALENDAR
VERSION:2.0
PRODID:-//SRMAP Events - ECPv6.15.11//NONSGML v1.0//EN
CALSCALE:GREGORIAN
METHOD:PUBLISH
X-ORIGINAL-URL:https://events.srmap.edu.in
X-WR-CALDESC:Events for SRMAP Events
REFRESH-INTERVAL;VALUE=DURATION:PT1H
X-Robots-Tag:noindex
X-PUBLISHED-TTL:PT1H
BEGIN:VTIMEZONE
TZID:Asia/Kolkata
BEGIN:STANDARD
TZOFFSETFROM:+0530
TZOFFSETTO:+0530
TZNAME:IST
DTSTART:20220101T000000
END:STANDARD
END:VTIMEZONE
BEGIN:VEVENT
DTSTART;TZID=Asia/Kolkata:20230424T110000
DTEND;TZID=Asia/Kolkata:20230424T120000
DTSTAMP:20260421T185214
CREATED:20230413T011000Z
LAST-MODIFIED:20250806T121011Z
UID:141538-1682334000-1682337600@events.srmap.edu.in
SUMMARY:Trends in Life Sciences Industry
DESCRIPTION:The Life sciences industry comprises companies working in research\, development and manufacturing of pharmaceuticals\, biotechnology-based food and medicines\, medical devices\, biomedical technologies\, nutraceuticals\, cosmeceuticals\, food processing\, and other products that improve the lives of organisms. The Department of Chemistry is conducting an invited lecture as part of its Industry Expert Lecture Series on April 24\, 2023. The talk on “Trends in Life Sciences Industry” will be delivered by Dr Gokulakrishnan Srinivasan\, Business Head – Spectroscopy (Molecular\, BEA\, MC\, SA)\, Chemical Analysis Division at Thermo Fisher Scientific. \nJoin the lecture for an insightful session! \nAbout the Speaker \nDr Gokulakrishnan Srinivasan is a highly qualified professional with over 12 years of experience together in sales\, people management\, P&L\, business development\, and scientific applications\, for highly regarded global suppliers of Scientific/Analytical equipment\, across South Asia. He is currently working at Thermo Fisher Scientific as the Business Head – Spectroscopy (Molecular\, BEA\, MC\, SA)\, FSI in the Chemical Analysis Division. Prior to his position as Business Head\, he held a brief tenure as Business Manager – Molecular Spectroscopy\, Surface Analysis and then later as General Manager – Molecular Spectroscopy\, Surface Analysis at Thermo Fisher Scientific. \nHe was awarded a Doctorate in Chemistry from the Institute for Physical Chemistry\, University of Stuttgart\, Germany and was a Post Doctoral Research Fellow at the Department of Bioengineering and Beckman Institute for Advanced Science and Technology\, University of Illinois. Dr Srinivasan has also published in 13 peer-reviewed international journals and is editor of a book for McGraw Hill Publications\, USA entitled “Vibrational Spectroscopic Imaging for Biomedical Applications”.
URL:https://events.srmap.edu.in/event/trends-in-life-sciences-industry/
LOCATION:ALC 1\, Homi J Bhabha Block
CATEGORIES:Departmental Events,Events,Invited Talks
END:VEVENT
END:VCALENDAR