BEGIN:VCALENDAR
VERSION:2.0
PRODID:-//SRMAP Events - ECPv6.15.11//NONSGML v1.0//EN
CALSCALE:GREGORIAN
METHOD:PUBLISH
X-WR-CALNAME:SRMAP Events
X-ORIGINAL-URL:https://events.srmap.edu.in
X-WR-CALDESC:Events for SRMAP Events
REFRESH-INTERVAL;VALUE=DURATION:PT1H
X-Robots-Tag:noindex
X-PUBLISHED-TTL:PT1H
BEGIN:VTIMEZONE
TZID:Asia/Kolkata
BEGIN:STANDARD
TZOFFSETFROM:+0530
TZOFFSETTO:+0530
TZNAME:IST
DTSTART:20220101T000000
END:STANDARD
END:VTIMEZONE
BEGIN:VEVENT
DTSTART;TZID=Asia/Kolkata:20231007T160000
DTEND;TZID=Asia/Kolkata:20231007T170000
DTSTAMP:20260421T092011
CREATED:20231004T041700Z
LAST-MODIFIED:20250806T115701Z
UID:142369-1696694400-1696698000@events.srmap.edu.in
SUMMARY:Balancing Academics with Extracurriculars
DESCRIPTION:Co-curricular and Co-scholastic activities/courses play a significant role in the holistic development of students at SRM University-AP. The Directorate of Alumni Relations is organising an online Alumni Talk on “Balancing Academics with Extracurriculars at SRM University-AP” on Saturday\, October 07\, 2023 from 04.00 to 05.00 PM IST through Zoom. Our distinguished alumnus\, Raghupathruni Pavan Krishna (Class of 2021 BTech CSE)\, currently working as a Software Engineer at the Bank of America\, will be the speaker for the session. \nTune in now to hear how to balance your academics with your extracurricular activities and lead a positive and productive learning journey!
URL:https://events.srmap.edu.in/event/balancing-academics-with-extracurriculars/
LOCATION:Zoom
CATEGORIES:Alumni Relations,Departmental Events,Events,Webinars
END:VEVENT
END:VCALENDAR