BEGIN:VCALENDAR
VERSION:2.0
PRODID:-//SRMAP Events - ECPv6.15.11//NONSGML v1.0//EN
CALSCALE:GREGORIAN
METHOD:PUBLISH
X-WR-CALNAME:SRMAP Events
X-ORIGINAL-URL:https://events.srmap.edu.in
X-WR-CALDESC:Events for SRMAP Events
REFRESH-INTERVAL;VALUE=DURATION:PT1H
X-Robots-Tag:noindex
X-PUBLISHED-TTL:PT1H
BEGIN:VTIMEZONE
TZID:Asia/Kolkata
BEGIN:STANDARD
TZOFFSETFROM:+0530
TZOFFSETTO:+0530
TZNAME:IST
DTSTART:20230101T000000
END:STANDARD
END:VTIMEZONE
BEGIN:VEVENT
DTSTART;TZID=Asia/Kolkata:20240130T120000
DTEND;TZID=Asia/Kolkata:20240201T163000
DTSTAMP:20260421T024759
CREATED:20240123T003200Z
LAST-MODIFIED:20250806T115155Z
UID:142149-1706616000-1706805000@events.srmap.edu.in
SUMMARY:Illuminating Journey into the Realm of Particle Physics
DESCRIPTION:The Department of Physics is delighted to announce a captivating lecture series for both undergraduates and postgraduate students. Esteemed speaker Prof. Sreerup Raychaudhuri from TIFR\, Maharashtra\, will unravel the intricacies of “Electroweak Unification and the Standard Model.” Prof. Raychaudhuri is a renowned authority in the field of modern physics\, and his expertise promises to offer invaluable insights to all attendees. \nWe will delve deep into the foundations of particle physics as we explore the fascinating concepts of Electroweak Unification and the Standard Model. The lecture series will focus on the captivating subjects of Electroweak Unification and the Standard Model. Participants can anticipate a deep dive into the fundamental constituents of particle physics\, the strong and electroweak forces\, and the intricate interactions that govern the universe at a minuscule scale. \nWe invite all physics enthusiasts to join us for this enriching lecture series. Prepare to expand your knowledge\, engage in thought-provoking discussions\, and gain a deeper understanding of the captivating world of modern physics. Mark your calendars and stay tuned for an event that promises to ignite curiosity and deepen your understanding of the fundamental principles governing our universe. \nLet’s embark on this enlightening journey together! \nAbout the Speaker \nProf. Sreerup Raychaudhuri works on the physics of elementary particles and their interactions. He is a Ph.D. from the University of Calcutta and worked as a postdoc first at Tata Institute of Fundamental Research and then at CERN\, Geneva. He taught Physics at IIT Kanpur for several years before joining TIFR\, where he is now a Professor of Theoretical Physics and Dean (Administration). His research interests are interfacing theory with experiments\, especially in the physics of electroweak interactions. He is also interested in the popularisation and history of science.
URL:https://events.srmap.edu.in/event/illuminating-journey-into-the-realm-of-particle-physics/
CATEGORIES:Departmental Events,Events,Physics
END:VEVENT
END:VCALENDAR