BEGIN:VCALENDAR
VERSION:2.0
PRODID:-//SRMAP Events - ECPv6.15.11//NONSGML v1.0//EN
CALSCALE:GREGORIAN
METHOD:PUBLISH
X-ORIGINAL-URL:https://events.srmap.edu.in
X-WR-CALDESC:Events for SRMAP Events
REFRESH-INTERVAL;VALUE=DURATION:PT1H
X-Robots-Tag:noindex
X-PUBLISHED-TTL:PT1H
BEGIN:VTIMEZONE
TZID:Asia/Kolkata
BEGIN:STANDARD
TZOFFSETFROM:+0530
TZOFFSETTO:+0530
TZNAME:IST
DTSTART:20230101T000000
END:STANDARD
END:VTIMEZONE
BEGIN:VEVENT
DTSTART;TZID=Asia/Kolkata:20240206T090000
DTEND;TZID=Asia/Kolkata:20240206T130000
DTSTAMP:20260421T030739
CREATED:20240205T035300Z
LAST-MODIFIED:20250806T114941Z
UID:141548-1707210000-1707224400@events.srmap.edu.in
SUMMARY:Unleash the Power of Green Chemistry with Dr Ram Mohan
DESCRIPTION:Get ready to dive into the world of sustainable solutions and a greener future! The School of Engineering and Sciences at SRM University-AP is thrilled to announce an exciting workshop on “Unleashing the Power of Green Chemistry: Better Living\, Sustainable Solutions” by our esteemed guest speaker\, Dr Ram Mohan\, Department of Chemistry at Illinois Wesleyan University\, Bloomington\, Illinois\, USA. \nJoin us for a dynamic series of lectures that will captivate your imagination: \n  \nLecture 1: Toxic Molecules Unveiled – An Introduction to Green Chemistry \nDiscover the hidden dangers lurking in our everyday lives and explore the fascinating world of Green Chemistry. Dr Mohan will shed light on how we can mitigate the impact of toxic substances and pave the way for a healthier future. \nLecture 2: Sustainable Success Stories – Green Chemistry in Action \nPrepare to be inspired as Dr Ram Mohan will present captivating case studies showcasing the triumphs of Green Chemistry. Learn how innovative minds have harnessed the power of sustainable practices to solve real-life environmental challenges. . \nLecture 3: Empowering Change – Unleashing the Potential of Green Chemistry \nIn this final lecture\, he will empower you with practical examples of how Green Chemistry can transform our world. \nThis workshop promises to be an immersive experience\, allowing you to interact with a true expert in the field. It is an invaluable opportunity for students and faculty members alike to nurture a passion for chemistry and sustainability and make a positive impact on our planet. Get ready to unlock the potential of Green Chemistry and embark on a journey towards a more sustainable future. \nLet’s come together\, ignite change\, and unleash the power of Green Chemistry!
URL:https://events.srmap.edu.in/event/unleash-the-power-of-green-chemistry-with-dr-ram-mohan/
LOCATION:Tiered Classroom\, 5th Floor\, Admin Block
CATEGORIES:Biology Events,Departmental Events,ENVS Events,Events,Physics
END:VEVENT
END:VCALENDAR