BEGIN:VCALENDAR
VERSION:2.0
PRODID:-//SRMAP Events - ECPv6.15.11//NONSGML v1.0//EN
CALSCALE:GREGORIAN
METHOD:PUBLISH
X-WR-CALNAME:SRMAP Events
X-ORIGINAL-URL:https://events.srmap.edu.in
X-WR-CALDESC:Events for SRMAP Events
REFRESH-INTERVAL;VALUE=DURATION:PT1H
X-Robots-Tag:noindex
X-PUBLISHED-TTL:PT1H
BEGIN:VTIMEZONE
TZID:Asia/Kolkata
BEGIN:STANDARD
TZOFFSETFROM:+0530
TZOFFSETTO:+0530
TZNAME:IST
DTSTART:20230101T000000
END:STANDARD
END:VTIMEZONE
BEGIN:VEVENT
DTSTART;TZID=Asia/Kolkata:20240315T110000
DTEND;TZID=Asia/Kolkata:20240315T170000
DTSTAMP:20260421T010949
CREATED:20240314T230800Z
LAST-MODIFIED:20250527T123744Z
UID:141959-1710500400-1710522000@events.srmap.edu.in
SUMMARY:Embrace Change\, Overcome Obstacles: Unlocking Success with Mr K V Jagannath
DESCRIPTION:Get ready for an electrifying event at Paari School of Business as we gear up to host captivating sessions by the renowned Mr K V Jagannath\, the Managing Director & CEO of Choice Solutions Limited. Brace yourself for an enlightening experience as we delve into two compelling topics tailored for students and faculty members alike. \nThe guest lecture for students will focus on the topic of “Embracing Change as a Catalyst for Growth.” In today’s rapidly evolving world\, the ability to adapt to change is crucial for personal and professional development. Through engaging stories and insightful strategies\, Mr Jagannath will guide students on how to embrace change as a powerful tool for achieving growth and success. \nSimultaneously\, the faculty session will feature Mr Jagannath sharing inspiring stories of resilience in his talk titled “Overcoming Obstacles – Stories of Resilience .” Faculty members will have the opportunity to gain valuable insights from Mr Jagannath’s experiences and learn how to navigate challenges with determination and strength. \nIn addition to these enlightening sessions\, the event will also include an Introduction to the Management Faculty Address\, where faculty members will engage in meaningful discussions with Mr Jagannath. This interactive session will foster collaboration and knowledge sharing\, creating an enriching academic environment at the Paari School of Business. \nFurthermore\, guests will be exploring the campus and visiting the prestigious Centres of Excellence\, specifically the Centre of Power Management and the Centre of AI. These centres showcase the cutting-edge research and advancements being made in these fields\, providing a unique insight into the future of business and technology. \nThis event is a testament to Paari School of Business’s commitment to providing a holistic learning experience that goes beyond the classroom. By bringing accomplished industry leaders like Mr K V Jagannath to the forefront\, the school aims to inspire and equip its students and faculty members with the knowledge and skills needed to excel in today’s competitive business landscape. \nMark your calendars for this exceptional event and stay tuned for further updates. Don’t miss out on this incredible opportunity to learn from the experiences of Mr K V Jagannath and connect with the vibrant academic community at the Paari School of Business.
URL:https://events.srmap.edu.in/event/embrace-change-overcome-obstacles-unlocking-success-with-mr-k-v-jagannath/
LOCATION:Mini Auditorium
CATEGORIES:Departmental Events,Events,Management Events
END:VEVENT
BEGIN:VEVENT
DTSTART;TZID=Asia/Kolkata:20240315T160000
DTEND;TZID=Asia/Kolkata:20240315T170000
DTSTAMP:20260421T010949
CREATED:20240314T041500Z
LAST-MODIFIED:20240314T041500Z
UID:142381-1710518400-1710522000@events.srmap.edu.in
SUMMARY:Alumni Talk : Navigating From SRM University-AP to PayPal
DESCRIPTION:We are thrilled to announce that The Directorate of Alumni Relations at SRM University-AP is organising an exhilarating online Alumni Talk that will leave you inspired\, motivated\, and armed with valuable insights. Join us as we delve into the remarkable journey of Lakshmi Sai Bhargavi\, a shining star from the Class of 2023 B.Tech. CSE\, who is currently making waves as a Software Engineer at the renowned global payment company PayPal. \nIn this captivating talk\, Lakshmi Sai Bhargavi will take us on a remarkable adventure\, sharing her personal experiences\, challenges\, triumphs\, and the secrets behind her journey from SRM University-AP to the prestigious halls of PayPal. From coding labs to real-world software development\, she will unravel the secrets behind her success. Expect insights on technical skills\, networking\, and the art of adapting to a global tech giant. \nHer story is a testament to the transformative power of education\, determination\, and seizing opportunities. \nThe highlight of the talk will be the invaluable tips and tricks that Lakshmi Sai Bhargavi will generously share with the audience. She will provide insights into the strategies and mindset that propelled her towards success\, offering guidance to current students and alums alike. This is an extraordinary opportunity to gain firsthand knowledge from someone who has walked the path and achieved great heights. \nThe session will be conducted virtually\, ensuring it is easily accessible to all\, regardless of location. So mark your calendars and prepare to be inspired! Join us as we celebrate the accomplishments of our esteemed alums and embrace the power of shared knowledge and experiences. Together\, we can unlock new horizons and push the boundaries of what is possible. \nStay tuned for further updates. We look forward to welcoming you to this captivating online Alumni Talk!
URL:https://events.srmap.edu.in/event/alumni-talk-navigating-from-srm-university-ap-to-paypal/
CATEGORIES:Alumni Relations,Departmental Events,Events
END:VEVENT
END:VCALENDAR