BEGIN:VCALENDAR
VERSION:2.0
PRODID:-//SRMAP Events - ECPv6.15.11//NONSGML v1.0//EN
CALSCALE:GREGORIAN
METHOD:PUBLISH
X-ORIGINAL-URL:https://events.srmap.edu.in
X-WR-CALDESC:Events for SRMAP Events
REFRESH-INTERVAL;VALUE=DURATION:PT1H
X-Robots-Tag:noindex
X-PUBLISHED-TTL:PT1H
BEGIN:VTIMEZONE
TZID:Asia/Kolkata
BEGIN:STANDARD
TZOFFSETFROM:+0530
TZOFFSETTO:+0530
TZNAME:IST
DTSTART:20230101T000000
END:STANDARD
END:VTIMEZONE
BEGIN:VEVENT
DTSTART;TZID=Asia/Kolkata:20240404T110000
DTEND;TZID=Asia/Kolkata:20240404T123000
DTSTAMP:20260421T032712
CREATED:20240328T035800Z
LAST-MODIFIED:20250806T114831Z
UID:142951-1712228400-1712233800@events.srmap.edu.in
SUMMARY:Stanford Professor Thomas Blom Hansen to Deliver UDL #18
DESCRIPTION:The quest for knowledge can only lead to unparalleled success when the journey is guided by ethical morality and societal understanding. To achieve this\, a sound liberal arts education proves imperative to nurture a young generation of ethically\, morally and socially sensitive individuals. SRM University-AP is set to host the 18th edition of the University Distinguished Lecture on April 04\, 2024. Prof. Thomas Blom Hansen\, Reliance-Dhirubhai Ambani Professor & Department Chair\, Department of Anthropology\, from Stanford University\, USA\, will deliver the session on “Interiority Design: Liberal Arts Education in India”. \nJoin the talk to hear our distinguished speaker\, Prof. Hansen deliberate and explore the complexities of liberal arts education in India! \nAbout the Speaker \nProf. Thomas Hansen is a renowned anthropologist of political life\, ethno-religious identities\, violence and urban life in South Asia and Southern Africa. He is a leading academician exploring the religious and political violence in India. He has conducted extensive research in India focusing on Hindu nationalism\, religious identities\, religious revival and the everyday meanings of freedom. \nHe has written various books such as The Saffron Wave\, Democracy and Hindu Nationalism in Modern India (Princeton 1999)\, and Wages of Violence: Naming and Identity in Postcolonial Bombay (Princeton 2001). \nAbstract \nIn the past decade and a half\, the liberal arts model of undergraduate education has become all the rage across India and other parts of Asia. In this lecture\, Prof. Hansen will explore the origin of the liberal arts model in Enlightenment Europe\, how it travelled to America\, and how it became inextricably tied to an idea of the cultivation of a modern self\, capable of autonomous\, individual interior reflexivity and judgment\, while framed as an invitation to join a larger national community. In this lecture\, he will question: How does this model of education and self-formation sit with inherited traditions of education in India? How does its implied model of interiority and individuality sit alongside hierarchical ideas of the self and personhood structured by caste hierarchies in India? Does the idea of liberal arts education pave the way for a different and more capacious vision of what modern India might become? \nMedia Coverage for the Event
URL:https://events.srmap.edu.in/event/stanford-professor-thomas-blom-hansen-to-deliver-udl-18/
LOCATION:Mini Auditorium
CATEGORIES:Departmental Events,Events,University Distinguished Lecture
END:VEVENT
END:VCALENDAR