BEGIN:VCALENDAR
VERSION:2.0
PRODID:-//SRMAP Events - ECPv6.15.11//NONSGML v1.0//EN
CALSCALE:GREGORIAN
METHOD:PUBLISH
X-WR-CALNAME:SRMAP Events
X-ORIGINAL-URL:https://events.srmap.edu.in
X-WR-CALDESC:Events for SRMAP Events
REFRESH-INTERVAL;VALUE=DURATION:PT1H
X-Robots-Tag:noindex
X-PUBLISHED-TTL:PT1H
BEGIN:VTIMEZONE
TZID:Asia/Kolkata
BEGIN:STANDARD
TZOFFSETFROM:+0530
TZOFFSETTO:+0530
TZNAME:IST
DTSTART:20230101T000000
END:STANDARD
END:VTIMEZONE
BEGIN:VEVENT
DTSTART;TZID=Asia/Kolkata:20240406T150000
DTEND;TZID=Asia/Kolkata:20240406T160000
DTSTAMP:20260421T032512
CREATED:20240328T000400Z
LAST-MODIFIED:20240328T000400Z
UID:142383-1712415600-1712419200@events.srmap.edu.in
SUMMARY:Look Forward to Advance your Studies in Germany
DESCRIPTION:Are you searching for reputed universities in Germany to give your learning experience an international edge? Then tune in to hear from alumnus Vanteddu Nikhileswar\, Class of 2022 B.Tech. Mechanical Engineering\, currently pursuing his Master’s in Management and Production Systems at RWTH Aachen University\, Germany. The Alumni talk\, jointly organised by the Directorate of Alumni Relations\, SEAS-Engineering and The Directorate of IR&HS\, will share an exclusive look into the experience of studying in Germany. \nJoin the talk on Saturday\, April 06\, 2024 at 03.00 PM IST to hear our very own share their valuable insights that could help you anchor your dreams!
URL:https://events.srmap.edu.in/event/look-forward-to-advance-your-studies-in-germany/
LOCATION:Zoom
CATEGORIES:Alumni Relations,Departmental Events,Events
END:VEVENT
END:VCALENDAR