BEGIN:VCALENDAR
VERSION:2.0
PRODID:-//SRMAP Events - ECPv6.15.11//NONSGML v1.0//EN
CALSCALE:GREGORIAN
METHOD:PUBLISH
X-WR-CALNAME:SRMAP Events
X-ORIGINAL-URL:https://events.srmap.edu.in
X-WR-CALDESC:Events for SRMAP Events
REFRESH-INTERVAL;VALUE=DURATION:PT1H
X-Robots-Tag:noindex
X-PUBLISHED-TTL:PT1H
BEGIN:VTIMEZONE
TZID:Asia/Kolkata
BEGIN:STANDARD
TZOFFSETFROM:+0530
TZOFFSETTO:+0530
TZNAME:IST
DTSTART:20230101T000000
END:STANDARD
END:VTIMEZONE
BEGIN:VEVENT
DTSTART;TZID=Asia/Kolkata:20240410T143000
DTEND;TZID=Asia/Kolkata:20240410T153000
DTSTAMP:20260421T032511
CREATED:20240517T054600Z
LAST-MODIFIED:20240517T054600Z
UID:142297-1712759400-1712763000@events.srmap.edu.in
SUMMARY:STEM programs in USA: Hear from John Hopkins Delegate
DESCRIPTION:Are you exploring opportunities for Higher Education and STEM Programs abroad? \nGet your answers at the “Navigating Higher Education and STEM Programs in the US with Johns Hopkins Carey Business School” session organised by the Directorate of International Relations & Higher Studies on April 10\, 2024. Hear from Mr Shreyas Pardesi\, Program Associate\, Global Collaborations\, deliver an insightful talk on scholarships available for students to study abroad\, tips on essay writing (SOP) or CV building and strategies on building a winning application. \nThe webinar will cover the following topics:- \n\nBenefits of STEM-designated programs/jobs in the US\nOverview of the job market in the US\nHow to build a strong application\nVarious scholarship opportunities for international students\nStrategies for Building a Winning Application by JHU Carey Business School\nCharting Your Study Abroad Journey: Insights from Johns Hopkins Carey Business School\n\nJoin now and give wings to your global dreams!
URL:https://events.srmap.edu.in/event/stem-programs-in-usa-hear-from-john-hopkins-delegate/
CATEGORIES:Departmental Events,Events,IR-Events
END:VEVENT
END:VCALENDAR