BEGIN:VCALENDAR
VERSION:2.0
PRODID:-//SRMAP Events - ECPv6.15.11//NONSGML v1.0//EN
CALSCALE:GREGORIAN
METHOD:PUBLISH
X-WR-CALNAME:SRMAP Events
X-ORIGINAL-URL:https://events.srmap.edu.in
X-WR-CALDESC:Events for SRMAP Events
REFRESH-INTERVAL;VALUE=DURATION:PT1H
X-Robots-Tag:noindex
X-PUBLISHED-TTL:PT1H
BEGIN:VTIMEZONE
TZID:Asia/Kolkata
BEGIN:STANDARD
TZOFFSETFROM:+0530
TZOFFSETTO:+0530
TZNAME:IST
DTSTART:20230101T000000
END:STANDARD
END:VTIMEZONE
BEGIN:VEVENT
DTSTART;TZID=Asia/Kolkata:20240415T140000
DTEND;TZID=Asia/Kolkata:20240415T160000
DTSTAMP:20260420T233452
CREATED:20240415T001100Z
LAST-MODIFIED:20250528T085722Z
UID:141594-1713189600-1713196800@events.srmap.edu.in
SUMMARY:Mastering the Art of Pavement: A Distinguished Lecture on Flexible Pavements
DESCRIPTION:The Department of Civil Engineering proudly presents the second instalment of its Industry Guest Lecture Series on Transportation Engineering. This session\, titled “Construction and Quality Control of Flexible Pavements: Industry Perspectives\,” will feature the insights of Mr K Sitaramanjaneyulu\, the esteemed Former Chief Scientist at CSIR-CRRI\, New Delhi on April 15\, 2024. \nJoin us for an enlightening afternoon as Mr Sitaramanjaneyulu delves into the intricacies of flexible pavement construction and the critical aspects of quality control from an industry standpoint. This lecture is a must-attend for students\, faculty\, and professionals eager to enhance their knowledge and engage with leading experts in the field. \nDon’t miss this opportunity to gain valuable industry insights and network with peers. Mark your calendars and be part of this educational experience.
URL:https://events.srmap.edu.in/event/mastering-the-art-of-pavement-a-distinguished-lecture-on-flexible-pavements/
CATEGORIES:Civil Engg events,Departmental Events,Events,Invited Talks
END:VEVENT
END:VCALENDAR