BEGIN:VCALENDAR
VERSION:2.0
PRODID:-//SRMAP Events - ECPv6.15.11//NONSGML v1.0//EN
CALSCALE:GREGORIAN
METHOD:PUBLISH
X-WR-CALNAME:SRMAP Events
X-ORIGINAL-URL:https://events.srmap.edu.in
X-WR-CALDESC:Events for SRMAP Events
REFRESH-INTERVAL;VALUE=DURATION:PT1H
X-Robots-Tag:noindex
X-PUBLISHED-TTL:PT1H
BEGIN:VTIMEZONE
TZID:Asia/Kolkata
BEGIN:STANDARD
TZOFFSETFROM:+0530
TZOFFSETTO:+0530
TZNAME:IST
DTSTART:20230101T000000
END:STANDARD
END:VTIMEZONE
BEGIN:VEVENT
DTSTART;TZID=Asia/Kolkata:20240722T090000
DTEND;TZID=Asia/Kolkata:20240726T170000
DTSTAMP:20260420T171056
CREATED:20240707T225300Z
LAST-MODIFIED:20250728T052456Z
UID:141828-1721638800-1722013200@events.srmap.edu.in
SUMMARY:Skill Enhancement Programme on Renewable Energy & Smart Transportation
DESCRIPTION:The Department of Electrical and Electronics Engineering is organising a 5-day Skill Enhancement Programme on “Renewable Energy and Smart Transportation” from July 22 – 26\, 2024. The Skill Enhancement Programme will be conducted in offline mode with live lectures\, hands-on and interactive sessions. The proposed program aims to address the growing importance of electric vehicles and renewable energy systems in the automotive industry and the need for faculty members to acquire knowledge and skills in this rapidly evolving field. The technical sessions will include presentations from experts in academia and industry on the latest advancements in the themes mentioned. The panel discussions will provide an opportunity for the participants to interact with the experts and discuss the challenges and opportunities in the emerging fields. Through a series of seminars\, and hands-on training sessions\, participants will gain insights into various aspects of electric vehicles\, including design\, technology\, infrastructure\, and sustainable mobility solutions. \nObjectives: \n\nProviding faculty\, PhD scholars\, and Master students with a comprehensive understanding and proficiency in electric vehicle technology and related fields.\nInvestigating the latest developments\, innovations\, and trends in the field of electric vehicles.\nProviding participants with effective tools and practical skills to integrate electric vehicle topics into their research activities and teaching curriculum.\nFostering interdisciplinary collaboration and networking among faculty members\, industry experts\, and research academics in the field of renewable energy systems and electric vehicles.\n\nKey Focus Areas/Themes: \n\nAdvanced Power Conversion and Efficient Drives\nDesign and Simulation Tools\nBattery Management and Charging Infrastructure\nSustainability and Renewable Integration\nMicrogrid and Control Optimization\n\nOutcome: \nEnhanced Knowledge and Skills: Participants will gain in-depth understanding of the latest advancements in renewable energy technologies and smart transportation systems\, equipping them with cutting-edge knowledge in these fields. \nProfessional Networking: The program will provide a platform for participants to network with experts facilitating the exchange of ideas and opportunities for future collaboration. \nPractical Experience: Hands-on sessions and workshops will provide participants with practical experience in implementing and troubleshooting renewable energy systems and smart transportation technologies. \nCurriculum Development: Insights gained from the program will assist participants in updating and enhancing the curriculum of their respective institutions\, ensuring it aligns with current industry standards and technological advancements. \nPhD Scholars: Attracting high-potential PhD scholars seeking career development support. \nClick here for the detailed flyer \nRegistration Details: \nThe registration fee for all the participants is Rs 2000/-. \nContact Details \nEmail: kirankumar.n@srmap.edu.in\, nareshkumar.v@srmap.edu.in \nProgramme Coordinators: \nConvener: Dr Tousif Khan N\, HOD\, Dept of EEE\, SRM University-AP \nCoordinators: Dr Kiran Kumar N\, Assistant Professor\, Dept of EEE\, SRM University-AP \nDr Naresh Kumar V\, Assistant Professor\, Dept of EEE\, SRM University-AP
URL:https://events.srmap.edu.in/event/skill-enhancement-programme-on-renewable-energy-smart-transportation/
CATEGORIES:Departmental Events,EEE,Events
END:VEVENT
END:VCALENDAR