BEGIN:VCALENDAR
VERSION:2.0
PRODID:-//SRMAP Events - ECPv6.15.11//NONSGML v1.0//EN
CALSCALE:GREGORIAN
METHOD:PUBLISH
X-WR-CALNAME:SRMAP Events
X-ORIGINAL-URL:https://events.srmap.edu.in
X-WR-CALDESC:Events for SRMAP Events
REFRESH-INTERVAL;VALUE=DURATION:PT1H
X-Robots-Tag:noindex
X-PUBLISHED-TTL:PT1H
BEGIN:VTIMEZONE
TZID:Asia/Kolkata
BEGIN:STANDARD
TZOFFSETFROM:+0530
TZOFFSETTO:+0530
TZNAME:IST
DTSTART:20230101T000000
END:STANDARD
END:VTIMEZONE
BEGIN:VEVENT
DTSTART;VALUE=DATE:20240920
DTEND;VALUE=DATE:20240922
DTSTAMP:20260420T142525
CREATED:20241021T050900Z
LAST-MODIFIED:20250703T105646Z
UID:141832-1726790400-1726963199@events.srmap.edu.in
SUMMARY:Electrical Engineering Workshop for Students of Government High School Guntur
DESCRIPTION:The Department of Electrical and Electronics Engineering\, in collaboration with the Directorate of Admissions\, successfully conducted an engaging and informative Electrical Engineering Workshop on September 20\, 2024\, for 150 students of ZPHS Government High School in Revendrapadu\, Guntur. This initiative aimed to inspire young minds and provide them with a deeper understanding of electrical engineering concepts and applications. \nThe workshop commenced with an introductory session\, during which students were introduced to the fundamentals of electrical engineering. Key topics covered included circuit design\, renewable energy\, and the role of electrical engineers in modern society. Faculty members delivered interactive lectures\, using hands-on demonstrations to illustrate complex concepts in a relatable manner. Students participated enthusiastically\, with many expressing their newfound interest in the field. \nFollowing the workshop\, students were given an exclusive opportunity to visit the university’s state-of-the-art laboratories\, including the High Voltage Lab\, Renewable Energy Lab\, Power Electronics and Drives Lab\, Robotics Lab\, and 3D Printing Lab. This tour allowed students to witness cutting-edge technology and innovative practices in action. \nThis workshop not only provided students with valuable educational experiences but also encouraged them to consider careers in electrical engineering and related fields. Feedback from participants indicated a strong appreciation for the hands-on experience and exposure to practical applications of theoretical concepts.
URL:https://events.srmap.edu.in/event/electrical-engineering-workshop-for-students-of-government-high-school-guntur/
LOCATION:Mini Auditorium
CATEGORIES:Departmental Events,EEE,Events
END:VEVENT
END:VCALENDAR