BEGIN:VCALENDAR
VERSION:2.0
PRODID:-//SRMAP Events - ECPv6.15.11//NONSGML v1.0//EN
CALSCALE:GREGORIAN
METHOD:PUBLISH
X-ORIGINAL-URL:https://events.srmap.edu.in
X-WR-CALDESC:Events for SRMAP Events
REFRESH-INTERVAL;VALUE=DURATION:PT1H
X-Robots-Tag:noindex
X-PUBLISHED-TTL:PT1H
BEGIN:VTIMEZONE
TZID:Asia/Kolkata
BEGIN:STANDARD
TZOFFSETFROM:+0530
TZOFFSETTO:+0530
TZNAME:IST
DTSTART:20230101T000000
END:STANDARD
END:VTIMEZONE
BEGIN:VEVENT
DTSTART;TZID=Asia/Kolkata:20241014T090000
DTEND;TZID=Asia/Kolkata:20241018T170000
DTSTAMP:20260420T130742
CREATED:20240930T233400Z
LAST-MODIFIED:20250728T052613Z
UID:141661-1728896400-1729270800@events.srmap.edu.in
SUMMARY:FDP on Deep Learning and its Applications
DESCRIPTION:The Department of Computer Science and Engineering is organising a five-day Faculty Development Programme on “Recent Trends in Deep Learning and its Applications” from October 14-18\, 2024. The objective of the programme is to enhance the participants’ knowledge of deep learning fundamentals and explore the latest trends and advancements\, such as transformers\, generative AI\, etc. In addition to showcasing the application of deep learning in various fields\, the FDP also seeks to promote collaboration between academia and industry to drive innovation and practical implementations. \nObjectives \n\nStrengthen knowledge of deep learning fundamentals and introduce the latest advancements\, including transformers\, generative AI\, and responsible AI.\nShowcase practical applications of deep learning in areas like computer vision\, healthcare\, automotive\, and manufacturing industries.\nEquip participants with research and development skills for cutting-edge deep learning projects\, encouraging innovation and practical implementations.\nPromote the integration of deep learning with emerging technologies\, such as IoT\, to explore innovative and future-oriented applications.\n\nThe FDP is open to Faculty members\, Research scholars\, PG students\, and Industry professionals from engineering colleges\, universities\, and research institutions. industries. Experts from academia (NITs/IIITs/foreign universities) and industry will serve as resource persons for the Faculty Development Programme. \nBrowse through the brochure for complete details – View Brochure\n \nRegister now for the insightful 5-day programme that will enhance your skillset to keep up with the market trends! \nRegistration Fee (Industry /Academia) – INR 500/- \nNote:- Seats Available to 75 Participants Only! \nFor any query\, reach out to – fdp.rtda@srmap.edu.in \nConvenor – Dr Mahamkali Naveen Kumar\, Dept of CSE \nCo-Convenors – Dr Morampudi Mahesh Kumar\, Dept of CSE and Dr Pandu Sowkuntla\, Dept of CSE
URL:https://events.srmap.edu.in/event/fdp-on-deep-learning-and-its-applications/
CATEGORIES:CSE Events,Departmental Events,Events
END:VEVENT
END:VCALENDAR