BEGIN:VCALENDAR
VERSION:2.0
PRODID:-//SRMAP Events - ECPv6.15.11//NONSGML v1.0//EN
CALSCALE:GREGORIAN
METHOD:PUBLISH
X-ORIGINAL-URL:https://events.srmap.edu.in
X-WR-CALDESC:Events for SRMAP Events
REFRESH-INTERVAL;VALUE=DURATION:PT1H
X-Robots-Tag:noindex
X-PUBLISHED-TTL:PT1H
BEGIN:VTIMEZONE
TZID:Asia/Kolkata
BEGIN:STANDARD
TZOFFSETFROM:+0530
TZOFFSETTO:+0530
TZNAME:IST
DTSTART:20230101T000000
END:STANDARD
END:VTIMEZONE
BEGIN:VEVENT
DTSTART;TZID=Asia/Kolkata:20241202T080000
DTEND;TZID=Asia/Kolkata:20241206T170000
DTSTAMP:20260420T101135
CREATED:20241203T042300Z
LAST-MODIFIED:20241203T042300Z
UID:142098-1733126400-1733504400@events.srmap.edu.in
SUMMARY:Faculty Development Programme on Smart Manufacturing and Industry 4.0
DESCRIPTION:The Department of Mechanical Engineering at SRM University-AP is excited to announce a five-day Faculty Development Programme (FDP) titled “Smart Manufacturing and Industry 4.0\,” scheduled for December 2-6\, 2024. The FDP will be conducted in a hybrid format and will cater to a diverse audience of engineering institutes and research scholars. \nThe FDP aims to delve into the latest advancements in manufacturing technologies that are transforming industry standards. With a particular focus on smart manufacturing and Industry 4.0\, the FDP seeks to equip participants with a comprehensive understanding of interconnected manufacturing systems that leverage cutting-edge advancements in sensors\, robotics\, and big data analytics. Attendees will also explore emerging areas such as additive manufacturing\, digital transformation\, and Product Life Cycle Management\, alongside hands-on training on sophisticated open-source simulators and tools.
URL:https://events.srmap.edu.in/event/faculty-development-programme-on-smart-manufacturing-and-industry-4-0/
CATEGORIES:Departmental Events,Events,Mechanical Engineering
END:VEVENT
BEGIN:VEVENT
DTSTART;TZID=Asia/Kolkata:20241205T093000
DTEND;TZID=Asia/Kolkata:20241206T170000
DTSTAMP:20260420T101135
CREATED:20241203T055800Z
LAST-MODIFIED:20241203T055800Z
UID:142927-1733391000-1733504400@events.srmap.edu.in
SUMMARY:2-Day Faculty Training Programme by IIT Madras Training Cohort
DESCRIPTION:The Teaching Learning Centre is organising a 2-Day Faculty Training Programme on “Teaching Methodologies & Pedagogies” by IIT Madras on December 05 – 06\, 2024. The training programme will be led by Prof. Edamana Prasad\, Head-Teaching Learning Centre (TLC)\, IIT Madras. The session will delve into several topics\, including Learning Outcomes\, Active and Cooperative Learning\, Active Learning Demonstrations and Preparations\, etc. \nThe programme aims to enhance pedagogical knowledge and integrate technology into the existing teaching methodology. The programme will be beneficial for all participating faculty in improving teaching effectiveness\, acquiring professional development\, and enhancing student outcomes. \nJoin the programme! Improve the teaching-learning process and maintain a competitive edge in the academic field!
URL:https://events.srmap.edu.in/event/2-day-faculty-training-programme-by-iit-madras-training-cohort/
LOCATION:ALC 1\, Homi J Bhabha Block
CATEGORIES:Departmental Events,Events,TLC Events
END:VEVENT
END:VCALENDAR