BEGIN:VCALENDAR
VERSION:2.0
PRODID:-//SRMAP Events - ECPv6.15.11//NONSGML v1.0//EN
CALSCALE:GREGORIAN
METHOD:PUBLISH
X-ORIGINAL-URL:https://events.srmap.edu.in
X-WR-CALDESC:Events for SRMAP Events
REFRESH-INTERVAL;VALUE=DURATION:PT1H
X-Robots-Tag:noindex
X-PUBLISHED-TTL:PT1H
BEGIN:VTIMEZONE
TZID:Asia/Kolkata
BEGIN:STANDARD
TZOFFSETFROM:+0530
TZOFFSETTO:+0530
TZNAME:IST
DTSTART:20240101T000000
END:STANDARD
END:VTIMEZONE
BEGIN:VEVENT
DTSTART;TZID=Asia/Kolkata:20250205T150000
DTEND;TZID=Asia/Kolkata:20250205T170000
DTSTAMP:20260420T070542
CREATED:20250204T035500Z
LAST-MODIFIED:20250204T035500Z
UID:142157-1738767600-1738774800@events.srmap.edu.in
SUMMARY:Understanding the Nuclear Aspects of the Big Bang
DESCRIPTION:The Department of Physics is organising a Departmental Research Seminar on “Nuclear Processes during the Big Bang Nucleosynthesis” on February 05\, 2025. The seminar will be delivered by renowned academician Dr Martin Schaefer\, Department of Theoretical Physics\, Nuclear Physics Institute\, Czech Academy of Sciences. \nTune in to hear from the expert on the phenomenon of Big Bang Nucleosynthesis. \nAbstract \nIt is believed that at the early stage of the Universe\, roughly 10 seconds after the Big Bang\, the temperature dropped sufficiently to allow the first atomic nuclei to form. Subsequent nuclear reactions produced stable helium and lithium isotopes and negligible traces of heavier elements. This process is known as the primordial nucleosynthesis of light elements or Big Bang Nucleosynthesis (BBN). At the end of BBN\, the specific primordial abundances left an observable imprint in the current Universe. This echo nowadays serves to test the Hot Big Bang theory and the Standard Model of particle physics. An accurate description of BBN nuclear reactions is crucial in studying primordial nucleosynthesis. Nowadays\, reaction dynamics can be calculated by applying highly sophisticated ab initio theoretical methods. In my contribution\, I will discuss how a systematic approach to describing nuclear interactions and ab initio methods might contribute to revealing mysteries about this early stage of the Universe.
URL:https://events.srmap.edu.in/event/understanding-the-nuclear-aspects-of-the-big-bang/
LOCATION:C-602\, C V Raman Block
CATEGORIES:Departmental Events,Events,Physics
END:VEVENT
END:VCALENDAR