BEGIN:VCALENDAR
VERSION:2.0
PRODID:-//SRMAP Events - ECPv6.15.11//NONSGML v1.0//EN
CALSCALE:GREGORIAN
METHOD:PUBLISH
X-ORIGINAL-URL:https://events.srmap.edu.in
X-WR-CALDESC:Events for SRMAP Events
REFRESH-INTERVAL;VALUE=DURATION:PT1H
X-Robots-Tag:noindex
X-PUBLISHED-TTL:PT1H
BEGIN:VTIMEZONE
TZID:Asia/Kolkata
BEGIN:STANDARD
TZOFFSETFROM:+0530
TZOFFSETTO:+0530
TZNAME:IST
DTSTART:20240101T000000
END:STANDARD
END:VTIMEZONE
BEGIN:VEVENT
DTSTART;TZID=Asia/Kolkata:20250224T110000
DTEND;TZID=Asia/Kolkata:20250224T130000
DTSTAMP:20260420T070542
CREATED:20250521T224500Z
LAST-MODIFIED:20250806T113348Z
UID:142106-1740394800-1740402000@events.srmap.edu.in
SUMMARY:Invited Talk on "Hydrogen Gas as the Future Fuel for Sustainable Power Generation"
DESCRIPTION:The Department of Mechanical Engineering is organising an Invited Talk on February 24\, 2025 at 11:00 AM. Dr P S Robi\, Professor\, Department of Mechanical Engineering\, IIT Guwahati\, Assam\, will deliver the distinguished session. \nTitle of Talk: “Hydrogen Gas as the Future Fuel for Sustainable Power Generation and Application of Machine Learning Techniques for Modeling of Hydrogen Generation by Chemical Reactions”. \nAbout the Speaker \nProf. P. S. Robi has been a distinguished member of the Department of Mechanical Engineering at the Indian Institute of Technology (IIT) Guwahati since 1997. He earned his Ph.D. from IIT Bombay in 1995\, following an M.Tech. from the National Institute of Foundry and Forge Technology\, Ranchi\, in 1988\, and a B.Tech. from Kerala University in 1986. Throughout his tenure at IIT Guwahati\, Prof. Robi has made significant contributions to both academia and administration. Notably\, he served as the Deputy Director of the institute\, playing a pivotal role in its development and governance. \nHis research interests encompass a wide range of topics within mechanical engineering\, including fracture mechanics\, coatings\, metal casting\, metal matrix composites\, powder metallurgy processing\, and materials processing. \nProf. Robi has an extensive publication record\, with numerous articles in reputable journals and conferences\, reflecting his commitment to advancing knowledge in his field. In addition to his research\, he has been actively involved in various consultancy projects\, such as the development of pressure tube correlations and metallurgical analysis of heater tube samples\, demonstrating his engagement with industry and practical applications of his expertise. \nDate: February 24\, 2025 \nTime: 11.00 AM – 01.00 PM \nVenue: S-209\, SR Bock \nParticipate and learn from the expert!
URL:https://events.srmap.edu.in/event/invited-talk-on-hydrogen-gas-as-the-future-fuel-for-sustainable-power-generation/
LOCATION:S209\, Level 2\, New Academic Block
CATEGORIES:Departmental Events,Events,Mechanical Engineering
END:VEVENT
END:VCALENDAR